BEGIN:VCALENDAR
VERSION:2.0
PRODID:-//Supersonic - ECPv6.15.20//NONSGML v1.0//EN
CALSCALE:GREGORIAN
METHOD:PUBLISH
X-WR-CALNAME:Supersonic
X-ORIGINAL-URL:http://supersonic-club.fr
X-WR-CALDESC:Évènements pour Supersonic
REFRESH-INTERVAL;VALUE=DURATION:PT1H
X-Robots-Tag:noindex
X-PUBLISHED-TTL:PT1H
BEGIN:VTIMEZONE
TZID:Europe/London
BEGIN:DAYLIGHT
TZOFFSETFROM:+0000
TZOFFSETTO:+0100
TZNAME:BST
DTSTART:20190331T010000
END:DAYLIGHT
BEGIN:STANDARD
TZOFFSETFROM:+0100
TZOFFSETTO:+0000
TZNAME:GMT
DTSTART:20191027T010000
END:STANDARD
BEGIN:DAYLIGHT
TZOFFSETFROM:+0000
TZOFFSETTO:+0100
TZNAME:BST
DTSTART:20200329T010000
END:DAYLIGHT
BEGIN:STANDARD
TZOFFSETFROM:+0100
TZOFFSETTO:+0000
TZNAME:GMT
DTSTART:20201025T010000
END:STANDARD
BEGIN:DAYLIGHT
TZOFFSETFROM:+0000
TZOFFSETTO:+0100
TZNAME:BST
DTSTART:20210328T010000
END:DAYLIGHT
BEGIN:STANDARD
TZOFFSETFROM:+0100
TZOFFSETTO:+0000
TZNAME:GMT
DTSTART:20211031T010000
END:STANDARD
END:VTIMEZONE
BEGIN:VEVENT
DTSTART;TZID=Europe/London:20200327T200000
DTEND;TZID=Europe/London:20200327T233000
DTSTAMP:20260420T011507
CREATED:20200213T161711Z
LAST-MODIFIED:20200213T161711Z
UID:5839-1585339200-1585351800@supersonic-club.fr
SUMMARY:Westkust • Bumblebees • Suki / Supersonic (Free entrance)
DESCRIPTION:Le Supersonic c’est lieu incontournable du rock à Paris! Trois concerts gratuits tous les soirs\, des nuits pop rock du jeudi au samedi et ce soir on vous présente : \n \n→ WESTKUST\n(Pop punk-shoegaze – Luxury – Gotheburg\, SUE) \nLorsque Westkust a sorti « JUNK EP » en 2012\, une tournée en Europe à commencé et\, une fois que le premier album « Last Forever » est sorti sur Luxury en 2015\, il réitéra l’expérience en y ajoutant les États-Unis. Le single « Swirl » est devenu le « Best New Track » sur Pitchfork\, les éloges des médias musicaux tels que NPR\, Stereogum\, The Line Of Best Fit ont été nombreuses en Suède.\nDepuis lors\, le groupe est resté silencieux. Trois membres sur cinq ont été remplacés. On pourrait penser que les choses ont donc un peu changé\, mais Westkust a réussi à conserver le même son et la même capacité incomparable d’écrire ses morceaux.\nLe 1er mars\, Westkust est de retour avec un album éponyme où le groupe s’impose comme un des meilleurs de son genre en Suède\, de la pop punk-shoegaze brillante et sale.\nL’album sortira le 1er mars et sera célébré avec une soirée de sortie sur l’océan à Göteborg le 2 mars. » \n► Liker: https://www.facebook.com/Westkust/\n► Ecouter: http://westkust.bandcamp.com\n► Regarder: https://www.youtube.com/watch?v=9KzhKSKhOhc \n→ BUMBLEBEES\n(Dream pop\, Neo-psychedelia\, Indie Rock – Zurich\, CHE) \n« Bumblebees\, groupe néo-psychédélique / dreampop de Zurich / Tessin. Deux ans après leur premier travail en studio\, l’EP «Pollination»\, et plusieurs aventures live\, Bumblebees sort son tout nouvel album «Dancing Dots in the Dark» en mai 2019\, enregistré et autoproduit durant l’été / automne 2018 dans leur studio à Zurich. L’album est composé de 10 pistes originales\, allant de sons dreampop à de puissants sons fuzz\, et a été publié via le label Radicalis » \nLes 3 influences: Tame Impala\, Slowdive\, Radiohead \n► Liker: https://www.facebook.com/bumblebees.mains/\n► Ecouter: https://www.bumblebees.ch\n► Regarder: https://www.youtube.com/watch?v=4XUi2yPtPuw \n→ SUKI\n(Indie pop – Paris) \n« Suki est indie-pop au sens entendu par les premiers lecteurs des Inrocks\, attentifs à tout ce qui pouvait nous arriver d’outre-Manche\, à condition que les mélodies soient belles. Formé par un couple installé à Paris (Maxime Maybon et Tori Lineker)\, Suki donne envie de briques rouges\, de stations balnéaires et d’un ciel gris radieux. Et potentiellement de réécouter Pour Nos Vies Martiennes d’Etienne Daho. » Les Inrocks \n► Liker: https://www.facebook.com/sukiband/\n► Regarder: https://youtu.be/Ca_7YSqFdGQ \nTarifs : Gratuit
URL:http://supersonic-club.fr/event/westkust-%e2%80%a2-bumblebees-%e2%80%a2-suki-supersonic-free-entrance/
CATEGORIES:Bumblebees,Concert,Pop / Rock / Folk,Sowprog,Suki,Westkust
ATTACH;FMTTYPE=image/jpeg:http://supersonic-club.fr/wp-content/uploads/2020/02/namethumb_w600px_img_event_b6b614a2-53ca-4db3-8f1e-f7acc5460672.jpg
END:VEVENT
END:VCALENDAR