BEGIN:VCALENDAR
VERSION:2.0
PRODID:-//Supersonic - ECPv6.15.20//NONSGML v1.0//EN
CALSCALE:GREGORIAN
METHOD:PUBLISH
X-WR-CALNAME:Supersonic
X-ORIGINAL-URL:http://supersonic-club.fr
X-WR-CALDESC:Évènements pour Supersonic
REFRESH-INTERVAL;VALUE=DURATION:PT1H
X-Robots-Tag:noindex
X-PUBLISHED-TTL:PT1H
BEGIN:VTIMEZONE
TZID:Europe/London
BEGIN:DAYLIGHT
TZOFFSETFROM:+0000
TZOFFSETTO:+0100
TZNAME:BST
DTSTART:20180325T010000
END:DAYLIGHT
BEGIN:STANDARD
TZOFFSETFROM:+0100
TZOFFSETTO:+0000
TZNAME:GMT
DTSTART:20181028T010000
END:STANDARD
BEGIN:DAYLIGHT
TZOFFSETFROM:+0000
TZOFFSETTO:+0100
TZNAME:BST
DTSTART:20190331T010000
END:DAYLIGHT
BEGIN:STANDARD
TZOFFSETFROM:+0100
TZOFFSETTO:+0000
TZNAME:GMT
DTSTART:20191027T010000
END:STANDARD
BEGIN:DAYLIGHT
TZOFFSETFROM:+0000
TZOFFSETTO:+0100
TZNAME:BST
DTSTART:20200329T010000
END:DAYLIGHT
BEGIN:STANDARD
TZOFFSETFROM:+0100
TZOFFSETTO:+0000
TZNAME:GMT
DTSTART:20201025T010000
END:STANDARD
END:VTIMEZONE
BEGIN:VEVENT
DTSTART;TZID=Europe/London:20190815T210000
DTEND;TZID=Europe/London:20190816T003000
DTSTAMP:20260424T052007
CREATED:20190628T161236Z
LAST-MODIFIED:20190628T161236Z
UID:4718-1565902800-1565915400@supersonic-club.fr
SUMMARY:Vampillia • VMO • Mcclane / Supersonic (Entrée gratuite)
DESCRIPTION:▬ Le Supersonic présente ▬ \n \n▬▬▬ ENTREE LIBRE ▬▬▬▬ \nLes Japonais de Vampillia et VMO reviennent en Europe cet été et s’arrêteront au Supersonic à Paris pour un concert exceptionnel et GRATUIT.\nAucune raison de ne pas en être. \nVampillia official\nVampillia\, c’est une dizaine de musiciens sur scène qui\, ensemble\, nous font voyager dans un univers tordu\, sombre et mélancolique. Difficilement classable\, leur postrock avant-gardiste teinté de black metal est avant tout une expérience profonde et intense\, d’une beauté absolue.\nCertains les avaient vu ouvrir pour Alcest l’année dernière\, ils reviennent pour un concert plus intimiste et tout aussi envoutant. \nhttps://www.youtube.com/watch?v=FyqKNmIl_k4\nhttps://www.youtube.com/watch?v=fpDKHYcpZgQ \nVMO Violent Magic Orchestra\nComme son nom l’indique : Violent\, Magique\, Orchestral.\nFormé des membres de Vampillia\, VMO est un projet à part entière. Ode électronique\, brutale et décadente aux grands noms du black métal. Une performance toujours unique\, ramenée des tréfonds des âmes perdues et oubliées. Du grand ART \nhttps://www.youtube.com/watch?v=TFYTiujYRpA\nhttps://www.youtube.com/watch?v=18mm_giwbp4&t=718s \nMcClane\nLe Parisien\, dont le nouvel album TAMERLAPÜTH vient de sortir\, ouvrira la soirée de sa fête triste.\nArrogant\, agressif\, désespéré et malsain comme la sensation de te faire suivre dans les rues crasseuses de Paris par un vampire. Qui en plus d’en vouloir à ton sang\, veut te finir ta 8\,6. \nhttps://www.youtube.com/watch?v=PAgtyg9dUOk\nhttps://www.youtube.com/watch?v=8qa293CgF4E \n▬▬▬ INFOS PRATIQUES ▬▬▬ \nJeudi 15 Août 2019\nEntrée gratuite  \n– Ouverture des portes à 18h30\n– Début des concerts vers 20h\n– Happy Hour de 18h30 à 20h (3€50 la pinte)\n– Hot Dog au bar \n▬▬▬▬▬▬▬▬▬▬▬▬▬▬▬▬▬▬▬▬▬▬▬ \nSUPERSONIC\n9 rue Biscornet\, 75012 Paris\nMétro Bastille (sortie rue de lyon)\nhttp://supersonic-club.fr/\nObjets Perdus: https://forms.gle/rZxcMgGD5G82JnMQ9\nNewsletter du Supersonic: http://eepurl.com/gmxPzb​ \nTarifs : Gratuit
URL:http://supersonic-club.fr/event/vampillia-%e2%80%a2-vmo-%e2%80%a2-mcclane-supersonic-entree-gratuite/
LOCATION:SUPERSONIC\, 9 Rue Biscornet\, Paris\, 75012\, France
CATEGORIES:Concert,McCLANE,Pop / Rock / Folk,Vampillia,VMO
ATTACH;FMTTYPE=image/jpeg:http://supersonic-club.fr/wp-content/uploads/2019/06/namethumb_w600px_img_event_5eded7c3-713c-4fb4-a661-5e903ea09219.jpg
END:VEVENT
END:VCALENDAR