BEGIN:VCALENDAR
VERSION:2.0
PRODID:-//Supersonic - ECPv6.15.20//NONSGML v1.0//EN
CALSCALE:GREGORIAN
METHOD:PUBLISH
X-ORIGINAL-URL:http://supersonic-club.fr
X-WR-CALDESC:Évènements pour Supersonic
REFRESH-INTERVAL;VALUE=DURATION:PT1H
X-Robots-Tag:noindex
X-PUBLISHED-TTL:PT1H
BEGIN:VTIMEZONE
TZID:Europe/London
BEGIN:DAYLIGHT
TZOFFSETFROM:+0000
TZOFFSETTO:+0100
TZNAME:BST
DTSTART:20240331T010000
END:DAYLIGHT
BEGIN:STANDARD
TZOFFSETFROM:+0100
TZOFFSETTO:+0000
TZNAME:GMT
DTSTART:20241027T010000
END:STANDARD
BEGIN:DAYLIGHT
TZOFFSETFROM:+0000
TZOFFSETTO:+0100
TZNAME:BST
DTSTART:20250330T010000
END:DAYLIGHT
BEGIN:STANDARD
TZOFFSETFROM:+0100
TZOFFSETTO:+0000
TZNAME:GMT
DTSTART:20251026T010000
END:STANDARD
BEGIN:DAYLIGHT
TZOFFSETFROM:+0000
TZOFFSETTO:+0100
TZNAME:BST
DTSTART:20260329T010000
END:DAYLIGHT
BEGIN:STANDARD
TZOFFSETFROM:+0100
TZOFFSETTO:+0000
TZNAME:GMT
DTSTART:20261025T010000
END:STANDARD
END:VTIMEZONE
BEGIN:VEVENT
DTSTART;TZID=Europe/London:20251227T190000
DTEND;TZID=Europe/London:20251227T230000
DTSTAMP:20260419T174349
CREATED:20251119T165333Z
LAST-MODIFIED:20251119T165333Z
UID:17618-1766862000-1766876400@supersonic-club.fr
SUMMARY:Vision Périphérique • Non Haddock • The Joke Sucks
DESCRIPTION:Il faut venir si vous êtes fans de… Arctic Monkeys\, The Strokes & Circa Waves \n \nVISION PÉRIPHÉRIQUE (22h30)\n(Indie rock – Paris\, FR)\nVision Périphérique est un groupe indie rock français\, célébrant une musique organique\, variée et dynamique. Porté par l’héritage de mouvements rock\, de la chanson et de la pop française\, le groupe enchaine les titres aux rythmes entrainants et aux mélodies entêtantes.\nLes 3 influences : BB Brunes\, Arctic Monkeys\, The Strokes\nhttps://linktr.ee/visionperipherique\nhttps://tr.ee/1CHU2RgfGG \nNON HADDOCK (21h00)\n(Indie rock – Archère\, FR)\nNon Haddock\, voilà un groupe qui joue du rock et qui chante en français !\nPower trio formé en 2019\, La bande délivre des morceaux chargés d’espièglerie sur une nappe de riffs aux relents très anglais. On pense à Dutronc ou Ferrer pour le côté à la fois léger et populaire. Non Haddock cultive un style à part\, avec un sens du récit et du portrait au vitriol !\nLes 3 influences : Arctic Monkeys\, Mustang\, The Strokes\nhttps://non-haddock.bandcamp.com/music\nhttps://www.youtube.com/@nonhaddock984 \nTHE JOKE SUCKS (20h30)\n(Psych rock 70’s – P.M.C.T – Paris\, FR)\nNé à Paris\, The Joke Sucks est un duo qui mêle la sensualité trouble du rock alternatif à des textures électroniques rétro inspirées des années 90. Ils réinterprètent des sons comme Children ou Hardcore Vibes avec des guitares distordues\, des boîtes à rythmes analogiques et une atmosphère post-apocalyptique romantique.\nLes 3 influences : The Last Shadow Puppets\, Depeche Mode\, Crystal Castles\nhttps://distrokid.com/hyperfo…/thejokesucks/all-my-friends\nhttps://www.youtube.com/channel/UCJkcGa0N8vkYEMVKI7_VfRA\n———————————\nSamedi 27 Décembre 2025\nEntrée gratuite\n• Ouverture des portes à 19h00\n• Happy Hour de 19h à 20h\n• Si vous êtes témoin ou victime d’une agression\, vous pouvez alerter le personnel du bar ou si vous préférez\, vous pouvez nous écrire à cette adresse: communication@supersonic-paris.fr\n———————————\nSUPERSONIC\n9 rue Biscornet\, 75012 Paris\nMétro Bastille (sortie rue de lyon) \nTarifs : Gratuit
URL:http://supersonic-club.fr/event/vision-peripherique-non-haddock-the-joke-sucks/
LOCATION:SUPERSONIC\, 9 Rue Biscornet\, Paris\, 75012\, France
CATEGORIES:Concert,Non Haddock,Pop / Rock / Folk,Sowprog,SUPERSONIC,The Joke Sucks,Vision Périphérique
ATTACH;FMTTYPE=image/jpeg:http://supersonic-club.fr/wp-content/uploads/2025/11/namethumb_w600px_img_event_daffce0b-ee3f-4c7a-9897-e473f43601d6.jpg
END:VEVENT
END:VCALENDAR