BEGIN:VCALENDAR
VERSION:2.0
PRODID:-//Supersonic - ECPv6.15.20//NONSGML v1.0//EN
CALSCALE:GREGORIAN
METHOD:PUBLISH
X-ORIGINAL-URL:http://supersonic-club.fr
X-WR-CALDESC:Évènements pour Supersonic
REFRESH-INTERVAL;VALUE=DURATION:PT1H
X-Robots-Tag:noindex
X-PUBLISHED-TTL:PT1H
BEGIN:VTIMEZONE
TZID:Europe/London
BEGIN:DAYLIGHT
TZOFFSETFROM:+0000
TZOFFSETTO:+0100
TZNAME:BST
DTSTART:20160327T010000
END:DAYLIGHT
BEGIN:STANDARD
TZOFFSETFROM:+0100
TZOFFSETTO:+0000
TZNAME:GMT
DTSTART:20161030T010000
END:STANDARD
BEGIN:DAYLIGHT
TZOFFSETFROM:+0000
TZOFFSETTO:+0100
TZNAME:BST
DTSTART:20170326T010000
END:DAYLIGHT
BEGIN:STANDARD
TZOFFSETFROM:+0100
TZOFFSETTO:+0000
TZNAME:GMT
DTSTART:20171029T010000
END:STANDARD
BEGIN:DAYLIGHT
TZOFFSETFROM:+0000
TZOFFSETTO:+0100
TZNAME:BST
DTSTART:20180325T010000
END:DAYLIGHT
BEGIN:STANDARD
TZOFFSETFROM:+0100
TZOFFSETTO:+0000
TZNAME:GMT
DTSTART:20181028T010000
END:STANDARD
END:VTIMEZONE
BEGIN:VEVENT
DTSTART;TZID=Europe/London:20170615T210000
DTEND;TZID=Europe/London:20170616T003000
DTSTAMP:20260420T040917
CREATED:20170517T173125Z
LAST-MODIFIED:20170517T173125Z
UID:1518-1497560400-1497573000@supersonic-club.fr
SUMMARY:The Away Days • Pærish • Venice Bliss // Supersonic - Free
DESCRIPTION:Le Supersonic présente… le #shoegaze #indie turque de The Away Days\, Pærish et Venice Bliss! \n \n→ THE AWAY DAYS\n(Shoegaze\, Dream pop – Pasaj Muzik – Turquie) \n“Turkish shoegaze might not be a major phenomenon\, but given the breadth of their talent\, it soon could be.” – The Guardian \n“New cut ‘Your Colour’ matches a blissful\, soaring sonic sweep to songwriting with a real dynamism. It’s this dichotomy of the physical with the cerebral\, the chilled out with the searingly intense which powers The Away Days\, taking them away from that well-worn shoegaze sound and into an area very much their own.” – Clash \n► Liker : https://www.facebook.com/theawaydays/\n► Ecouter: https://soundcloud.com/theawaydays\n► Regarder: https://www.youtube.com/watch?v=FGmJy1vsvlQ \n→ Pærish\n(Indie Rock – Paris) \nBorn of mutual admiration for 90s pop punk potentates Offspring and Blink-182\, and the same era’s big screen time travel adventure Jumanji and its star Robin Williams\, Paris-based PÆRISH is poised to be the next alternative rock smash hitmakers. \n► Liker : https://www.facebook.com/Paerishtheband/\n► Ecouter : https://paerish.bandcamp.com/album/semi-finalists\n► Regarder: https://www.youtube.com/user/crackityflynn/videos \n→ VENICE BLISS\n(Indie Rock – Kernel Panic – Paris) \nCe quatuor parisien propose un son unique mélangeant les mélodies enjouées de WEEZER\, les choeurs réverbérés de The Dandy Warhols et les riffs acérés des Pixies. Loin des sonorités shoegaze des débuts\, Time Of Confusions possède un son garage sans effets superflus qui met instantanément en valeur l’énergie et le potentiel mélodique de chaque titre. \n► Liker : https://www.facebook.com/veniceblissmusic/\n► Ecouter : https://soundcloud.com/venicebliss\n► Regarder : https://www.youtube.com/channel/UCA-o2nDaPdqrUVDCnLwh1Xw \nTarifs : Gratuit
URL:http://supersonic-club.fr/event/the-away-days-%e2%80%a2-paerish-%e2%80%a2-venice-bliss-supersonic-free/
LOCATION:SUPERSONIC\, 9 Rue Biscornet\, Paris\, 75012\, France
CATEGORIES:Concert,Pop / Rock / Folk,Pærish,The Away Days,Venice Bliss
ATTACH;FMTTYPE=image/jpeg:http://supersonic-club.fr/wp-content/uploads/2017/05/namethumb_w600px_img_event_97912034-5d0f-452a-9845-db494e7b0675.jpg
END:VEVENT
END:VCALENDAR