BEGIN:VCALENDAR
VERSION:2.0
PRODID:-//Supersonic - ECPv6.15.20//NONSGML v1.0//EN
CALSCALE:GREGORIAN
METHOD:PUBLISH
X-ORIGINAL-URL:http://supersonic-club.fr
X-WR-CALDESC:Évènements pour Supersonic
REFRESH-INTERVAL;VALUE=DURATION:PT1H
X-Robots-Tag:noindex
X-PUBLISHED-TTL:PT1H
BEGIN:VTIMEZONE
TZID:Europe/London
BEGIN:DAYLIGHT
TZOFFSETFROM:+0000
TZOFFSETTO:+0100
TZNAME:BST
DTSTART:20160327T010000
END:DAYLIGHT
BEGIN:STANDARD
TZOFFSETFROM:+0100
TZOFFSETTO:+0000
TZNAME:GMT
DTSTART:20161030T010000
END:STANDARD
BEGIN:DAYLIGHT
TZOFFSETFROM:+0000
TZOFFSETTO:+0100
TZNAME:BST
DTSTART:20170326T010000
END:DAYLIGHT
BEGIN:STANDARD
TZOFFSETFROM:+0100
TZOFFSETTO:+0000
TZNAME:GMT
DTSTART:20171029T010000
END:STANDARD
BEGIN:DAYLIGHT
TZOFFSETFROM:+0000
TZOFFSETTO:+0100
TZNAME:BST
DTSTART:20180325T010000
END:DAYLIGHT
BEGIN:STANDARD
TZOFFSETFROM:+0100
TZOFFSETTO:+0000
TZNAME:GMT
DTSTART:20181028T010000
END:STANDARD
END:VTIMEZONE
BEGIN:VEVENT
DTSTART;TZID=Europe/London:20171211T200000
DTEND;TZID=Europe/London:20171211T233000
DTSTAMP:20260425T195713
CREATED:20171110T134405Z
LAST-MODIFIED:20171110T134405Z
UID:2217-1513022400-1513035000@supersonic-club.fr
SUMMARY:VedeTT • Rose Tiger • French Connection / Supersonic - Free
DESCRIPTION:Le Supersonic Présente… \n \n→ VedeTT\n(Pop Spleen Wave – Echo Orange – Angers) \nVedeTT est le projet solo de Nerlov\, angevin sensible & profondément sincère. Son premier album « Tuer les Gens » sort dans un contexte difficile : les attentats du Bataclan. Certains médias hésitent à diffuser le premier single\, à cause de son apparente violence. Pourtant\, ce titre\, gentiment provocateur\, qui donne le nom à l’album\, exprime avec un vrai fond de tendresse et de bienveillance la difficulté d’aimer l’autre (Tuer les Gens / Tu es les Gens). Un titre à part\, puisque le reste de l’album est en Anglais.\nQuelques semaines plus tard\, passé le choc post-traumatique\, les médias découvrent un album unique\, une « Pop Spleen Wave » comme le défini son auteur\, entre The Cure période « Faith »\, Q Lazzarus\, Etienne Daho… Et enfin de très belles chroniques\, comme celles de CultureBox\, France Culture\, TV5Monde\, Noisey\, les Inrocks\, Soul Kitchen\, FIP\, Mowno…\nEn live\, le groupe explose. Après une 1ère partie de set\, la 2nde partie est beaucoup plus lourde\, rugueuse\, presque Shoegaze. Une qualité saluée avec engouement par les programmateurs des premières dates. \n► Liker: https://www.facebook.com/vedett2\n► Ecouter: https://soundcloud.com/echoorangerecords/sets/vedett-tuer-les-gens-2016\n► Regarder: https://www.youtube.com/watch?v=4jO3PvtfF8U \n→ ROSE TIGER\n(Epic Sea Pop – Greasy Records – Paris) \nDerrière Rose Tiger se cache le français Wendy Killmann\, artiste inspiré d’un monde parallèle où les humains cohabitent avec les dinosaures. Sa musique est bercée par les génériques des manga de son enfance (Dragon Ball Z\, Gundam Wing…) et par les bandes-originales de jeux videos des années 90 (Final Fantasy VII\, Pokémon Bleu…)\nÀ cela se mélange la new-wave anglaise des années 80 (Tears For Fears\, Depeche Mode) ainsi que le mouvement Sea-Punk des années 2010\, donnant une pop aux résonances épiques et nostalgiques mais tout de même ancrée dans la modernité.\nSon premier EP « From Top To Bottom » sortira le 17 Novembre 2017 sur le label Greasy Records. 4 titres accompagnés de 4 planches de BD par la dessinatrice Sibylline Meynet et qui illustreront l’univers du projet dans toute sa globalité. \nLes 3 influences : Nobuo Uematsu\, Tears For Fears\, Julian Casablancas \n► Liker: www.facebook.com/rosetigermusic\n► Ecouter : www.soundcloud.com/rosetiger\n► Regarder : https://youtu.be/qHL4EkDXLU0  \n→ FRENCH CONNECTION\n(Rock – Paris) \nLe futur s’est trompé et Twitter a remplacé les voitures volantes. Ne reste plus qu’à s’enfermer pour écouter des love songs\, à annuler les boîtes à rythme et remettre des batteries. French Connection\, c’est une injection de rythm’n blues coupée à des guitares art rock.\nAprès avoir enregistré un premier Ep\, le groupe sort l’album French Connection en 2016\, disponible en vinyle et sur toutes les plateformes de streaming. Mené par Tristan Coindet\, le quartet enchaîne les lives au départ de Paris\, Bourges\, Lyon et Laval… \nLes 3 influences: Roxy Music\, The Doors\, Talking Heads \n► Liker: https://www.facebook.com/frenchconnectionmusic/\n► Ecouter : https://soundcloud.com/frenchconnectionmusic\n► Regarder : https://vimeo.com/160543735 \nVEDETT \nRose Tiger \nfrench connection \nTarifs : Gratuit
URL:http://supersonic-club.fr/event/vedett-%e2%80%a2-rose-tiger-%e2%80%a2-french-connection-supersonic-free/
LOCATION:SUPERSONIC\, 9 Rue Biscornet\, Paris\, 75012\, France
CATEGORIES:Concert,french connection,Pop / Rock / Folk,Rose Tiger,VEDETT
ATTACH;FMTTYPE=image/jpeg:http://supersonic-club.fr/wp-content/uploads/2017/11/namethumb_w600px_img_event_072c77f9-3eb7-4c9b-9976-212a0cf30097.jpg
END:VEVENT
END:VCALENDAR