BEGIN:VCALENDAR
VERSION:2.0
PRODID:-//Supersonic - ECPv6.15.20//NONSGML v1.0//EN
CALSCALE:GREGORIAN
METHOD:PUBLISH
X-ORIGINAL-URL:http://supersonic-club.fr
X-WR-CALDESC:Évènements pour Supersonic
REFRESH-INTERVAL;VALUE=DURATION:PT1H
X-Robots-Tag:noindex
X-PUBLISHED-TTL:PT1H
BEGIN:VTIMEZONE
TZID:Europe/London
BEGIN:DAYLIGHT
TZOFFSETFROM:+0000
TZOFFSETTO:+0100
TZNAME:BST
DTSTART:20160327T010000
END:DAYLIGHT
BEGIN:STANDARD
TZOFFSETFROM:+0100
TZOFFSETTO:+0000
TZNAME:GMT
DTSTART:20161030T010000
END:STANDARD
BEGIN:DAYLIGHT
TZOFFSETFROM:+0000
TZOFFSETTO:+0100
TZNAME:BST
DTSTART:20170326T010000
END:DAYLIGHT
BEGIN:STANDARD
TZOFFSETFROM:+0100
TZOFFSETTO:+0000
TZNAME:GMT
DTSTART:20171029T010000
END:STANDARD
BEGIN:DAYLIGHT
TZOFFSETFROM:+0000
TZOFFSETTO:+0100
TZNAME:BST
DTSTART:20180325T010000
END:DAYLIGHT
BEGIN:STANDARD
TZOFFSETFROM:+0100
TZOFFSETTO:+0000
TZNAME:GMT
DTSTART:20181028T010000
END:STANDARD
END:VTIMEZONE
BEGIN:VEVENT
DTSTART;TZID=Europe/London:20170421T210000
DTEND;TZID=Europe/London:20170422T003000
DTSTAMP:20260421T061021
CREATED:20170403T135108Z
LAST-MODIFIED:20170403T135108Z
UID:1248-1492808400-1492821000@supersonic-club.fr
SUMMARY:Over the Top • Flèche • Travolta // Supersonic - Free
DESCRIPTION:Le Supersonic présente le #punkrock de Over the Top\, le #rockindie de Fleche et le #mathrock de Travolta. \n \n→ OVER THE TOP\n(Stadium punk-rock – Believe digital / Smalltones records- La Rochelle) \nElevés au doux son du grunge\, punk et pop des années 90\, ces faux gendres idéaux s’y défoulent à grand coups de power songs taillées pour les stades avec le second degré comme principal leitmotiv.\nLes titres rageurs et l’ambiance catchy mettent les mélodies fédératrices en relief et les rendent palpables.\nUn chant burné\, des riffs rugueux et un percutant duo basse/batterie enrobent le songwriting folk\, agrémenté de choeurs et les soli savamment distillés.  \n► Liker : https://www.facebook.com/overthetoplr/\n► Ecouter: https://over-the-top.bandcamp.com/album/greetings-from\n► Regarder: https://www.youtube.com/channel/UCXaI2jAaCpXQDYAEFm2lz7w \n→ FLECHE\n(Rock indie – Minishort – Paris) \nRock indé très influencé par les groupe emo et power pop 90’s mais avec beaucoup de pedales d’effets. \nLes 3 influences: The get up kids\, Minus the bear\, Teenage Fan Club \n► Liker : https://www.facebook.com/flechemusic/\n► Ecouter: https://fleche.bandcamp.com/\n► Regarder: http://youtu.be/6O1J6h96dKo \n→ TRAVOLTA\n(Math Rock – Paris) \nTravolta est un groupe de math pop parisien fondé en 2015. Infuencés tant par la scène rock noise indé Française que par la scène math rock de chicago\, les quatre garçons ont choisi de ne pas chanter tant qu’ils n’auraient rien à dire d’important. Le premier Ep « Aronde »\, enregistré par Edouard Lebrun et mixé par Igor Moreno est disponible depuis mai 2016. \nLes 3 influences: Microfilm\, Mermonte\, Tera Melos \n► Liker : https://www.facebook.com/youaretravolta/\n► Ecouter : https://travoltaband.bandcamp.com/releases\n► Regarder : https://www.youtube.com/watch?v=5QnkHLK7QHI \nTarifs : Gratuit
URL:http://supersonic-club.fr/event/over-the-top-%e2%80%a2-fleche-%e2%80%a2-travolta-supersonic-free/
LOCATION:SUPERSONIC\, 9 Rue Biscornet\, Paris\, 75012\, France
CATEGORIES:Concert,Flèche,Over the Top,Pop / Rock / Folk,Travolta
ATTACH;FMTTYPE=image/jpeg:http://supersonic-club.fr/wp-content/uploads/2017/04/namethumb_w600px_img_event_7627f294-ebf8-4dc1-acb3-d8a88682f658.jpg
END:VEVENT
END:VCALENDAR