BEGIN:VCALENDAR
VERSION:2.0
PRODID:-//Supersonic - ECPv6.15.20//NONSGML v1.0//EN
CALSCALE:GREGORIAN
METHOD:PUBLISH
X-ORIGINAL-URL:http://supersonic-club.fr
X-WR-CALDESC:Évènements pour Supersonic
REFRESH-INTERVAL;VALUE=DURATION:PT1H
X-Robots-Tag:noindex
X-PUBLISHED-TTL:PT1H
BEGIN:VTIMEZONE
TZID:Europe/London
BEGIN:DAYLIGHT
TZOFFSETFROM:+0000
TZOFFSETTO:+0100
TZNAME:BST
DTSTART:20180325T010000
END:DAYLIGHT
BEGIN:STANDARD
TZOFFSETFROM:+0100
TZOFFSETTO:+0000
TZNAME:GMT
DTSTART:20181028T010000
END:STANDARD
BEGIN:DAYLIGHT
TZOFFSETFROM:+0000
TZOFFSETTO:+0100
TZNAME:BST
DTSTART:20190331T010000
END:DAYLIGHT
BEGIN:STANDARD
TZOFFSETFROM:+0100
TZOFFSETTO:+0000
TZNAME:GMT
DTSTART:20191027T010000
END:STANDARD
BEGIN:DAYLIGHT
TZOFFSETFROM:+0000
TZOFFSETTO:+0100
TZNAME:BST
DTSTART:20200329T010000
END:DAYLIGHT
BEGIN:STANDARD
TZOFFSETFROM:+0100
TZOFFSETTO:+0000
TZNAME:GMT
DTSTART:20201025T010000
END:STANDARD
END:VTIMEZONE
BEGIN:VEVENT
DTSTART;TZID=Europe/London:20190604T210000
DTEND;TZID=Europe/London:20190605T003000
DTSTAMP:20260424T083247
CREATED:20190513T114459Z
LAST-MODIFIED:20190603T173122Z
UID:4417-1559682000-1559694600@supersonic-club.fr
SUMMARY:Thee MVPs • Hoorsees • Ginger Fear / Supersonic (Free entry)
DESCRIPTION:▬ Le Supersonic présente ▬ \n \n▬▬▬ ENTREE LIBRE  ▬▬▬▬ \n→ THEE MVPs\n(Garage rock – Slovenly Recordings\, BURGER RECORDS – UK) \n« Repeatedly being called the best live band in London\, Thee MVPs fill the whole place with a pounding rhythm section\, punch to the gut guitars and gusto-filled choruses that barely get contained by the spots they play in. As quick to play on the psych scene as well a punk rock show\, the band hammer out some form of rock and roll that’s caked in krautrock rust\, protopunk grease and ’77 powerpop spit. FFO – Meatbodies\, King Gizzard\, Thee Oh Sees\, The Damned\, MC5 etc etc etc. » \n► Liker: https://www.facebook.com/theemvps/\n► Ecouter : https://soundcloud.com/theemvps\n► Regarder : https://www.youtube.com/user/theemvps/videos \n→ HOORSEES\n(Garage Lo-fi Shoegaze – Paris) \n« Hoorsees\, c’est un peu comme un Nouvel An : tout le monde sourit\, parce qu’il le faut\, tout le monde se convainc d’être heureux\, parce qu’il le faut\, et tout le monde somatise d’avoir lamentablement raté l’année qui vient de s’écouler. » Still in rock \nLes 3 influences: Alex G\, Pavement\, Bryan’s magic tears \n► Liker: https://www.facebook.com/hoorsees/\n► Ecouter: https://hoorsees.bandcamp.com/releases\n► Regarder: https://www.youtube.com/watch?v=2uBrbL9w8NY \n→ GINGER FEAR\n(Grunge – BritPop – Mylène Farmer – Paris\,FR) \n«Au terme de trois longues années de procrastination\, alternant petits boulots chronophages et laborieuses séances de composition en divers endroits exigus et mal insonorisés\, Ginger Fear se décide enfin à écrire ces quelques lignes.\n  Trois vieux copains se décident un jour à rompre leur quotidien et réunissent leurs guitares pour tenter de réenchanter leur vie. Après avoir accouché de quelques morceaux dans une spontanéité oisive et désœuvrée\, ils décident de recontacter une vieille connaissance\, dans l’espoir de donner une assise rythmique à leurs morceaux. La startup Ginger Fear est née.» \n► Liker: https://www.facebook.com/TheGingerFear/\n► Ecouter : https://gingerfear.bandcamp.com/ \n▬▬▬ INFOS PRATIQUES ▬▬▬ \nMardi 4 Juin 2019\nEntrée gratuite \n– Ouverture des portes à 18h30\n– Début des concerts vers 20h\n– Happy Hour de 18h30 à 20h (3€50 la pinte)\n– Hot Dog au bar \n▬▬▬▬▬▬▬▬▬▬▬▬▬▬▬▬▬▬▬▬▬▬▬ \nSUPERSONIC\n9 rue Biscornet\, 75012 Paris\nMétro Bastille (sortie rue de lyon)\nhttp://supersonic-club.fr/\nInscription à la newsletter du Supersonic: http://bit.ly/1lWTnx4 \nTarifs : Gratuit
URL:http://supersonic-club.fr/event/thee-mvps-%e2%80%a2-ginger-fear-supersonic-free-entry/
LOCATION:SUPERSONIC\, 9 Rue Biscornet\, Paris\, 75012\, France
CATEGORIES:Concert,Ginger Fear,Hoorsees,Pop / Rock / Folk,Thee MVPs
ATTACH;FMTTYPE=image/jpeg:http://supersonic-club.fr/wp-content/uploads/2019/05/namethumb_w600px_img_event_3c14d806-006f-4be0-866d-edcb701e643e-1.jpg
END:VEVENT
END:VCALENDAR