BEGIN:VCALENDAR
VERSION:2.0
PRODID:-//Supersonic - ECPv6.15.20//NONSGML v1.0//EN
CALSCALE:GREGORIAN
METHOD:PUBLISH
X-WR-CALNAME:Supersonic
X-ORIGINAL-URL:http://supersonic-club.fr
X-WR-CALDESC:Évènements pour Supersonic
REFRESH-INTERVAL;VALUE=DURATION:PT1H
X-Robots-Tag:noindex
X-PUBLISHED-TTL:PT1H
BEGIN:VTIMEZONE
TZID:Europe/London
BEGIN:DAYLIGHT
TZOFFSETFROM:+0000
TZOFFSETTO:+0100
TZNAME:BST
DTSTART:20160327T010000
END:DAYLIGHT
BEGIN:STANDARD
TZOFFSETFROM:+0100
TZOFFSETTO:+0000
TZNAME:GMT
DTSTART:20161030T010000
END:STANDARD
BEGIN:DAYLIGHT
TZOFFSETFROM:+0000
TZOFFSETTO:+0100
TZNAME:BST
DTSTART:20170326T010000
END:DAYLIGHT
BEGIN:STANDARD
TZOFFSETFROM:+0100
TZOFFSETTO:+0000
TZNAME:GMT
DTSTART:20171029T010000
END:STANDARD
BEGIN:DAYLIGHT
TZOFFSETFROM:+0000
TZOFFSETTO:+0100
TZNAME:BST
DTSTART:20180325T010000
END:DAYLIGHT
BEGIN:STANDARD
TZOFFSETFROM:+0100
TZOFFSETTO:+0000
TZNAME:GMT
DTSTART:20181028T010000
END:STANDARD
END:VTIMEZONE
BEGIN:VEVENT
DTSTART;TZID=Europe/London:20171213T200000
DTEND;TZID=Europe/London:20171213T233000
DTSTAMP:20260425T181457
CREATED:20171110T134401Z
LAST-MODIFIED:20171110T134401Z
UID:2205-1513195200-1513207800@supersonic-club.fr
SUMMARY:Thee MVPs • Los VVS • Stratocastors
DESCRIPTION:Le Supersonic présente… \n \n→ THEE MVPs\n(Garage rock – Slovenly Recordings\, BURGER RECORDS – UK) \n« Repeatedly being called the best live band in London\, Thee MVPs fill the whole place with a pounding rhythm section\, punch to the gut guitars and gusto-filled choruses that barely get contained by the spots they play in. As quick to play on the psych scene as well a punk rock show\, the band hammer out some form of rock and roll that’s caked in krautrock rust\, protopunk grease and ’77 powerpop spit. FFO – Meatbodies\, King Gizzard\, Thee Oh Sees\, The Damned\, MC5 etc etc etc. » \n► Liker: https://www.facebook.com/theemvps/\n► Ecouter : https://slovenly.bandcamp.com/album/thee-mvps-oh-sally-ep\n► Regarder : https://www.youtube.com/user/theemvps/videos \n→ LOS VVS\n(Garage psyché – Paris) \nLOS VVS c’est du garage punk abrasif tantôt hypnotique formé sous l’égide des pères populaires. Ne vous attendez pas à du garage collant le sable chaud de Californie\, ce trio unisexe balancent des riffs rock’n’roll incisifs et punk blues déglingués exhumant les spectres de Memphis. \nLes 3 influences : Thee Oh Sees\, The Gun Club\, Jay Reatard \n► Liker: https://www.facebook.com/LOS-VVS-1513615608897500/\n► Ecouter : https://losvvs.bandcamp.com/\n► Regarder : https://www.youtube.com/watch?v=7LNVk6iEASo&t=17s \n→ STRATOCASTORS\n(Punk wave – Mon cul c’est du Tofu / Black Totem Records – Paris) \n« Marius\, Danny\, Seb et Jérôme écrivent ensemble des chansons qui leur ressemblent. Dans la lignée de groupes tels que Chacha Guitry\, Devo\, Der Plan\, Plastic Bertrand ou encore Total Control\, les Stratocastors créent un univers riche d’une profondeur abyssale. Le message est lourd\, les chansons parlent de la vie des quatre chômeurs à Paris. Ils chantent en français\, au grand dam de ceux qui ne comprennent pas la langue de Baudelaire. Ils pourront toujours danser\, d’ailleurs tout le monde danse toujours. » \n► Liker: https://www.facebook.com/stratocastorsparis/\n► Ecouter : https://stratocastors.bandcamp.com/ \nTarifs : Gratuit
URL:http://supersonic-club.fr/event/thee-mvps-%e2%80%a2-los-vvs-%e2%80%a2-stratocastors/
LOCATION:SUPERSONIC\, 9 Rue Biscornet\, Paris\, 75012\, France
CATEGORIES:Concert,LOS VVS,Pop / Rock / Folk,The Stratocastors,Thee MVPs
ATTACH;FMTTYPE=image/jpeg:http://supersonic-club.fr/wp-content/uploads/2017/11/namethumb_w600px_img_event_85cd9683-d41c-4a32-8093-4281e58c79c7.jpg
END:VEVENT
END:VCALENDAR