BEGIN:VCALENDAR
VERSION:2.0
PRODID:-//Supersonic - ECPv6.15.20//NONSGML v1.0//EN
CALSCALE:GREGORIAN
METHOD:PUBLISH
X-WR-CALNAME:Supersonic
X-ORIGINAL-URL:http://supersonic-club.fr
X-WR-CALDESC:Évènements pour Supersonic
REFRESH-INTERVAL;VALUE=DURATION:PT1H
X-Robots-Tag:noindex
X-PUBLISHED-TTL:PT1H
BEGIN:VTIMEZONE
TZID:Europe/London
BEGIN:DAYLIGHT
TZOFFSETFROM:+0000
TZOFFSETTO:+0100
TZNAME:BST
DTSTART:20160327T010000
END:DAYLIGHT
BEGIN:STANDARD
TZOFFSETFROM:+0100
TZOFFSETTO:+0000
TZNAME:GMT
DTSTART:20161030T010000
END:STANDARD
BEGIN:DAYLIGHT
TZOFFSETFROM:+0000
TZOFFSETTO:+0100
TZNAME:BST
DTSTART:20170326T010000
END:DAYLIGHT
BEGIN:STANDARD
TZOFFSETFROM:+0100
TZOFFSETTO:+0000
TZNAME:GMT
DTSTART:20171029T010000
END:STANDARD
BEGIN:DAYLIGHT
TZOFFSETFROM:+0000
TZOFFSETTO:+0100
TZNAME:BST
DTSTART:20180325T010000
END:DAYLIGHT
BEGIN:STANDARD
TZOFFSETFROM:+0100
TZOFFSETTO:+0000
TZNAME:GMT
DTSTART:20181028T010000
END:STANDARD
END:VTIMEZONE
BEGIN:VEVENT
DTSTART;TZID=Europe/London:20171209T233000
DTEND;TZID=Europe/London:20171210T060000
DTSTAMP:20260420T061204
CREATED:20171120T115500Z
LAST-MODIFIED:20171120T115500Z
UID:2241-1512862200-1512885600@supersonic-club.fr
SUMMARY:Wipe Out! 60s Party du Supersonic avec The Wave Chargers
DESCRIPTION:La soirée #60s du Supersonic est de retour le samedi 9 décembre\, avec The Wave Chargers en concert de nuit et les dj sets de Alex Croque Macadam et Double Trouble. \n \nViens danser sur The Animals\, Françoise Hardy\, The Easybeats\, The Beatles\, The Ronettes\, Les chaussettes noires\, Shangri-Las\, Beach Boys\, Delphine\, The Yardbirds\, The Supremes…etc.. les sons #freakbeat\, #yéyé\, #twist\, #surf\, #garage\, #soul qui ont marqué les années 60\, de 23h30 à 6h du matin! \n▬▬▬ AU PROGRAMME ▬▬▬▬▬▬▬▬▬ \n→ ALEX CROQ MAC (dj set 60s)\n→ DOUBLE TROUBLE = Iris Razzle & Action Alien (dj set 60s) \n→ THE WAVE CHARGERS (live à 1H)\n(Surf music – Sonic Twang – Paris) \nThe Wave Chargers c’est de la surf music dans la plus pure tradition 60s (pensez Dick Dale au Rendezvous Ballroom\, ou The Pyramids dans « Bikini Beach ») mais jouée avec l’énergie des groupes surf parisiens (The Wangs\, The Cavaliers\, Suspenders\, Fantastic 3\, etc…). « Un seul mot d’ordre ici : perpétuer ce genre en proposant un son et une attitude dignes des groupes californiens du début des années soixante. Mission accomplie avec brio » comme dirait Rock & Folk.\nEt même s’il n’y a pas de vagues à Paname – tout juste un léger clapotis à la surface de la Seine – qu’à cela ne tienne\, The Wave Chargers créent le tsunami à grand coup de reverb et de lives énergiques à vous coller contre le mur ! \nLes 3 influences: Dick Dale\, The Challengers\, The Cavaliers \n► Liker :https://www.facebook.com/TheWaveChargers/\n► Ecouter :https://thewavechargers.bandcamp.com/\n► Regarder : https://www.youtube.com/watch?v=3-lro4e1Uok \n▬▬▬ INFOS PRATIQUES ▬▬▬▬▬▬▬▬▬▬▬▬ \nSamedi 9 Décembre 2017 – 23h30/6h\nEntrée à 5€ dès 23h\nQuelques coupe-files au même prix sont disponibles ici: https://yurplan.com/event/Wipe-Out-60s-Party-du-Supersonic-avec-The-Wave-Chargers/21874\nFoodtruck hot dog au 1er étage\nLook 60s bienvenue \n#WipeOut chaque deuxième samedi du mois!\n– Samedi 13.01.2018 avec The Norvins\n– Samedi 10.02.2018 avec Initials Bouvier Bernois\n– Samedi 10.03.2018 avec Les Kitschenette’s \nTarifs : SUR PLACE : 5€
URL:http://supersonic-club.fr/event/wipe-out-60s-party-du-supersonic-avec-the-wave-chargers/
LOCATION:SUPERSONIC\, 9 Rue Biscornet\, Paris\, 75012\, France
CATEGORIES:Concert,Pop / Rock / Folk,THE WAVE CHARGERS
ATTACH;FMTTYPE=image/jpeg:http://supersonic-club.fr/wp-content/uploads/2017/11/namethumb_w600px_img_event_a2b25d51-b971-445c-bddf-0ab17e90b72e.jpg
END:VEVENT
END:VCALENDAR