BEGIN:VCALENDAR
VERSION:2.0
PRODID:-//Supersonic - ECPv6.15.20//NONSGML v1.0//EN
CALSCALE:GREGORIAN
METHOD:PUBLISH
X-WR-CALNAME:Supersonic
X-ORIGINAL-URL:http://supersonic-club.fr
X-WR-CALDESC:Évènements pour Supersonic
REFRESH-INTERVAL;VALUE=DURATION:PT1H
X-Robots-Tag:noindex
X-PUBLISHED-TTL:PT1H
BEGIN:VTIMEZONE
TZID:Europe/London
BEGIN:DAYLIGHT
TZOFFSETFROM:+0000
TZOFFSETTO:+0100
TZNAME:BST
DTSTART:20160327T010000
END:DAYLIGHT
BEGIN:STANDARD
TZOFFSETFROM:+0100
TZOFFSETTO:+0000
TZNAME:GMT
DTSTART:20161030T010000
END:STANDARD
BEGIN:DAYLIGHT
TZOFFSETFROM:+0000
TZOFFSETTO:+0100
TZNAME:BST
DTSTART:20170326T010000
END:DAYLIGHT
BEGIN:STANDARD
TZOFFSETFROM:+0100
TZOFFSETTO:+0000
TZNAME:GMT
DTSTART:20171029T010000
END:STANDARD
BEGIN:DAYLIGHT
TZOFFSETFROM:+0000
TZOFFSETTO:+0100
TZNAME:BST
DTSTART:20180325T010000
END:DAYLIGHT
BEGIN:STANDARD
TZOFFSETFROM:+0100
TZOFFSETTO:+0000
TZNAME:GMT
DTSTART:20181028T010000
END:STANDARD
END:VTIMEZONE
BEGIN:VEVENT
DTSTART;TZID=Europe/London:20171206T200000
DTEND;TZID=Europe/London:20171206T233000
DTSTAMP:20260425T123200
CREATED:20171025T141332Z
LAST-MODIFIED:20171025T141332Z
UID:2180-1512590400-1512603000@supersonic-club.fr
SUMMARY:Pointe du Lac • Blam & Log • The Unlikely Boy / Supersonic - Free
DESCRIPTION:Le Supersonic présente… \n \n→ POINTE DU LAC\n(Krautrock – Gonzaï records / Hylé Tapes – Créteil) \n«Emmené par Julien Lheuillier\, Pointe du Lac est un trip à Kosmische Land oscillant entre les autoroutes allemandes de Kraftwerk et l’une des plus laides stations de métro parisiennes. Le nom du projet ? Un hommage à la station de métro de Créteil\, ligne 8\, par laquelle personne ne passe jamais. « Quand ils ont ouvert cette station il y a environ trois ans confirme Julien\, je me suis dit que le nom de la station ouvrait un imaginaire\, de grands espaces déserts. Je voulais que la musique soit assez onirique et contrastée. On peut y entendre des lacs imaginaires et des métros qui passent dessous\, des vieux synthétiseurs et des moins vieux. Les huit titres représentent une sorte de vision hallucinée d’un trajet vers la Pointe du Lac\, mais une Pointe du Lac qui n’existe pas\, ou qui serait quelque part dans le cosmos ». Dans la droite lignée teutonne de Harmonia\, Neu ! ou Cluster et de disques instrumentaux comme ‘’Virgin Suicides’’ de Air\, Pointe du Lac est l’un des plus beaux disques instrumentaux entendus ces dernières années. » – Gonzai \nLes 3 influences : Harmonia\, Faust\, Brian Eno \n► Liker: https://www.facebook.com/pointedulacmusic/\n► Ecouter : https://pointedulac.bandcamp.com/\n► Regarder : https://www.youtube.com/watch?v=Z1XOLfD3IAY \n→ BLAM & LOG\n(Electronica Kraut – Reims) \nTurbulences crâniennes\, écumes synthétiques\, LOG-à-rythmes.\nBLAM & LOG est un duo vaudou\, d’insomniaques sculpteurs de beats\, ni pop\, ni boom boom mais BLAM dans ta face.\nQue ça plane… Champagne mon ami(e)! \nLes 3 influences : Pink Floyd\, Tangerine Dream\, Radiohead \n► Liker: https://www.facebook.com/blamlog/\n► Ecouter : https://soundcloud.com/blamlog\n► Regarder : https://www.youtube.com/watch?v=dfgEKl7-_YQ \n→ THE UNLIKELY BOY\n(Electronic-Urban-Pop – Paris) \n« THE UNLIKELY BOY est un projet musical solo mené depuis 2015 par Eléna Tissier\, compositeur\, dj\, produtrice\, auteur et multi-instrumentiste. En live\, elle performe ses compositions entourée d’une basse\, d’une guitare\, d’un synthé\, de controllers et d’un micro. Éclectiques\, ses compositions évoluent entre influences électroniques\, pop et urbaines\, toujours fondées sur une dialectique entre vitalité et douce mélancolie.  \n► Liker: https://www.facebook.com/TheUnlikelyBoyOfficial/\n► Ecouter : https://theunlikelyboy.com/compositions-originales/\n► Regarder : https://www.youtube.com/watch?v=hClE7w6ppEEv \nTarifs : Gratuit
URL:http://supersonic-club.fr/event/pointe-du-lac-%e2%80%a2-blam-log-%e2%80%a2-the-unlikely-boy-supersonic-free/
LOCATION:SUPERSONIC\, 9 Rue Biscornet\, Paris\, 75012\, France
CATEGORIES:Blam & Log,Concert,Pointe du lac,Pop / Rock / Folk,The Unlikely Boy
ATTACH;FMTTYPE=image/jpeg:http://supersonic-club.fr/wp-content/uploads/2017/10/namethumb_w600px_img_event_1439358e-7102-45f4-9bb5-ab745e20b829.jpg
END:VEVENT
END:VCALENDAR