BEGIN:VCALENDAR
VERSION:2.0
PRODID:-//Supersonic - ECPv6.15.20//NONSGML v1.0//EN
CALSCALE:GREGORIAN
METHOD:PUBLISH
X-ORIGINAL-URL:http://supersonic-club.fr
X-WR-CALDESC:Évènements pour Supersonic
REFRESH-INTERVAL;VALUE=DURATION:PT1H
X-Robots-Tag:noindex
X-PUBLISHED-TTL:PT1H
BEGIN:VTIMEZONE
TZID:Europe/London
BEGIN:DAYLIGHT
TZOFFSETFROM:+0000
TZOFFSETTO:+0100
TZNAME:BST
DTSTART:20250330T010000
END:DAYLIGHT
BEGIN:STANDARD
TZOFFSETFROM:+0100
TZOFFSETTO:+0000
TZNAME:GMT
DTSTART:20251026T010000
END:STANDARD
BEGIN:DAYLIGHT
TZOFFSETFROM:+0000
TZOFFSETTO:+0100
TZNAME:BST
DTSTART:20260329T010000
END:DAYLIGHT
BEGIN:STANDARD
TZOFFSETFROM:+0100
TZOFFSETTO:+0000
TZNAME:GMT
DTSTART:20261025T010000
END:STANDARD
BEGIN:DAYLIGHT
TZOFFSETFROM:+0000
TZOFFSETTO:+0100
TZNAME:BST
DTSTART:20270328T010000
END:DAYLIGHT
BEGIN:STANDARD
TZOFFSETFROM:+0100
TZOFFSETTO:+0000
TZNAME:GMT
DTSTART:20271031T010000
END:STANDARD
END:VTIMEZONE
BEGIN:VEVENT
DTSTART;TZID=Europe/London:20260130T190000
DTEND;TZID=Europe/London:20260130T223000
DTSTAMP:20260421T085006
CREATED:20251120T123517Z
LAST-MODIFIED:20251120T123517Z
UID:17639-1769799600-1769812200@supersonic-club.fr
SUMMARY:The Twin Souls en concert (côté Records)
DESCRIPTION:Après 2 EP et un LP Collection sorti en Vinyle en 2024\, The Twin Souls délivrent cette année Highs & Lows\, un premier album avec 10 titres rock vintage percutants et mélodieux ! \n \nMaximum Tour Productions présente  \nTHE TWIN SOULS\n(Rock / Vintage Rock / Alt. Blues Rock – Toulouse) \nRelease 1er album HIGHS AND LOWS :  \nEn plus de 6 ans d’existence\, @thetwinsoulsband ont forgé leur réputation en parcourant les routes de France et d’Espagne\, de salles en festivals. Ils ont eu l’occasion d’assurer les 1ères parties de Reignwolf\, The Last Internationale\, KO KO MO\, Delgrès à plusieurs reprises\, Skip the Use ou encore FFF. Après 2 EP et un LP Collection sorti en Vinyle en 2024\, le duo délivre cette année Highs & Lows\, un premier album avec 10 titres rock vintage percutants et mélodieux comme ils savent composer\, à découvrir au @supersonic.records.paris le vendredi 30 janvier 2026 ! \nL’album à été enregistré au Studio Berduquet à Cenon en Gironde\, mixé par Charles de Schutter (Kyo\, Superbus\, Pleymo\, M…) au studio Rec’n’Roll à Bruxelles et masterisé par Bill Skibbe chez Third Man Pressing auquel le groupe reste fidèle tout en assurant son lien artistique filial avec le savoir faire en la matière de leur influence majeure\, Mr Jack White. \nLP Highs and Lows déjà disponible : https://archipel.fanlink.tv/HighsandLows_by_TheTwinSouls\nhttps://www.facebook.com/thetwinsoulsband  \nSAINT NEGUS (première partie)\n(Nubian Rock – Paris) \n@st.negus explore un espace musical où se rencontrent modern rock\, influences orientales et textures garage\, dans une esthétique marquée par la tension et la présence scénique. \nLe projet s’impose par une voix habitée et une posture artistique inspirée\, évoquant une figure prophétique en perdition. Son Nubian Rock  trace un pont entre traditions sonores et énergie contemporaine\, soutenu par une instrumentation dense et mélodique. \nhttps://www.instagram.com/saintnegus/\nhttps://www.facebook.com/st.negus  \n――――――――――――――――\nTARIFS\nPrévente : 15€\nSur place : 18€\n――――――――――――――――\nBILLETTERIE\nhttps://my.weezevent.com/the-twin-souls-release-party-st-negus  \nPour éviter les arnaques\, privilégiez l’usage d’une plateforme de revente sécurisée.\n――――――――――――――――\nINFOS PRATIQUES\nVendredi 30 janvier 2026\nOuvertures des portes à 19h \nSUPERSONIC RECORDS\n9 rue Biscornet 75012 Paris\nMétro Bastille \nBar sur place\nEntrée interdite aux moins de 16 ans non accompagnés d’un responsable légal. \nLa fête se doit d’être libre\, joyeuse et safe pour tous.tes\, nous condamnons tout acte de discrimination et de harcèlement quel qu’il soit. Merci de contribuer à faire de ce moment un espace bienveillant et festif pour tout le monde. \nhttps://www.maximumtourmusic.com/ \nTarifs : Billet : 15€ \nBilletteries : Billetterie
URL:http://supersonic-club.fr/event/the-twin-souls-en-concert-cote-records/
LOCATION:Supersonic Records\, 9 Rue Biscornet\, Paris\, 75012\, France
CATEGORIES:Concert,Pop / Rock / Folk,Sowprog,Supersonic Records,The Twin Souls
ATTACH;FMTTYPE=image/jpeg:http://supersonic-club.fr/wp-content/uploads/2025/11/namethumb_w600px_img_event_a7912097-0a78-4e95-9fc4-071c6c2829c9.jpg
END:VEVENT
END:VCALENDAR