BEGIN:VCALENDAR
VERSION:2.0
PRODID:-//Supersonic - ECPv6.15.20//NONSGML v1.0//EN
CALSCALE:GREGORIAN
METHOD:PUBLISH
X-WR-CALNAME:Supersonic
X-ORIGINAL-URL:http://supersonic-club.fr
X-WR-CALDESC:Évènements pour Supersonic
REFRESH-INTERVAL;VALUE=DURATION:PT1H
X-Robots-Tag:noindex
X-PUBLISHED-TTL:PT1H
BEGIN:VTIMEZONE
TZID:Europe/London
BEGIN:DAYLIGHT
TZOFFSETFROM:+0000
TZOFFSETTO:+0100
TZNAME:BST
DTSTART:20160327T010000
END:DAYLIGHT
BEGIN:STANDARD
TZOFFSETFROM:+0100
TZOFFSETTO:+0000
TZNAME:GMT
DTSTART:20161030T010000
END:STANDARD
BEGIN:DAYLIGHT
TZOFFSETFROM:+0000
TZOFFSETTO:+0100
TZNAME:BST
DTSTART:20170326T010000
END:DAYLIGHT
BEGIN:STANDARD
TZOFFSETFROM:+0100
TZOFFSETTO:+0000
TZNAME:GMT
DTSTART:20171029T010000
END:STANDARD
BEGIN:DAYLIGHT
TZOFFSETFROM:+0000
TZOFFSETTO:+0100
TZNAME:BST
DTSTART:20180325T010000
END:DAYLIGHT
BEGIN:STANDARD
TZOFFSETFROM:+0100
TZOFFSETTO:+0000
TZNAME:GMT
DTSTART:20181028T010000
END:STANDARD
END:VTIMEZONE
BEGIN:VEVENT
DTSTART;TZID=Europe/London:20170708T210000
DTEND;TZID=Europe/London:20170709T003000
DTSTAMP:20260424T113332
CREATED:20170704T093739Z
LAST-MODIFIED:20170704T093739Z
UID:1615-1499547600-1499560200@supersonic-club.fr
SUMMARY:French Boutik • The Sound of Pop Art • Mansize Rooster // Free
DESCRIPTION:Twin chunnel powers meet in Paris : Fantastic UK modernist beat group The Sound Of Pop Art for their first visit to French shores meet la Pop Moderniste of French Boutik ! \n \n→ FRENCH BOUTIK\n(Pop Moderniste – copaseDisques – Paris\,FR) \n“Modernist pop” they call it. I call it bloody marvelous » — Shindig ! \n► Liker : https://www.facebook.com/frenchboutik/\n► Ecouter: https://soundcloud.com/french-boutik\n► Regarder: https://www.youtube.com/user/gabs150/videos \n→ THE SOUND OF POP ART\n(Pop funk soul jazz – England In June Productions – Cambridge\, UK) \n« Wearing their influences unashamedly on their sleeves this is a fantastic set from The Sound of Pop Art. The band give us soul\, jazz and morsels of easy listening pop. All in all delivering across a lot of fronts.\nThis is an outfit confident in its abilities – content to let the meticulous construction do the talking with no need for gimmicks or distractions. Delicious in a sadistic way. » – Sussed Magazine  \n► Liker : https://www.facebook.com/thesoundofpopart/\n► Ecouter: https://thesoundofpopart.bandcamp.com/\n► Regarder: https://www.youtube.com/user/YeHe/videos \n→ MANSIZE ROOSTER\n(Pop – Paris\, FR) \nMansize Rooster est un projet pop porté par 4 parisiens qui combine des influences brit pop avec un amour pour des sonorités plus sauvages. Ses mélodies imparables ou s’entremêlent à merveille guitares explosives et synthés décomplexés\, vont très certainement faire fondre ton petit coeur en sucre endurci par la dure réalité de la vie. Ta prochaine sad song de rupture amoureuse se trouve dans leur EP qui sortira cet été.  \n► Liker : https://www.facebook.com/mansizeroosterband/\n► Ecouter: https://soundcloud.com/mansizeroostersound \nTarifs : Gratuit
URL:http://supersonic-club.fr/event/french-boutik-%e2%80%a2-the-sound-of-pop-art-%e2%80%a2-mansize-rooster-free/
LOCATION:SUPERSONIC\, 9 Rue Biscornet\, Paris\, 75012\, France
CATEGORIES:Concert,FRENCH BOUTIK,Mansize Rooster,Pop / Rock / Folk,The Sound of Pop Art
ATTACH;FMTTYPE=image/jpeg:http://supersonic-club.fr/wp-content/uploads/2017/07/namethumb_w600px_img_event_76127fc7-d38d-406c-a018-c13c7192a9ff.jpg
END:VEVENT
END:VCALENDAR