BEGIN:VCALENDAR
VERSION:2.0
PRODID:-//Supersonic - ECPv6.15.20//NONSGML v1.0//EN
CALSCALE:GREGORIAN
METHOD:PUBLISH
X-ORIGINAL-URL:http://supersonic-club.fr
X-WR-CALDESC:Évènements pour Supersonic
REFRESH-INTERVAL;VALUE=DURATION:PT1H
X-Robots-Tag:noindex
X-PUBLISHED-TTL:PT1H
BEGIN:VTIMEZONE
TZID:Europe/London
BEGIN:DAYLIGHT
TZOFFSETFROM:+0000
TZOFFSETTO:+0100
TZNAME:BST
DTSTART:20190331T010000
END:DAYLIGHT
BEGIN:STANDARD
TZOFFSETFROM:+0100
TZOFFSETTO:+0000
TZNAME:GMT
DTSTART:20191027T010000
END:STANDARD
BEGIN:DAYLIGHT
TZOFFSETFROM:+0000
TZOFFSETTO:+0100
TZNAME:BST
DTSTART:20200329T010000
END:DAYLIGHT
BEGIN:STANDARD
TZOFFSETFROM:+0100
TZOFFSETTO:+0000
TZNAME:GMT
DTSTART:20201025T010000
END:STANDARD
BEGIN:DAYLIGHT
TZOFFSETFROM:+0000
TZOFFSETTO:+0100
TZNAME:BST
DTSTART:20210328T010000
END:DAYLIGHT
BEGIN:STANDARD
TZOFFSETFROM:+0100
TZOFFSETTO:+0000
TZNAME:GMT
DTSTART:20211031T010000
END:STANDARD
END:VTIMEZONE
BEGIN:VEVENT
DTSTART;TZID=Europe/London:20200127T200000
DTEND;TZID=Europe/London:20200127T233000
DTSTAMP:20260423T153424
CREATED:20191126T133249Z
LAST-MODIFIED:20191126T133249Z
UID:5375-1580155200-1580167800@supersonic-club.fr
SUMMARY:The Spyrals • Sheitan & The Pussy Magnets • The Sentinelese
DESCRIPTION:Le Supersonic c’est lieu incontournable du rock à Paris! Trois concerts gratuits tous les soirs\, des nuits pop rock du jeudi au samedi et ce soir on vous présente : \n \n→ THE SPYRALS\n(Rock Psyché – Los Angeles\, US) \n« The Spyrals started out in San Francisco\, releasing their debut album in 2012 and followed up with Out of Sight in 2013. Their latest album\, The Curse\, continues down the road of fuzzed out driving rock and roll they have come to be known for.\nNow based in Los Angeles with a fresh lineup and another album recorded\, theyʼve gotten back to playing live and continue to evolve their sound.\nLed by Jeff Lewis with a harmonica and guitar\, the comparisons to Stones\, Stooges\, and Creedence choogle are swirling around some Crazy Horse dimension theyʼve passed through recently.\nReady to release a new album soon\, weʼll wait to see how those classic influences are filtered through modern ears. » \n► Liker: https://www.facebook.com/thespyrals/\n► Ecouter: https://thespyrals.bandcamp.com/\n► Regarder: https://www.youtube.com/watch?v=DSk-neO-smI \n→ SHEITAN AND THE PUSSY MAGNETS\n(Indie Rock – Paris) \n« Créé en 2016 à l’initiative de deux jeunes de la banlieue sud parisienne\, la formation est aujourd’hui un quintette.  Les guitares grinçantes se croisent maintenant à un clavier mélodieux\, rythmés par une basse bien sombre et une batterie qui claque\, le tout exécuté avec nonchalance produisant un résultat grisant dont on pourra reconnaître plus qu’aisément l’influence du rock britannique de ces dernières années\, mais aussi de celle de groupe plus anciens comme The Pretty Things. » \nLes 3 influences: Nick Cave & The Bad Seeds – Arctic Monkeys – The Smiths \n► Liker: https://www.facebook.com/SheitanAndThePMs/\n► Ecouter: https://soundcloud.com/user-792339869\n► Regarder: https://www.youtube.com/watch?v=gtdxu9PJW74 \n→ THE SENTINELESE\n(Psych Rock – Paris) \n« Formé originellement à Melbourne en 2015\, les membres de The Sentinelese relocalisent leur projet un an plus tard à Paris pour trouver leur formation finale. Ils y mettent alors au point leur sonorité entre mélodies planantes et murs de guitares\, insprirées par la fin des années 60. » \n► Liker : https://www.facebook.com/thesentinelese/\n► Regarder : https://youtu.be/TEJWjNDNlUQ \nTarifs : Gratuit
URL:http://supersonic-club.fr/event/the-spyrals-%e2%80%a2-sheitan-the-pussy-magnets-%e2%80%a2-the-sentinelese/
LOCATION:SUPERSONIC\, 9 Rue Biscornet\, Paris\, 75012\, France
CATEGORIES:Concert,Pop / Rock / Folk,Sheitan & The Pussy Magnets,Sowprog,The Sentinelese,The Spyrals
ATTACH;FMTTYPE=image/jpeg:http://supersonic-club.fr/wp-content/uploads/2019/11/namethumb_w600px_img_event_87baf644-32df-47de-b90b-90a47be774d0.jpg
END:VEVENT
END:VCALENDAR