BEGIN:VCALENDAR
VERSION:2.0
PRODID:-//Supersonic - ECPv6.15.20//NONSGML v1.0//EN
CALSCALE:GREGORIAN
METHOD:PUBLISH
X-WR-CALNAME:Supersonic
X-ORIGINAL-URL:http://supersonic-club.fr
X-WR-CALDESC:Évènements pour Supersonic
REFRESH-INTERVAL;VALUE=DURATION:PT1H
X-Robots-Tag:noindex
X-PUBLISHED-TTL:PT1H
BEGIN:VTIMEZONE
TZID:Europe/London
BEGIN:DAYLIGHT
TZOFFSETFROM:+0000
TZOFFSETTO:+0100
TZNAME:BST
DTSTART:20170326T010000
END:DAYLIGHT
BEGIN:STANDARD
TZOFFSETFROM:+0100
TZOFFSETTO:+0000
TZNAME:GMT
DTSTART:20171029T010000
END:STANDARD
BEGIN:DAYLIGHT
TZOFFSETFROM:+0000
TZOFFSETTO:+0100
TZNAME:BST
DTSTART:20180325T010000
END:DAYLIGHT
BEGIN:STANDARD
TZOFFSETFROM:+0100
TZOFFSETTO:+0000
TZNAME:GMT
DTSTART:20181028T010000
END:STANDARD
BEGIN:DAYLIGHT
TZOFFSETFROM:+0000
TZOFFSETTO:+0100
TZNAME:BST
DTSTART:20190331T010000
END:DAYLIGHT
BEGIN:STANDARD
TZOFFSETFROM:+0100
TZOFFSETTO:+0000
TZNAME:GMT
DTSTART:20191027T010000
END:STANDARD
END:VTIMEZONE
BEGIN:VEVENT
DTSTART;TZID=Europe/London:20180717T210000
DTEND;TZID=Europe/London:20180718T003000
DTSTAMP:20260425T004942
CREATED:20180713T140445Z
LAST-MODIFIED:20180713T140445Z
UID:3137-1531861200-1531873800@supersonic-club.fr
SUMMARY:Grandma's Ashes • Fidji • The Sentinelese / Supersonic
DESCRIPTION:▬ Le Supersonic présente ▬ \n \n▬▬▬ ENTREE LIBRE ▬▬▬▬ \n→ GRANDMA’S ASHES\n(Stoner\, punk\, garage) \nC’est comme si les Monty Pythons étaient un girls band de trois pin-ups électriques\, un peu trop influencées par le stoner\, le punk\, et ce bon vieux rock’n roll. Les filles oscillent entre élégance et désinvolture\, les sœurs Halliwell du punk rock qui vous invitent sensuellement à mettre les doigts dans la prise si vous n’avez pas encore l’iroquois. \n► Liker : https://www.facebook.com/Nanyisnotdead/\n► Ecouter : ‭https://soundcloud.com/grandmas-ashes \n→ FIDJI\n(Indie rock – Paris) \nFIDJI c’est la rencontre explosive entre Jey\, Rod\, Xav et Arnaud\, une alchimie unique de tempéraments survoltés\, des portables saturés de playlists hétéroclites\, un concours permanent de vannes et une bonne dose de culture geek. Cet incessant bouillonnement n’en occulte pas moins la maturité de compositions hybrides. Archipel d’influence\, FIDJI mêle la puissance d’un rock alternatif fougueux avec la légèreté des riffs dansants. Porté par cet équilibre le quatuor surfe sur un rock épique à coups de motifs ensoleillés\, de beats volcaniques et de mélodies pop. \n► Ecouter : soundcloud.com/wearefidji\n► Liker : www.facebook.com/wearefidji \n→ THE SENTINELESE\n(Psych Rock – Paris\,FR) \nFormé originellement à Melbourne en 2015\, les membres de The Sentinelese relocalisent leur projet un an plus tard à Paris pour trouver leur formation finale. Ils y mettent alors au point leur sonorité entre mélodies planantes et murs de guitares\, insprirées par la fin des années 60. A l’image du peuple dont ils prennent le nom\, des indigènes coupés du monde\, The Sentinelese explorent des sonorités percutantes et tribales\, tout en gardant une touche de simplicité. Les Sentinelles travaillent actuellement à la réalisation de leur premier EP prévu pour le début d’année 2018. \nLes 3 influences: Velvet Underground\, The Brian Jonestown Massacre & Spiritualized \n► Liker: https://www.facebook.com/thesentinelese/ \n▬▬▬ INFOS PRATIQUES ▬▬▬ \nMardi 17 Juillet 2018\nEntrée gratuite  \n– Ouverture des portes à 18h30\n– Début des concerts vers 20h\n– Happy Hour de 18h30 à 20h (3€50 la pinte)\n– Hot Dog au bar \n▬▬▬▬▬▬▬▬▬▬▬▬▬▬▬▬▬▬▬▬▬▬▬ \nSUPERSONIC\n9 rue Biscornet\, 75012 Paris\nMétro Bastille (sortie rue de lyon)\nhttp://supersonic-club.fr/\nInscription à la newsletter du Supersonic: http://bit.ly/1lWTnx4 \nTarifs : Gratuit
URL:http://supersonic-club.fr/event/grandmas-ashes-%e2%80%a2-fidji-%e2%80%a2-the-sentinelese-supersonic/
LOCATION:SUPERSONIC\, 9 Rue Biscornet\, Paris\, 75012\, France
CATEGORIES:Concert,Fidji,GRANDMA'S ASHES,Pop / Rock / Folk,The Sentinelese
ATTACH;FMTTYPE=image/jpeg:http://supersonic-club.fr/wp-content/uploads/2018/07/namethumb_w600px_img_event_42fb99a8-c7e5-47e1-a510-65fd6115750c.jpg
END:VEVENT
END:VCALENDAR