BEGIN:VCALENDAR
VERSION:2.0
PRODID:-//Supersonic - ECPv6.15.20//NONSGML v1.0//EN
CALSCALE:GREGORIAN
METHOD:PUBLISH
X-ORIGINAL-URL:http://supersonic-club.fr
X-WR-CALDESC:Évènements pour Supersonic
REFRESH-INTERVAL;VALUE=DURATION:PT1H
X-Robots-Tag:noindex
X-PUBLISHED-TTL:PT1H
BEGIN:VTIMEZONE
TZID:Europe/London
BEGIN:DAYLIGHT
TZOFFSETFROM:+0000
TZOFFSETTO:+0100
TZNAME:BST
DTSTART:20160327T010000
END:DAYLIGHT
BEGIN:STANDARD
TZOFFSETFROM:+0100
TZOFFSETTO:+0000
TZNAME:GMT
DTSTART:20161030T010000
END:STANDARD
BEGIN:DAYLIGHT
TZOFFSETFROM:+0000
TZOFFSETTO:+0100
TZNAME:BST
DTSTART:20170326T010000
END:DAYLIGHT
BEGIN:STANDARD
TZOFFSETFROM:+0100
TZOFFSETTO:+0000
TZNAME:GMT
DTSTART:20171029T010000
END:STANDARD
BEGIN:DAYLIGHT
TZOFFSETFROM:+0000
TZOFFSETTO:+0100
TZNAME:BST
DTSTART:20180325T010000
END:DAYLIGHT
BEGIN:STANDARD
TZOFFSETFROM:+0100
TZOFFSETTO:+0000
TZNAME:GMT
DTSTART:20181028T010000
END:STANDARD
END:VTIMEZONE
BEGIN:VEVENT
DTSTART;TZID=Europe/London:20170922T210000
DTEND;TZID=Europe/London:20170923T003000
DTSTAMP:20260425T200053
CREATED:20170829T142401Z
LAST-MODIFIED:20170918T095226Z
UID:1958-1506114000-1506126600@supersonic-club.fr
SUMMARY:Chui Wan • The Sentinelese • Brahman / Supersonic - Free
DESCRIPTION:Le Supersonic présente… le psyché rock de Chui Wan (Beijing\, Chine). \n \n→ CHUI WAN\n(Rock psychédelique – Maybe Mars – Beijing\, Chine) \nChui Wan est l’un des groupes de musique indépendante les plus dynamiques en Chine aujourd’hui. Initiateurs de la vague de revival du psychédélique\, en 2011 à Pékin\, ils ont depuis sorti 2 albums: “White Night” (2011) et “Chui Wan” (2015).\nEn Septembre\, Chui Wan vont lancer leur 3ème album\, produit par Rusty Santos (Animal Collective)\, nommé “The Landscape the Tropics Never Had”\, sur le très connu label indé chinois Maybe Mars.\nChui Wan sont reconnus pour leur éclectisme\, leur musique\, et surtout pour leur live intense. Leurs influences viennent non seulement du psyché mais aussi de la musique classique\, orientale et expérimentale.\nVenus des 4 coins de Chine; le vocaliste/violoniste Yan Yulong de la province glaciale du nord\, le Heilongjiang\, la bassiste\, Wu Qiong\, de la partie occidentale du pays\, le Ningxia\, le batteur\, Li Zichao\, lui\, du sud\, le Guizhou\, et le gitariste\, Liu Xinyu\, un vrai pékinois\, Chui Wan est une amalgame d’influences et personnalités différentes chinoises. \nLes 3 influences: William Park\, Flying Lotus\, The Gaslamp Killer.  \n► Liker: ​https://www.facebook.com/chuiwanband\n► Ecouter: ​http://downloads.maybemars.org/album/chui-wan\n► Regarder: https://www.youtube.com/watch?v=Nuxyhu89Gxc \n→ THE SENTINELESE\n(Psych Rock – Paris\,FR) \nFormé originellement à Melbourne en 2015\, les membres de The Sentinelese relocalisent leur projet un an plus tard à Paris pour trouver leur formation finale. Ils y mettent alors au point leur sonorité entre mélodies planantes et murs de guitares\, insprirées par la fin des années 60. A l’image du peuple dont ils prennent le nom\, des indigènes coupés du monde\, The Sentinelese explorent des sonorités percutantes et tribales\, tout en gardant une touche de simplicité. Les Sentinelles travaillent actuellement à la réalisation de leur premier EP prévu pour le début d’année 2018.  \nLes 3 influences: Velvet Underground\, The Brian Jonestown Massacre & Spiritualized \n► Liker: https://www.facebook.com/thesentinelese/ \n→ BRAHMAN\n(Agressive psyche – Boulogne-Billancourt\,FR) \nVenus des confins de la création de l’univers\, les trois membres de BRAHMAN évoluent autour de diverses mouvances sonores issues du rock\, une musique bipolaire qui navigue entre l’envoutement et l’énergie brute. \nLes 3 influences: Causa Sui / Kyuss / Pink Floyd \n► Liker: https://www.facebook.com/Brahman.band/\n► Ecouter: https://soundcloud.com/brahmanband\n► Regarder: https://www.youtube.com/watch?v=oCqcSCsXJGk \nTarifs : Gratuit
URL:http://supersonic-club.fr/event/chui-wan-au-supersonic-free/
LOCATION:SUPERSONIC\, 9 Rue Biscornet\, Paris\, 75012\, France
CATEGORIES:BRAHMAN,Chui Wan,Concert,Pop / Rock / Folk,The Sentinelese
ATTACH;FMTTYPE=image/jpeg:http://supersonic-club.fr/wp-content/uploads/2017/08/namethumb_w600px_img_event_945a48ed-039c-4526-8fa8-66296765216e-1.jpg
END:VEVENT
END:VCALENDAR