BEGIN:VCALENDAR
VERSION:2.0
PRODID:-//Supersonic - ECPv6.15.20//NONSGML v1.0//EN
CALSCALE:GREGORIAN
METHOD:PUBLISH
X-WR-CALNAME:Supersonic
X-ORIGINAL-URL:http://supersonic-club.fr
X-WR-CALDESC:Évènements pour Supersonic
REFRESH-INTERVAL;VALUE=DURATION:PT1H
X-Robots-Tag:noindex
X-PUBLISHED-TTL:PT1H
BEGIN:VTIMEZONE
TZID:Europe/London
BEGIN:DAYLIGHT
TZOFFSETFROM:+0000
TZOFFSETTO:+0100
TZNAME:BST
DTSTART:20180325T010000
END:DAYLIGHT
BEGIN:STANDARD
TZOFFSETFROM:+0100
TZOFFSETTO:+0000
TZNAME:GMT
DTSTART:20181028T010000
END:STANDARD
BEGIN:DAYLIGHT
TZOFFSETFROM:+0000
TZOFFSETTO:+0100
TZNAME:BST
DTSTART:20190331T010000
END:DAYLIGHT
BEGIN:STANDARD
TZOFFSETFROM:+0100
TZOFFSETTO:+0000
TZNAME:GMT
DTSTART:20191027T010000
END:STANDARD
BEGIN:DAYLIGHT
TZOFFSETFROM:+0000
TZOFFSETTO:+0100
TZNAME:BST
DTSTART:20200329T010000
END:DAYLIGHT
BEGIN:STANDARD
TZOFFSETFROM:+0100
TZOFFSETTO:+0000
TZNAME:GMT
DTSTART:20201025T010000
END:STANDARD
END:VTIMEZONE
BEGIN:VEVENT
DTSTART;TZID=Europe/London:20190607T210000
DTEND;TZID=Europe/London:20190608T003000
DTSTAMP:20260425T035956
CREATED:20190418T111324Z
LAST-MODIFIED:20190603T173121Z
UID:4351-1559941200-1559953800@supersonic-club.fr
SUMMARY:The Molochs • Young Like Old Men • Johnnie Carwash / Supersonic
DESCRIPTION:▬ Le Supersonic présente ▬ \n \n▬▬▬ ENTREE LIBRE JUSQU’A 23H ▬▬▬▬ \n→ THE MOLOCHS\n(Garage Pop – Innovative Leisure Records – California\,US) \n«Signé sur le label Innovative Leisure connu pour cultiver une esthétique californienne qui donne envie de faire du surf et de siroter des mojitos sur la plage\, The Molochs représente une certaine vision de Los Angeles où le soleil est la source première d’inspiration ; tout comme leurs cousins génétiques d’Allah-Las\, eux aussi signés sur ce label.\nAprès un premier album America’s Velvet Glory sorti en 2017 qui\, comme son nom l’indique\, reflète un son typiquement à l’américaine et qui respire les années 60\, The Molochs prévoit de sortir un second opus Flowers In The Spring prévu pour le 7 septembre. Un titre évocateur\, qui n’est pas sans rappeler la célèbre chanson de Scott McKenzie\, même si le premier extrait « I Wanna Say To You » sonne plutôt estival que printanier. En tout cas\, le taux de chill de ce morceau est tellement puissant qu’il en ferait presque jalouser Mac DeMarco.» \nLié à: Kevin Morby\, Woods\, Quilt\, Doug Tuttle \n► Liker: https://www.facebook.com/themolochs/\n► Ecouter : https://themolochs.bandcamp.com/\n► Regarder : https://youtu.be/JVg7MlJVH04 \n→ YOUNG LIKE OLD MEN\n(Indie pop noise – Gravity Music – Paris\,FR) \n«Nappes de son\, rythmes cardiaques\, mélodies enivrantes et chants quasi polyphoniques : Young Like Old Men assure en 2016 un album «A Thousand Lights» DIY\, dérangé et mélancolique. Un an après\, le groupe parisien présente un nouvel EP aux allures de mini album : « Is It All Right? ». Plus que jamais\, l’héritage du rock indépendant des années 80 et 90 se fait sentir\, à travers quatre titres plus directs et urbains dans lesquels s’entrechoquent mélodies insouciantes et vagues électriques. Le 7 juin\, ils viendront vous présenter leur nouvel album «Between Us» sorti le 10 mai dernier sur Gravity Music.» \nLes 3 infuences: Yo la tengo\, Sonic Youth\, Spacemen 3 \n► Liker : https://www.facebook.com/YoungLikeOldMen/\n► Ecouter : https://gravitymusicrecords.bandcamp.com/album/between-us \n+ GUEST \n▬▬▬ INFOS PRATIQUES ▬▬▬ \nVendredi 7 Juin 2019\nEntrée gratuite jusqu’à 23h \n– Ouverture des portes à 18h30\n– Début des concerts vers 20h\n– Happy Hour de 18h30 à 20h (3€50 la pinte)\n– Hot Dog au bar \n▬▬▬▬▬▬▬▬▬▬▬▬▬▬▬▬▬▬▬▬▬▬▬ \nSUPERSONIC\n9 rue Biscornet\, 75012 Paris\nMétro Bastille (sortie rue de lyon)\nhttp://supersonic-club.fr/\nInscription à la newsletter du Supersonic: http://bit.ly/1lWTnx4 \nTarifs : Gratuit
URL:http://supersonic-club.fr/event/the-molochs-en-concert-au-supersonic-free-entry/
LOCATION:SUPERSONIC\, 9 Rue Biscornet\, Paris\, 75012\, France
CATEGORIES:Concert,Johnnie Carwash,Pop / Rock / Folk,The Molochs,Young Like Old Men
ATTACH;FMTTYPE=image/jpeg:http://supersonic-club.fr/wp-content/uploads/2019/04/namethumb_w600px_img_event_ccf6e510-5c91-4f72-b40a-13b7aacea90b-2.jpg
END:VEVENT
END:VCALENDAR