BEGIN:VCALENDAR
VERSION:2.0
PRODID:-//Supersonic - ECPv6.15.20//NONSGML v1.0//EN
CALSCALE:GREGORIAN
METHOD:PUBLISH
X-WR-CALNAME:Supersonic
X-ORIGINAL-URL:http://supersonic-club.fr
X-WR-CALDESC:Évènements pour Supersonic
REFRESH-INTERVAL;VALUE=DURATION:PT1H
X-Robots-Tag:noindex
X-PUBLISHED-TTL:PT1H
BEGIN:VTIMEZONE
TZID:Europe/London
BEGIN:DAYLIGHT
TZOFFSETFROM:+0000
TZOFFSETTO:+0100
TZNAME:BST
DTSTART:20170326T010000
END:DAYLIGHT
BEGIN:STANDARD
TZOFFSETFROM:+0100
TZOFFSETTO:+0000
TZNAME:GMT
DTSTART:20171029T010000
END:STANDARD
BEGIN:DAYLIGHT
TZOFFSETFROM:+0000
TZOFFSETTO:+0100
TZNAME:BST
DTSTART:20180325T010000
END:DAYLIGHT
BEGIN:STANDARD
TZOFFSETFROM:+0100
TZOFFSETTO:+0000
TZNAME:GMT
DTSTART:20181028T010000
END:STANDARD
BEGIN:DAYLIGHT
TZOFFSETFROM:+0000
TZOFFSETTO:+0100
TZNAME:BST
DTSTART:20190331T010000
END:DAYLIGHT
BEGIN:STANDARD
TZOFFSETFROM:+0100
TZOFFSETTO:+0000
TZNAME:GMT
DTSTART:20191027T010000
END:STANDARD
END:VTIMEZONE
BEGIN:VEVENT
DTSTART;TZID=Europe/London:20181004T210000
DTEND;TZID=Europe/London:20181005T003000
DTSTAMP:20260421T015944
CREATED:20180925T111744Z
LAST-MODIFIED:20181002T101740Z
UID:3434-1538686800-1538699400@supersonic-club.fr
SUMMARY:Kaviar Special • The Dharma Jerks • Periods / Supersonic - Free
DESCRIPTION:▬ Le Supersonic présente ▬ \n \n▬▬▬ ENTREE LIBRE ▬▬▬▬ \n→ KAVIAR SPECIAL\n(Garage/Psych/Surf/Fuzz-rock – Howlin Banana Records/Beast Records/Azbin Records/Retard Records – Rennes\,FR) \n«Avec ‘Vortex’\, les Kaviar Special peuvent désormais regarder Ty Segall et les Thee Oh Sees droit dans les yeux. Chaque titre a l’excellence comme miroir et c’est peu dire que ce reflet n’est pas donné à tout le monde. « Vortex » signe la fin des allégeances outre-atlantistes. Désormais\, c’est devant nos nouveaux rois bretons qu’il faudra ployer le genou.» \n► Liker : https://www.facebook.com/KaviarSpecial/\n► Ecouter : https://soundcloud.com/kaviarspecial\n► Regarder : https://www.youtube.com/channel/UCLvwrnb5jPaaLwktqGO2MhQ/videos \n→ THE DHARMA JERKS\n(Rock garage – Paris) \nThe Dharma Jerks\, en vrai\, c’est 4 types qui ne peuvent pas se blairer et qui jouent de la musique pour éviter de se parler.\nC’est un batteur qui a la myxomatose mais qui espère lever des filles en valorisant son « côté punk »\, un guitariste aux allures germaniques qui veut se donner bonne conscience (et lever des filles) \, un chanteur super cool\, mais seulement parce que c’est lui qui a écrit la bio et un bassiste contremaître qui snobe tout son monde et lit Le Point.\nEn somme\, The Dharma Jerks\, c’est un peu comme la vie. Ça ne sert à rien\, c’est pas toujours joli-joli mais t’aimes bien te dire de temps en temps qu’elle a quelque chose à te dire.\nC’est un goût de fumée sur tes doigts collants\, du rouge qui tâche le nouveau chemisier de ta sœur\, un brin de style sur du pastiche\, une goutte d’alcool dans le microsillon d’un vinyle. \nLes 3 influences: The Velvet Underground\, Brian Jonestown Massacre\, Black Lips \n► Liker: https://www.facebook.com/thedharmajerks/\n► Ecouter: https://soundcloud.com/the-dharma-jerks \n→ PERIODS\n(Synthpunk – Rennes\,FR) \n«Periods est un groupe fraternel et amical ayant vu le jour il y 1 an entre Rennes et Paris.  Elles posent leurs ovaires sur la table et vous entraînent avec leurs riffs de synthé pré-menstruel.» \nLes 3 influences: Deux\, Devo\, Suicide \n► Liker : http://facebook.com/periodsynth/\n► Ecouter : http://periodsynth.bandcamp.com/releases\n► Regarder : http://facebook.com/periodsynth/videos/120711718738603/ \n▬▬▬ INFOS PRATIQUES ▬▬▬ \nJeudi 4 Octobre 2018\nEntrée gratuite  \n– Ouverture des portes à 18h30\n– Début des concerts vers 20h\n– Happy Hour de 18h30 à 20h (3€50 la pinte)\n– Hot Dog au bar \n▬▬▬▬▬▬▬▬▬▬▬▬▬▬▬▬▬▬▬▬▬▬▬ \nSUPERSONIC\n9 rue Biscornet\, 75012 Paris\nMétro Bastille (sortie rue de lyon)\nhttp://supersonic-club.fr/\nInscription à la newsletter du Supersonic: http://bit.ly/1lWTnx4 \nTarifs : Gratuit
URL:http://supersonic-club.fr/event/kaviar-special-howlin-banana-records-en-concert-entree-gratuite/
LOCATION:SUPERSONIC\, 9 Rue Biscornet\, Paris\, 75012\, France
CATEGORIES:Concert,KAVIAR SPECIAL,Periods,Pop / Rock / Folk,The Dharma Jerks
ATTACH;FMTTYPE=image/jpeg:http://supersonic-club.fr/wp-content/uploads/2018/09/namethumb_w600px_img_event_daf3a510-38ac-4f91-859a-1561981abf10-2.jpg
END:VEVENT
END:VCALENDAR