BEGIN:VCALENDAR
VERSION:2.0
PRODID:-//Supersonic - ECPv6.15.20//NONSGML v1.0//EN
CALSCALE:GREGORIAN
METHOD:PUBLISH
X-WR-CALNAME:Supersonic
X-ORIGINAL-URL:http://supersonic-club.fr
X-WR-CALDESC:Évènements pour Supersonic
REFRESH-INTERVAL;VALUE=DURATION:PT1H
X-Robots-Tag:noindex
X-PUBLISHED-TTL:PT1H
BEGIN:VTIMEZONE
TZID:Europe/London
BEGIN:DAYLIGHT
TZOFFSETFROM:+0000
TZOFFSETTO:+0100
TZNAME:BST
DTSTART:20220327T010000
END:DAYLIGHT
BEGIN:STANDARD
TZOFFSETFROM:+0100
TZOFFSETTO:+0000
TZNAME:GMT
DTSTART:20221030T010000
END:STANDARD
BEGIN:DAYLIGHT
TZOFFSETFROM:+0000
TZOFFSETTO:+0100
TZNAME:BST
DTSTART:20230326T010000
END:DAYLIGHT
BEGIN:STANDARD
TZOFFSETFROM:+0100
TZOFFSETTO:+0000
TZNAME:GMT
DTSTART:20231029T010000
END:STANDARD
BEGIN:DAYLIGHT
TZOFFSETFROM:+0000
TZOFFSETTO:+0100
TZNAME:BST
DTSTART:20240331T010000
END:DAYLIGHT
BEGIN:STANDARD
TZOFFSETFROM:+0100
TZOFFSETTO:+0000
TZNAME:GMT
DTSTART:20241027T010000
END:STANDARD
END:VTIMEZONE
BEGIN:VEVENT
DTSTART;TZID=Europe/London:20230929T190000
DTEND;TZID=Europe/London:20230929T230000
DTSTAMP:20260423T141705
CREATED:20230628T152201Z
LAST-MODIFIED:20230720T123228Z
UID:10974-1696014000-1696028400@supersonic-club.fr
SUMMARY:The Bridge City Sinners • Thee Cha Cha Chas • Human Toys / Supersonic (Free entry)
DESCRIPTION:WELCOME TO SUPERSONIC\nConcerts gratuits\, et nuits rock à Paris ! \n \nTHE BRIDGE CITY SINNERS\n(Alternative rock – Portland\, USA)\nFrom the misty\, pine-covered hills of the Pacific Northwest hail the Bridge City Sinners\, who span the continuum from prohibition era jazz to Appalachian death folk. This traditional string band line up bends the meaning of the word genre\, Playing festivals from Punk Rock Bowling\, to Muddy Roots\, to Oregon’s Bluegrass String Summit. They started their journey by busking on sidewalks across the country and now this supergroup of musicians find themselves on the national tour circuit. The Sinners still hold true to the DIY mentality of putting albums out on a self made record label\, Flail Records. They recently hit #70 on the Billboard charts\, top current album sales\, for the week of September 4th 2021 for their album “Unholy Hymns”. With talented musicianship and a punk as f***! live show\, this is one band you don’t want to miss.\nhttps://open.spotify.com/artist/67koLjNJIwd3at8sM8EAkt\nhttps://www.youtube.com/watch?v=uRHrXNyaeLc \nTHEE CHA CHA CHAS\n(Garage roll – Melbourne\, AUS)\nThee Cha Cha Chas are Lluis Fuzzhound and Kylie Kooks\, and they’ve been carving a place on the Melbourne band scene for sometime now. It’s a barrage of rough and raucous rock and roll from this one-woman-one-man duo.\nhttps://theechachachas.bandcamp.com/music\nhttps://www.youtube.com/watch?v=T7TnXsdSUQg \nHUMAN TOYS\n(Punk – Soundflat/Topsy Turvy – Paris\, FR)\nSex-charged erotica punk / Parisienne fetish princess Poupee Mecanik teams up with guitar legend Jon Von to form this deranged delictable duo !\nFFO / Si vous aimez : Stooges\, Cramps\, Ramones\nhttps://humantoys.bandcamp.com/\nhttps://youtu.be/PNVEFJed-8Q\n———————————\nVendredi 29 Septembre 2023\nEntrée gratuite\n• Ouverture des portes à 19h00\n• Happy Hour de 19h à 20h (3€50 la pinte)\n• Si vous êtes témoin ou victime d’une agression\, vous pouvez alerter le personnel du bar ou si vous préférez\, vous pouvez nous écrire à cette adresse: communication@supersonic-paris.fr\n———————————\nSUPERSONIC\n9 rue Biscornet\, 75012 Paris\nMétro Bastille (sortie rue de lyon) \nTarifs : Gratuit
URL:http://supersonic-club.fr/event/the-bridge-city-sinners-en-concert-au-supersonic-free-entry/
LOCATION:SUPERSONIC\, 9 Rue Biscornet\, Paris\, 75012\, France
CATEGORIES:Concert,Human Toys,Pop / Rock / Folk,Sowprog,SUPERSONIC,The Bridge City Sinners,Thee Cha Cha Chas
ATTACH;FMTTYPE=image/jpeg:http://supersonic-club.fr/wp-content/uploads/2023/06/namethumb_w600px_img_event_0bb6d8e7-24c2-49c1-b6b4-15465ebcd54b-1.jpg
END:VEVENT
END:VCALENDAR