BEGIN:VCALENDAR
VERSION:2.0
PRODID:-//Supersonic - ECPv6.15.20//NONSGML v1.0//EN
CALSCALE:GREGORIAN
METHOD:PUBLISH
X-WR-CALNAME:Supersonic
X-ORIGINAL-URL:http://supersonic-club.fr
X-WR-CALDESC:Évènements pour Supersonic
REFRESH-INTERVAL;VALUE=DURATION:PT1H
X-Robots-Tag:noindex
X-PUBLISHED-TTL:PT1H
BEGIN:VTIMEZONE
TZID:Europe/London
BEGIN:DAYLIGHT
TZOFFSETFROM:+0000
TZOFFSETTO:+0100
TZNAME:BST
DTSTART:20180325T010000
END:DAYLIGHT
BEGIN:STANDARD
TZOFFSETFROM:+0100
TZOFFSETTO:+0000
TZNAME:GMT
DTSTART:20181028T010000
END:STANDARD
BEGIN:DAYLIGHT
TZOFFSETFROM:+0000
TZOFFSETTO:+0100
TZNAME:BST
DTSTART:20190331T010000
END:DAYLIGHT
BEGIN:STANDARD
TZOFFSETFROM:+0100
TZOFFSETTO:+0000
TZNAME:GMT
DTSTART:20191027T010000
END:STANDARD
BEGIN:DAYLIGHT
TZOFFSETFROM:+0000
TZOFFSETTO:+0100
TZNAME:BST
DTSTART:20200329T010000
END:DAYLIGHT
BEGIN:STANDARD
TZOFFSETFROM:+0100
TZOFFSETTO:+0000
TZNAME:GMT
DTSTART:20201025T010000
END:STANDARD
END:VTIMEZONE
BEGIN:VEVENT
DTSTART;TZID=Europe/London:20190408T210000
DTEND;TZID=Europe/London:20190409T003000
DTSTAMP:20260424T005416
CREATED:20190306T181126Z
LAST-MODIFIED:20190306T181126Z
UID:4119-1554757200-1554769800@supersonic-club.fr
SUMMARY:Territory • Balms • Jumaï / Supersonic (Free entry)
DESCRIPTION:▬ Le Supersonic présente ▬ \n \n▬▬▬ ENTREE LIBRE ▬▬▬▬ \n→ TERRITORY\n(Post-punk shoegaze – White Lobster Records – Paris\,FR) \n«Les cool kids de TERRITORY\, quatuor parisien que vous avez sûrement croisé dans des bars quelque part entre Pigalle et Starsbourg – Saint-Denis\, sortent aujourd’hui chez White Lobster records Times\, New Romance\, un premier EP qui devrait raviver chez certains la flamme #shoegaze et #postpunk que l’on croyait un peu éteinte ces derniers temps.\nAmbiances vaporeuses et mélodies empruntes d’un romantisme incandescent\, TERRITORY marche sur les plates-bandes délaissées depuis un bail par les #DIIV\, #BeachFossils et consorts\, et semble annoncer le retour prochain d’une vague de nappes de guitare sur la capitale.» – Les Inrockuptibles \nLes influences: Neu\, DIIV \n► Liker : https://www.facebook.com/territoryyy/\n► Ecouter: https://soundcloud.com/territoryyy\n► Regarder: https://youtu.be/HHOwtVNWFZA \n→ BALMS\n(Grunge Shoegaze – Ideal Crash -micro label DIY- – San Francisco\, USA) \n«Pour leur premier album « Mirror »\, les Balms plongent leur son rock rêveur et aérien dans les profondeurs de l’âme.\nAprès des années d’expérimentation sonore passées à créer des mélodies à partir d’improvisations méditatives et hypnotiques\, le groupe se lance dans des morceaux qui s’affranchissent du format rock classique pour atteindre un niveau plus profond d’expression musicale.\nIls ont ainsi créé un voyage introspectif en 11 morceaux qui invitent au recueillement et à l’apaisement.\nEnregistré par Jack Shirley (Deafheaven\, King Woman\, Bosse-de-Nage) pour l’ambiance musicale brute et mixé avec précision par Justin Gerrish (Brand New\, Vampire Weekend\, The Strokes)\, « Mirror »\, avec son atmosphère cauchemardesque mais libératrice\, permet à celui qui l’écoute de se confronter à sa noirceur.» \nLes influences: …And You Will Know Us By The Trail Of Dead\, Red House Painters\, A Place To Bury Strangers \n► Liker : https://www.facebook.com/sfbalms/\n► Ecouter: https://balms.bandcamp.com/\n► Regarder: https://www.youtube.com/watch?v=GQKs-rLwxuA \n→ JUMAï\n(Mystic Pop – Angers\,FR) \n«Avec leur Mystic Pop à la fois planante et percutante\, JUMAï a su se faire une place sur la scène Angevine. Après plusieurs concerts au cours de ces deux dernières années ; première partie de KO KO MO et DELGRES\, ainsi qu’un passage au SXSW à Austin en 2018\, les 4 membres de JUMAï sont d’autant plus motivés à s’imposer sur la scène nationale. Restez attentifs vous risquez d’entendre parler d’eux prochainement !» \nLes influences: SUUNS\, PJ Harvey\, Fever Ray \n► Liker : https://www.facebook.com/jumaiband/\n► Ecouter: https://jumai.bandcamp.com/album/silent-blue-day\n► Regarder: https://youtu.be/0hRCCRC8khw \n▬▬▬ INFOS PRATIQUES ▬▬▬ \nLundi 8 Avril 2019\nEntrée gratuite \n– Ouverture des portes à 18h30\n– Début des concerts vers 20h\n– Happy Hour de 18h30 à 20h (3€50 la pinte)\n– Hot Dog au bar \n▬▬▬▬▬▬▬▬▬▬▬▬▬▬▬▬▬▬▬▬▬▬▬ \nSUPERSONIC\n9 rue Biscornet\, 75012 Paris\nMétro Bastille (sortie rue de lyon)\nhttp://supersonic-club.fr/\nInscription à la newsletter du Supersonic: http://bit.ly/1lWTnx4 \nTarifs : Gratuit
URL:http://supersonic-club.fr/event/territory-%e2%80%a2-balms-%e2%80%a2-jumai-supersonic-free-entry/
LOCATION:SUPERSONIC\, 9 Rue Biscornet\, Paris\, 75012\, France
CATEGORIES:Balms,Concert,Pop / Rock / Folk,Territory
ATTACH;FMTTYPE=image/jpeg:http://supersonic-club.fr/wp-content/uploads/2019/03/namethumb_w600px_img_event_53529412-fb96-4925-9efe-5a700262c149.jpg
END:VEVENT
END:VCALENDAR