BEGIN:VCALENDAR
VERSION:2.0
PRODID:-//Supersonic - ECPv6.15.20//NONSGML v1.0//EN
CALSCALE:GREGORIAN
METHOD:PUBLISH
X-ORIGINAL-URL:http://supersonic-club.fr
X-WR-CALDESC:Évènements pour Supersonic
REFRESH-INTERVAL;VALUE=DURATION:PT1H
X-Robots-Tag:noindex
X-PUBLISHED-TTL:PT1H
BEGIN:VTIMEZONE
TZID:Europe/London
BEGIN:DAYLIGHT
TZOFFSETFROM:+0000
TZOFFSETTO:+0100
TZNAME:BST
DTSTART:20220327T010000
END:DAYLIGHT
BEGIN:STANDARD
TZOFFSETFROM:+0100
TZOFFSETTO:+0000
TZNAME:GMT
DTSTART:20221030T010000
END:STANDARD
BEGIN:DAYLIGHT
TZOFFSETFROM:+0000
TZOFFSETTO:+0100
TZNAME:BST
DTSTART:20230326T010000
END:DAYLIGHT
BEGIN:STANDARD
TZOFFSETFROM:+0100
TZOFFSETTO:+0000
TZNAME:GMT
DTSTART:20231029T010000
END:STANDARD
BEGIN:DAYLIGHT
TZOFFSETFROM:+0000
TZOFFSETTO:+0100
TZNAME:BST
DTSTART:20240331T010000
END:DAYLIGHT
BEGIN:STANDARD
TZOFFSETFROM:+0100
TZOFFSETTO:+0000
TZNAME:GMT
DTSTART:20241027T010000
END:STANDARD
END:VTIMEZONE
BEGIN:VEVENT
DTSTART;TZID=Europe/London:20230215T190000
DTEND;TZID=Europe/London:20230215T230000
DTSTAMP:20260420T191219
CREATED:20230110T155701Z
LAST-MODIFIED:20230110T155701Z
UID:9605-1676487600-1676502000@supersonic-club.fr
SUMMARY:Bei-Jing • Argentique • Temps Calme / Supersonic (Free entry)
DESCRIPTION:WELCOME TO SUPERSONIC\nConcerts gratuits\, Nuits rock et Disquaire à Paris ! \n \nBEI-JING\n(Synth rock – Paris\, FR)\nBei-Jing propose sous fond de new wave et de rock psyché\, un univers éclectique\, pour révéler ses mélodies envoûtantes et accrocheuses sur scène. Bercé par des influences comme Tame Impala\, Pink Floyd ou Depeche Mode\, ses chansons vous transportent dans un monde faisant écho à toutes les générations.\nhttps://soundcloud.com/bei-jing\nhttps://www.youtube.com/watch?v=NkowvRAWrJk… \nARGENTIQUE\n(Electro pop – Lyon\, FR)\nArgentique\, c’est un trio qui vous emmène explorer les rivages d’une pop riche et mélodieuse\, teintée d’un amour pour la musique électronique et les tubes des années 2000.\nArgentique\, ce sont 3 personnalités qui s’unissent et vibrent ensemble pour créer une musique pleine de sens\, fidèle à leurs influences et à leurs passions.\nArgentique sur scène\, c’est comme un chocolat chaud en hiver\, ou un cocktail détox l’été : c’est revigorant\, ça donne de l’énergie et ça fait chaud au cœur !\nhttps://soundcloud.com/argentiquegang\nhttps://www.youtube.com/watch?v=J2tP8VsKHA8 \nTEMPS CALME\n(Psyché pop – Lille\, FR)\nTemps Calme est un trio lillois de musique électronique – psyché pop.\nAprès un premier EP au printemps 2019\, le groupe dévoilait en novembre 2020 son premier album « Circuit ». Vox III\, leur deuxième album est sorti le 7 octobre 2022.\nÀ la croisée de la musique électronique\, du krautrock\, du jazz et de la pop psychédélique\, Temps Calme propose des titres liant reverbs de guitare à la chaleur des synthés analogiques\, entraînés par une batterie appuyant un chant mélodique et entêtant\, développant des atmosphères psychédéliques\, mélancoliques ou rétro futuristes.\nhttps://tempscalme.bandcamp.com\nhttps://www.youtube.com/watch?v=vYywFXYaTOc\n———————————\nMercredi 15 Juin 2023\nEntrée gratuite\n• Ouverture des portes à 19h00\n• Happy Hour de 19h à 20h (3€50 la pinte)\n• Si vous êtes témoin ou victime d’une agression\, vous pouvez alerter le personnel du bar ou si vous préférez\, vous pouvez nous écrire à cette adresse: communication@supersonic-paris.fr\n———————————\nSUPERSONIC\n9 rue Biscornet\, 75012 Paris\nMétro Bastille (sortie rue de lyon) \nTarifs : Gratuit
URL:http://supersonic-club.fr/event/bei-jing-argentique-temps-calme-supersonic-free-entry/
LOCATION:SUPERSONIC\, 9 Rue Biscornet\, Paris\, 75012\, France
CATEGORIES:Argentique,Bei-jing,Concert,Pop / Rock / Folk,Sowprog,SUPERSONIC,Temps Calme
ATTACH;FMTTYPE=image/jpeg:http://supersonic-club.fr/wp-content/uploads/2023/01/namethumb_w600px_img_event_ea0ef920-a28c-4e00-a975-e123cb20b502.jpg
END:VEVENT
END:VCALENDAR