BEGIN:VCALENDAR
VERSION:2.0
PRODID:-//Supersonic - ECPv6.15.20//NONSGML v1.0//EN
CALSCALE:GREGORIAN
METHOD:PUBLISH
X-ORIGINAL-URL:http://supersonic-club.fr
X-WR-CALDESC:Évènements pour Supersonic
REFRESH-INTERVAL;VALUE=DURATION:PT1H
X-Robots-Tag:noindex
X-PUBLISHED-TTL:PT1H
BEGIN:VTIMEZONE
TZID:Europe/London
BEGIN:DAYLIGHT
TZOFFSETFROM:+0000
TZOFFSETTO:+0100
TZNAME:BST
DTSTART:20220327T010000
END:DAYLIGHT
BEGIN:STANDARD
TZOFFSETFROM:+0100
TZOFFSETTO:+0000
TZNAME:GMT
DTSTART:20221030T010000
END:STANDARD
BEGIN:DAYLIGHT
TZOFFSETFROM:+0000
TZOFFSETTO:+0100
TZNAME:BST
DTSTART:20230326T010000
END:DAYLIGHT
BEGIN:STANDARD
TZOFFSETFROM:+0100
TZOFFSETTO:+0000
TZNAME:GMT
DTSTART:20231029T010000
END:STANDARD
BEGIN:DAYLIGHT
TZOFFSETFROM:+0000
TZOFFSETTO:+0100
TZNAME:BST
DTSTART:20240331T010000
END:DAYLIGHT
BEGIN:STANDARD
TZOFFSETFROM:+0100
TZOFFSETTO:+0000
TZNAME:GMT
DTSTART:20241027T010000
END:STANDARD
END:VTIMEZONE
BEGIN:VEVENT
DTSTART;TZID=Europe/London:20230906T190000
DTEND;TZID=Europe/London:20230906T230000
DTSTAMP:20260420T162315
CREATED:20230718T110724Z
LAST-MODIFIED:20230818T114638Z
UID:11176-1694026800-1694041200@supersonic-club.fr
SUMMARY:Talk To Her • The Funeral Warehouse • Berling Berlin / Supersonic (Free entry)
DESCRIPTION:Cette soirée plaira aux fans de… The Cure\, Actors & Interpol \n \nTALK TO HER\n(Electro dark wave – Padua\, ITA)\nLOVE WILL COME AGAIN is the debut album of the italian combo TALK TO HER out in 2020 via Icy Cold Records and produced by Matteo Scarpa (KILL YOUR BOYFRIEND) It’s an album about love\, innocence\, suspicion\, pain and grief. A dialogue with our inner ghosts. Both releases have gathered excellent reviews on magazines and music blogs all over Europe and the Uk.\nHOME\, their previous EP (2018 – Shyrec Rec). is an attempted exorcism to cleanse us of monotonous life-style routines\, a story of excess and discovery\, haphazard getaways and unexpected returns\, overwhelming joys and the growing awareness that some of our milestones in the end are just all show.\nIn 2022 the band embarked in their very first European Tour and played a few important Festivals in the dark scene like Sinner’s Day Festival in Belgium\, and Post-Punk Strikes Back Again in Portugal.\nThe band is now ready to get back on the road for their second European tour!\nhttps://talktoher.bandcamp.com/album/love-will-come-again\nhttps://www.youtube.com/watch?v=v0_m7oSrG_A \nTHE FUNERAL WAREHOUSE\n(Post punk – Icy Cold Records – Paris\, FR)\nThe Funeral Warehouse est un trio de post-punk qui arpente les salles parisiennes depuis près de sept ans. À l’initiative du projet nous trouvons le chanteur/guitariste Sébastien Defiolle qui produit alors en solo ses premières compositions comme un hommage à la cold wave britannique de la fin des 70’s. Sa rencontre avec le bassiste Aurélien Jobard confirme les racines musicales du groupe tout en lui ajoutant une amplitude sonore shoegaze. Le mur du son de The Funeral Warehouse est enfin complété quelques mois plus tard par la batterie de Rodolphe Goujet donnant accès à des sessions lives qui ont fait la réputation du trio. C’est après un travail de cinq années qu’ils nous livrent enfin leur premier LP HOURS & DAYS dont les 10 chansons permettent de se laisser porter par les multiples facettes musicales du groupe : de la rage primaire d’un Miles Away à l’entêtant Can’t See Why\, The Funeral Warehouse aime à planter un univers macabre et froid dans lequel l’auditeur se voit trimballer au rythme de vagues sonores intenses et voluptueuses.\nhttps://thefuneralwarehouse.bandcamp.com\nhttps://www.youtube.com/channel/UCHnuGJdUcieaFkhbvQpYGgw \n BERLING BERLIN\n(Post punk – Paris\, FR)\nLe groupe de rock indépendant Français Berling Berlin se forme à Paris en 2017 lorsque le chanteur du groupe arrive depuis sa lointaine Montevideo (Uruguay) et publie une annonce\nen ligne à la recherche de musiciens pour démarrer un projet musical.\nMélangeant sa musique avec émotions et souvenirs du passé\, Berling Berlin créer une atmosphère mélancolique avec ses guitares complexes et pleines de rage\, ses synthétiseurs et ligne de basse immersifs\, ses batteries palpitantes et une voix baryton pénétrante qui sert des paroles écrites principalement en anglais mais aussi en français et en espagnol. Après avoir sorti quelques singles et deux EP\, le groupe se lance dans l’enregistrement d’un album auto-produit sorti début 2022.\nFFO / Si vous aimez : Interpol\, New Order\, Working’s Men Club\nhttps://soundcloud.com/berlingberlin\nhttps://www.youtube.com/channel/UC_ovl5RA4wPztgBzDsHTFRA\n———————————\nMercredi 6 Septembre 2023\nEntrée gratuite\n• Ouverture des portes à 19h00\n• Happy Hour de 19h à 20h (3€50 la pinte)\n• Si vous êtes témoin ou victime d’une agression\, vous pouvez alerter le personnel du bar ou si vous préférez\, vous pouvez nous écrire à cette adresse: communication@supersonic-paris.fr\n———————————\nSUPERSONIC\n9 rue Biscornet\, 75012 Paris\nMétro Bastille (sortie rue de lyon) \nTarifs : Gratuit
URL:http://supersonic-club.fr/event/talk-to-her-the-funeral-warehouse-teledram-supersonic-free-entry/
LOCATION:SUPERSONIC\, 9 Rue Biscornet\, Paris\, 75012\, France
CATEGORIES:Berling Berlin,Concert,Pop / Rock / Folk,Sowprog,SUPERSONIC,Talk To Her,The Funeral Warehouse
ATTACH;FMTTYPE=image/jpeg:http://supersonic-club.fr/wp-content/uploads/2023/07/namethumb_w600px_img_event_ad0a52e8-d6c4-43c3-8448-70c64a5cace3-2.jpg
END:VEVENT
END:VCALENDAR