BEGIN:VCALENDAR
VERSION:2.0
PRODID:-//Supersonic - ECPv6.15.20//NONSGML v1.0//EN
CALSCALE:GREGORIAN
METHOD:PUBLISH
X-ORIGINAL-URL:http://supersonic-club.fr
X-WR-CALDESC:Évènements pour Supersonic
REFRESH-INTERVAL;VALUE=DURATION:PT1H
X-Robots-Tag:noindex
X-PUBLISHED-TTL:PT1H
BEGIN:VTIMEZONE
TZID:Europe/London
BEGIN:DAYLIGHT
TZOFFSETFROM:+0000
TZOFFSETTO:+0100
TZNAME:BST
DTSTART:20250330T010000
END:DAYLIGHT
BEGIN:STANDARD
TZOFFSETFROM:+0100
TZOFFSETTO:+0000
TZNAME:GMT
DTSTART:20251026T010000
END:STANDARD
BEGIN:DAYLIGHT
TZOFFSETFROM:+0000
TZOFFSETTO:+0100
TZNAME:BST
DTSTART:20260329T010000
END:DAYLIGHT
BEGIN:STANDARD
TZOFFSETFROM:+0100
TZOFFSETTO:+0000
TZNAME:GMT
DTSTART:20261025T010000
END:STANDARD
BEGIN:DAYLIGHT
TZOFFSETFROM:+0000
TZOFFSETTO:+0100
TZNAME:BST
DTSTART:20270328T010000
END:DAYLIGHT
BEGIN:STANDARD
TZOFFSETFROM:+0100
TZOFFSETTO:+0000
TZNAME:GMT
DTSTART:20271031T010000
END:STANDARD
END:VTIMEZONE
BEGIN:VEVENT
DTSTART;TZID=Europe/London:20260522T190000
DTEND;TZID=Europe/London:20260522T230000
DTSTAMP:20260420T221547
CREATED:20251202T140014Z
LAST-MODIFIED:20260413T171545Z
UID:17713-1779476400-1779490800@supersonic-club.fr
SUMMARY:Telenovela • SINK • Pink's Wife
DESCRIPTION:Cette soirée plaira aux fans de… Florence & The Machine\, Wet Leg & Water From Your Eyes \n \nTELENOVA (22h30)\n(Dream pop – Melbourne\, AUS)\nAncré par le single phare THE DEEP\, une déclaration d’intention cinématographique et entraînante\, THE WARNING élargit l’univers de Telenova pour le rendre plus urgent et exposé que jamais. Après leur album Time Is A Flower (2025)\, classé n° 2 en Australie\, ce nouvel opus confirme l’évolution du trio.\nAvec plusieurs tournées nationales\, des participations à de grands festivals en Australie et en Europe\, et des premières parties pour forgirl in red\, St. Vincent et Ruel\, Telenova est devenu l’un des groupes les plus captivants du pays. Le groupe a notamment remporté le prix AIR Breakthrough Artist 2022\, plusieurs prix pour ses clips vidéo et a fait une apparition remarquée dans le Triple J Hottest 100.\nL’univers distinctif de Telenova\, composé de chansons sombres\, basées sur des samples et imprégnées d’influences trip-hop et électro\, est le fruit de la créativité de la chanteuse\, compositrice et cinéaste philippino-australienne Angeline Armstrong\, accompagnée des multi-instrumentistes Edward Quinn et Joshua Moriarty.\nhttps://telenovamusic.bandcamp.com/\nhttps://www.youtube.com/watch?v=39rgEYAaJkA \nSINK (21h30)\n(Psycho prog rock – Reims\, FR)\nSINK est un concentré rémois de rock psychédélique et progressif. Deux voix s’entremêlent au travers de sonorités tantôt vaporeuses\, tantôt explosives. SINK explore la nostalgie\, le spleen\, le lâcher-prise. Ferme les yeux\, abandonne-toi un instant et laisse-toi porter vers les profondeurs…\nLes 3 influences : Radiohead\, Crumb & The Wytches\nhttps://youtube.com/@sink-music?si=3yORp2cODql7w8Hq \nPINK’S WIFE (20h30)\n(Alt rock – Paris\, FR)\nEntre rock alternatif et neo-soul\, Pink’s Wife se démarque de par ses influences diverses : entre le jeu brut et les ballades aux influences du guitariste Hadrian\, le tout embelli par les lignes de basses groovy et jazzy\, la voix sulfureuse de la chanteuse/bassiste Diksha et la batterie hypnotique de jules\, le groupe a créé un mélange entre soul et grunge dans une direction qui leur est propre.\nhttps://www.instagram.com/p/C40YTuCN8EL/?hl=fr\n———————————\nVendredi 22 Mai 2026\nEntrée gratuite\n• Ouverture des portes à 19h00\n• Happy Hour de 19h à 20h\n• Si vous êtes témoin ou victime d’une agression\, vous pouvez alerter le personnel du bar ou si vous préférez\, vous pouvez nous écrire à cette adresse: communication@supersonic-paris.fr\n———————————\nSUPERSONIC\n9 rue Biscornet\, 75012 Paris\nMétro Bastille (sortie rue de lyon) \nTarifs : Gratuit
URL:http://supersonic-club.fr/event/telenovela/
LOCATION:SUPERSONIC\, 9 Rue Biscornet\, Paris\, 75012\, France
CATEGORIES:Concert,Pink's Wife,Pop / Rock / Folk,SINK,Sowprog,SUPERSONIC,Supersonic Paris
ATTACH;FMTTYPE=image/jpeg:http://supersonic-club.fr/wp-content/uploads/2025/12/namethumb_w600px_img_event_aa136175-288e-4035-9818-c52dbc87d883-1.jpg
END:VEVENT
BEGIN:VEVENT
DTSTART;TZID=Europe/London:20260522T230000
DTEND;TZID=Europe/London:20260523T060000
DTSTAMP:20260420T221547
CREATED:20260323T155040Z
LAST-MODIFIED:20260323T155040Z
UID:18692-1779490800-1779516000@supersonic-club.fr
SUMMARY:Friday I'm In Love / New Wave Party
DESCRIPTION:WELCOME TO SUPERSONIC\nConcerts gratuits\, et nuits rock à Paris ! \n \nFriday I’m In Love is back !\nEntre fièvre froide et nappes synthétiques\, là où les lundis sont bleus et où les garçons ne pleurent pas\, rendez-vous pour danser sur les meilleurs sons new wave post-punk des années 80s à nos jours !\nLive Tribute à 1h\nDj set New Wave\, Post-punk\nThe Cure / Depeche Mode / The Smiths / Joy Division / Blondie / David Bowie / Billy Idol / New Order / The Clash / Devo / Talk Talk / Simple Minds / Duran Duran / Eurythmics / Orchestral Manoeuvre In The Dark / A-Ha / Indochine / The Police / Pixies / INXS / Kim Wilde / REM / Tears For Fears / …\nLa playlist de la soirée : https://spoti.fi/3LEubIQ\n———————————\nEntrée à 15€ de 23h à 6h\n• Vestiaire au 2ème étage\n• Entrée interdite aux mineur.e.s\n• Si vous êtes témoin ou victime d’une agression\, vous pouvez alerter le personnel du bar ou si vous préférez\, vous pouvez nous écrire à cette adresse: communication@supersonic-paris.fr\n———————————\nSUPERSONIC\n9 rue Biscornet\, 75012 Paris\nMétro Bastille (sortie rue de lyon) \nTarifs : Ticket : 10€ \nBilletteries : Dice
URL:http://supersonic-club.fr/event/friday-im-in-love-new-wave-party-5/
LOCATION:SUPERSONIC\, 9 Rue Biscornet\, Paris\, 75012\, France
CATEGORIES:Concert,Pop / Rock / Folk,Sowprog,SUPERSONIC,Supersonic Paris
ATTACH;FMTTYPE=image/jpeg:http://supersonic-club.fr/wp-content/uploads/2026/03/namethumb_w600px_img_event_6f587c09-87e1-4f79-b98d-ea4c01376716.jpg
END:VEVENT
BEGIN:VEVENT
DTSTART;TZID=Europe/London:20260525T190000
DTEND;TZID=Europe/London:20260525T230000
DTSTAMP:20260420T221547
CREATED:20260319T161725Z
LAST-MODIFIED:20260416T172043Z
UID:18672-1779735600-1779750000@supersonic-club.fr
SUMMARY:Monday Tribute - Hard Rock
DESCRIPTION:Les dimanches du Supersonic \n \nSi t’as envie d’une soirée qui combine les riffs cultes de Black Sabbath\, Deep Purple\, Iron Maiden ou encore Led Zeppelin… Réserve ton lundi 25 mai\, on t’embarque à notre soirée Monday Tribute « Hard Rock »\nAu programme : 5 groupes locaux prêts à faire trembler les murs en revisitant ces classiques intemporels entre solos enflammés\, voix puissantes et énergie brute\nLe Supersonic continue de faire vivre\, chaque dimanche depuis 10 ans\, les plus grands noms du rock à travers ses incontournables Sunday Tribute\nT’as une mission : bloquer ton 25 mai et venir chanter et danser à nos côtés !\n———————————\nDimanche 25 Mai 2026\nEntrée gratuite\n• Ouverture des portes à 19h\n———————\nSUPERSONIC\nConcerts gratuits\, Nuits rock et Disquaire à Paris\nhttp://supersonic-paris.fr/\n9 rue Biscornet\, 75012 Paris\nMétro Bastille (sortie rue de lyon) \nTarifs : Gratuit
URL:http://supersonic-club.fr/event/sunday-tribute-hard-rock/
LOCATION:SUPERSONIC\, 9 Rue Biscornet\, Paris\, 75012\, France
CATEGORIES:Concert,Pop / Rock / Folk,Sowprog,SUPERSONIC,Supersonic Paris
ATTACH;FMTTYPE=image/jpeg:http://supersonic-club.fr/wp-content/uploads/2026/03/namethumb_w600px_img_event_02eb0fe7-2179-46cd-b5ec-e2b867eba97a-3.jpg
END:VEVENT
BEGIN:VEVENT
DTSTART;TZID=Europe/London:20260529T230000
DTEND;TZID=Europe/London:20260530T060000
DTSTAMP:20260420T221547
CREATED:20260415T154420Z
LAST-MODIFIED:20260415T154420Z
UID:18934-1780095600-1780120800@supersonic-club.fr
SUMMARY:Où Va Le Monde / Nuit pop française
DESCRIPTION:WELCOME TO SUPERSONIC\nConcerts gratuits\, et nuits rock à Paris ! \n \nOÙ VA LE MONDE ?\nAvis aux amoureux et amoureuses de la chanson française\, notre soirée french pop « OÙ VA LE MONDE » est faite pour vous !\nSur le dancefloor\, des tubes allant d’Etienne Daho à La Femme\, de Céline Dion à Sexy Sushi\, en passant par Les Rita Mitsouko\, Mylène Farmer\, Goldman\, L’Impératrice\, Christophe\, Françoise Hardy\, Brigitte Bardot\, Jacques Dutronc…\nViens danser\, chanter\, crier\, le monde peut bien attendre !\nLive Tribute à 1h par Les Michel Druckers\nDJ set French Pop d’Alex Croq Mac et Vladimir Platine\nSi tu aimes: Niagara\, Indochine\, Etienne Daho\, Les Rita Mitsouko\, France Gall\, Alain Bashung\, Michel Polnareff\, Celine Dion\, Jean Jacques Goldman\, Serge Gainsbourg\, Lio\, Christophe\, Françoise Hardy\, Brigitte Bardot\, Michel Berger\, Jacques Dutronc\, Mylene Farmer\, Taxi Girl\, Elli & Jacno\, Axel Bauer\, Laurent Voulzy\, Alain Souchon…\nPour t’ambiancer dès maintenant : https://spoti.fi/3CUaGIg\n———————————\nEntrée à 10€ de 23h à 6h\n• Vestiaire au 2ème étage\n• Entrée interdite aux mineur.e.s\n• Si vous êtes témoin ou victime d’une agression\, vous pouvez alerter le personnel du bar ou si vous préférez\, vous pouvez nous écrire à cette adresse: communication@supersonic-paris.fr\n———————————\nSUPERSONIC\n9 rue Biscornet\, 75012 Paris\nMétro Bastille (sortie rue de lyon) \nTarifs : Ticket : 15€ \nBilletteries : Dice
URL:http://supersonic-club.fr/event/ou-va-le-monde-nuit-pop-francaise-2/
LOCATION:SUPERSONIC\, 9 Rue Biscornet\, Paris\, 75012\, France
CATEGORIES:Clubbing,Pop / Rock / Folk,Sowprog,SUPERSONIC,Supersonic Paris
ATTACH;FMTTYPE=image/jpeg:http://supersonic-club.fr/wp-content/uploads/2026/04/namethumb_w600px_img_event_346a3625-439e-4450-b6bf-c8b0cd281d19.jpg
END:VEVENT
BEGIN:VEVENT
DTSTART;TZID=Europe/London:20260531T190000
DTEND;TZID=Europe/London:20260531T230000
DTSTAMP:20260420T221547
CREATED:20260318T183602Z
LAST-MODIFIED:20260318T183602Z
UID:18670-1780254000-1780268400@supersonic-club.fr
SUMMARY:Sunday Tribute - Supertramp
DESCRIPTION:Les dimanches du Supersonic \n \nTous les dimanches (ou jours fériés)\, le club rock de Bastille rend hommage à des grands noms de l’histoire du rock en organisant ses mythiques soirées « Sunday Tribute »\nSupertramp a transformé le rock progressif des années 70 en une fusion de sophistication musicale et de mélodies accrocheuses. Avec des albums comme « Crime of the Century » et « Breakfast in America »\, le groupe a su marier l’intellectuel et le populaire\, des arrangements complexes à des refrains radio-friendly\nLeurs compositions\, tantôt introspectives\, tantôt satiriques\, capturent des thèmes aussi divers que la quête de sens dans un monde moderne et l’aliénation sociale\, tout en gardant une touche de légèreté et d’optimisme\nPour ce Monday Tribute\, on vous donne rdv au Supersonic le lundi 31 mai ! Plusieurs groupes locaux joueront les meilleurs titres de Supertramp\n———————————\nDimanche 31 Mai 2026\nEntrée gratuite\n• Ouverture des portes à 19h\n—\nSUPERSONIC\nConcerts gratuits\, Nuits rock et Disquaire à Paris\nhttp://supersonic-paris.fr/\n9 rue Biscornet\, 75012 Paris\nMétro Bastille (sortie rue de lyon) \nTarifs : Gratuit
URL:http://supersonic-club.fr/event/sunday-tribute-supertramp/
LOCATION:SUPERSONIC\, 9 Rue Biscornet\, Paris\, 75012\, France
CATEGORIES:Concert,Pop / Rock / Folk,Sowprog,SUPERSONIC,Supersonic Paris
ATTACH;FMTTYPE=image/jpeg:http://supersonic-club.fr/wp-content/uploads/2026/03/namethumb_w600px_img_event_634e1256-99d5-4afd-9db6-b36c5d9f1025.jpg
END:VEVENT
BEGIN:VEVENT
DTSTART;TZID=Europe/London:20260603T190000
DTEND;TZID=Europe/London:20260603T230100
DTSTAMP:20260420T221547
CREATED:20260313T154006Z
LAST-MODIFIED:20260313T174338Z
UID:18619-1780513200-1780527660@supersonic-club.fr
SUMMARY:Ringlets • Isocay
DESCRIPTION:Si vous êtes fan de… Sorry\, Dry Cleaning & Dog Race \n \nRINGLETS (22h00)\n(Post punk – Nouvelle-Zélande)\nLe quatuor post-punk Ringlets\, d’une énergie débordante\, a émergé de la scène musicale d’Aotearoa en 2021\, se taillant une place grâce à un mélange unique d’humour subtil\, de fougue et d’une maîtrise technique évidente. Forts d’une section rythmique solide comme le roc et de deux des meilleurs paroliers et compositeurs d’Auckland\, les Ringlets se sont rapidement forgé une solide réputation.\nhttps://ringlets.bandcamp.com/music\nhttps://www.youtube.com/watch?v=1b04Rar4JQk \nISOCAY (21h00)\n(Rock post punk – Arles\, FR)\nISOCAY est un jeune groupe de Post Punk Arlésien formé fin 2023. Après avoir passé un à répéter dans la cave du bassiste\, le groupe ne s’arrête plus; un premier EP « Take a Seat » sorti le 21 Juin\, un clip et des concerts à Marseille\, Montpellier et Arles. Côté style\, on évolue dans un rock énergique\, avec des influences post-punk et garage (Sonic Youth\, Iguana Death Cult\, Gang of Four\, The Strokes).\nISOCAY c’est quatre mecs du sud de la France qui essayent de réveiller une ville ancienne avec des mélodies et du chaos. Avec leurs live nerveux\, le groupe cherche à maintenir avec le public une ambiance fiévreuse et une énergie dansante.\nLes 3 influences : Sonic Youth\, Shame\, Deeper\nhttps://isocay.bandcamp.com/\nhttps://www.youtube.com/@isocayband \nLa suite de la programmation arrive très vite !\n———————————\nMercredi 3 Juin 2026\nEntrée gratuite\n• Ouverture des portes à 19h00\n• Happy Hour de 19h à 20h\n• Si vous êtes témoin ou victime d’une agression\, vous pouvez alerter le personnel du bar ou si vous préférez\, vous pouvez nous écrire à cette adresse: communication@supersonic-paris.fr\n———————————\nSUPERSONIC\n9 rue Biscornet\, 75012 Paris\nMétro Bastille (sortie rue de lyon) \nTarifs : Gratuit
URL:http://supersonic-club.fr/event/ringlets-isocay/
LOCATION:SUPERSONIC\, 9 Rue Biscornet\, Paris\, 75012\, France
CATEGORIES:Concert,Isocay,Pop / Rock / Folk,Ringlets,Sowprog,SUPERSONIC,Supersonic Paris
ATTACH;FMTTYPE=image/jpeg:http://supersonic-club.fr/wp-content/uploads/2026/03/namethumb_w600px_img_event_b3dd7157-d342-4f47-8b64-34b2fba3f6bd-1.jpg
END:VEVENT
BEGIN:VEVENT
DTSTART;TZID=Europe/London:20260607T190000
DTEND;TZID=Europe/London:20260607T230000
DTSTAMP:20260420T221547
CREATED:20260403T130412Z
LAST-MODIFIED:20260403T130412Z
UID:18781-1780858800-1780873200@supersonic-club.fr
SUMMARY:Sunday Tribute - Pink Floyd
DESCRIPTION:Les dimanches du Supersonic \n \nTous les dimanches depuis 2016\, le Supersonic rend hommage aux grands noms du rock et de la pop. Plusieurs groupes locaux monteront sur scène pour vous rejouer en live les plus gros tubes de l’histoire\nAmbiance psychédélique assurée le temps d’une soirée avec notre Sunday Tribute consacrée à Pink Floyd\nTous les dimanches et les jours fériés\, on célèbre les icônes de l’histoire du rock et de la pop avec nos soirées gratuites « Sunday Tribute » où des groupes locaux viennent réinterpréter les hits de ces légendes\nDes titres emblématiques comme « Comfortably Numb »\, « Wish You Were Here » ou encore « Another Brick in the Wall »\, seront revisités pour une soirée unique\, entre douceur et envolées électriques\n(Re)vivez l’univers façonné par David Gilmour\, Roger Waters\, Richard Wright et Nick Mason\, et laissez-vous emporter dans une expérience où Pink Floyd reprend vie sur scène\n———————————\nDimanche 7 Juin 2026\nEntrée gratuite\n• Ouverture des portes à 19h\n———————————\nSUPERSONIC\nConcerts gratuits\, Nuits rock et Disquaire à Paris\nhttp://supersonic-paris.fr/\n9 rue Biscornet\, 75012 Paris\nMétro Bastille (sortie rue de lyon) \nTarifs : Gratuit
URL:http://supersonic-club.fr/event/sunday-tribute-pink-floyd-2/
LOCATION:SUPERSONIC\, 9 Rue Biscornet\, Paris\, 75012\, France
CATEGORIES:Concert,Pop / Rock / Folk,Sowprog,SUPERSONIC,Supersonic Paris
ATTACH;FMTTYPE=image/jpeg:http://supersonic-club.fr/wp-content/uploads/2026/04/namethumb_w600px_img_event_67307fda-390f-487e-bb1e-bfcaeffc12d5.jpg
END:VEVENT
BEGIN:VEVENT
DTSTART;TZID=Europe/London:20260612T230000
DTEND;TZID=Europe/London:20260613T060000
DTSTAMP:20260420T221547
CREATED:20260413T133827Z
LAST-MODIFIED:20260413T133827Z
UID:18859-1781305200-1781330400@supersonic-club.fr
SUMMARY:As It Was / Nuit Modern Pop
DESCRIPTION:WELCOME TO SUPERSONIC\nConcerts gratuits\, et nuits rock à Paris ! \n \nAs It Was\nEntre les beats futuristes de Charli XCX et les hymnes Pop d’Harry Styles\, le Supersonic met à l’honneur la Gen Z le temps d’une soirée ou l’on dansera toute la nuit sur les étonnants tubes de demain\nDJ Set Modern Pop de Phillipe Catering et Vynil Coyote\nLive Tribute à 1h00 de Le Camino\nDans la playlist :\nHarry Styles\, Wet Leg\, Taylor Swift\, Billie Eilish\, Dua Lipa\, The Weeknd\, Tame Impala\, Kendrick Lamar\, Phoebe Bridgers\, Childish Gambino\, The 1975\, Tyler The Creator\, Tove Lo\, Halsey\, Girl In Red\, Rosalia\, Charli XCX\, Lewis Capaldi\, Caroline Polachek\, Juliette Armanet\, Maggie Rogers\, Maisie Peters\, Beabadoobee\, Lorde\, Lloyle Carner…\nPour t’ambiancer dès maintenant : https://shorturl.at/chy28\n———————————\nEntrée à 10€ de 23h à 6h\n• Vestiaire au 2ème étage\n• Entrée interdite aux mineur.e.s\n• Si vous êtes témoin ou victime d’une agression\, vous pouvez alerter le personnel du bar ou si vous préférez\, vous pouvez nous écrire à cette adresse: communication@supersonic-paris.fr\n———————————\nSUPERSONIC\n9 rue Biscornet\, 75012 Paris\nMétro Bastille (sortie rue de lyon) \nTarifs : Ticket : 15€ \nBilletteries : Dice
URL:http://supersonic-club.fr/event/as-it-was-nuit-modern-pop-9/
LOCATION:SUPERSONIC\, 9 Rue Biscornet\, Paris\, 75012\, France
CATEGORIES:Clubbing,Pop / Rock / Folk,Sowprog,SUPERSONIC,Supersonic Paris
ATTACH;FMTTYPE=image/jpeg:http://supersonic-club.fr/wp-content/uploads/2026/04/namethumb_w600px_img_event_e650973c-9161-4d42-9339-837681438589.jpg
END:VEVENT
BEGIN:VEVENT
DTSTART;TZID=Europe/London:20260614T190000
DTEND;TZID=Europe/London:20260614T230000
DTSTAMP:20260420T221547
CREATED:20260403T130857Z
LAST-MODIFIED:20260403T130857Z
UID:18783-1781463600-1781478000@supersonic-club.fr
SUMMARY:Sunday Tribute - The Libertines
DESCRIPTION:Les dimanches du Supersonic \n \nTous les dimanches depuis 2016\, le Supersonic rend hommage aux grands noms du rock et de la pop. Plusieurs groupes locaux monteront sur scène pour vous rejouer en live les plus gros tubes de l’histoire\nCap sur l’énergie brute du rock anglais avec notre soirée gratuite Sunday Tribute spéciale The Libertines\nTous les dimanches et les jours fériés\, on célèbre les icônes de l’histoire du rock et de la pop avec nos « Sunday Tribute » où des groupes locaux viennent réinterpréter les hits de ces légendes\nPour faire vibrer la salle on a fait appel à des groupes parisiens pour rejouer leurs morceaux incontournables allant de « Don’t Look Back Into The Sun » à « Can’t Stand Me Now » en passant par « Time for Heroes »\nEmbarquez dans une soirée inoubliable qui vous donnera l’impression que Pete Doherty et Carl Barât seront sur scène\n———————————\nDimanche 14 Juin 2026\nEntrée gratuite\n• Ouverture des portes à 19h \nTarifs : Gratuit
URL:http://supersonic-club.fr/event/sunday-tribute-the-libertines-2/
LOCATION:SUPERSONIC\, 9 Rue Biscornet\, Paris\, 75012\, France
CATEGORIES:Concert,Pop / Rock / Folk,Sowprog,SUPERSONIC,Supersonic Paris
ATTACH;FMTTYPE=image/jpeg:http://supersonic-club.fr/wp-content/uploads/2026/04/namethumb_w600px_img_event_44a02f96-82e9-4570-9b48-e77871682655.jpg
END:VEVENT
BEGIN:VEVENT
DTSTART;TZID=Europe/London:20260620T230000
DTEND;TZID=Europe/London:20260621T060000
DTSTAMP:20260420T221547
CREATED:20260323T155109Z
LAST-MODIFIED:20260323T155109Z
UID:18694-1781996400-1782021600@supersonic-club.fr
SUMMARY:Trilogie du Samedi / Nuit Pop 90's - 00's
DESCRIPTION:WELCOME TO SUPERSONIC\nConcerts gratuits\, et nuits rock à Paris ! \n \nLA TRILOGIE DU SAMEDI EST DE RETOUR\nUne nuit entière avec la bande à Buffy et les soeurs Halliwell\nAu programme : Live d’Indal\nDj set des années 90s et début 2000’s\nAvec dans la playlist :\nSpice Girls / Britney Spears / Céline Dion / Aqua / Natalie Imbuglia / Garou / Sum 41 / Alizée / KYO / Outkast / Louise Attaque / Blink 182 / Corona / Avril Lavigne / Backstreet Boys / The Offspring / Will Smith / Smash Mouth / Eminem…\nPour t’ambiancer dès maintenant https://open.spotify.com/playlist/0SZJ5tjkvXmdckN6d5tnc8…\nNotre Trilogie du Samedi en images\nhttps://youtu.be/MOrYSeF0sSw\n———————————\nEntrée à 10€ de 23h à 6h\n• Vestiaire au 2ème étage\n• Entrée interdite aux mineur.e.s\n• Si vous êtes témoin ou victime d’une agression\, vous pouvez alerter le personnel du bar ou si vous préférez\, vous pouvez nous écrire à cette adresse: communication@supersonic-paris.fr\n———————————\nSUPERSONIC\n9 rue Biscornet\, 75012 Paris\nMétro Bastille (sortie rue de lyon) \nTarifs : Ticket : 10€ \nBilletteries : Dice
URL:http://supersonic-club.fr/event/trilogie-du-samedi-nuit-pop-90s-00s-2/
LOCATION:SUPERSONIC\, 9 Rue Biscornet\, Paris\, 75012\, France
CATEGORIES:Clubbing,Pop / Rock / Folk,Sowprog,SUPERSONIC,Supersonic Paris
ATTACH;FMTTYPE=image/jpeg:http://supersonic-club.fr/wp-content/uploads/2026/03/namethumb_w600px_img_event_200ed853-c8c2-40a6-a60f-b4189c92a65e.jpg
END:VEVENT
BEGIN:VEVENT
DTSTART;TZID=Europe/London:20260621T190000
DTEND;TZID=Europe/London:20260621T230000
DTSTAMP:20260420T221547
CREATED:20260403T131903Z
LAST-MODIFIED:20260403T131903Z
UID:18785-1782068400-1782082800@supersonic-club.fr
SUMMARY:Sunday Tribute - Best Of Fête de la musique
DESCRIPTION:Les dimanches du Supersonic \n \nTous les dimanches depuis 2016\, le Supersonic rend hommage aux grands noms du rock et de la pop. Plusieurs groupes locaux monteront sur scène pour vous rejouer en live les plus gros tubes de l’histoire\nCélébrez la Fête de la Musique avec une soirée Sunday Tribute spéciale Best Of\nOn vous propose un concentré de hits incontournables : de Blondie à Avril Lavigne en passant par Paramore\, Green Day\, Black Eyed Peas\, ABBA\, Téléphone… repris par des groupes locaux pour vous assurer une soirée 100% festive et intergénérationnelle\nDu rock\, de la pop\, du punk\, de la dance : quoi de mieux pour une fête de la musique ?\n———————————\nDimanche 21 Juin 2026\nEntrée gratuite\n• Ouverture des portes à 19h\n—————————-\nSUPERSONIC\nConcerts gratuits\, Nuits rock et Disquaire à Paris\nhttp://supersonic-paris.fr/\n9 rue Biscornet\, 75012 Paris\nMétro Bastille (sortie rue de lyon) \nTarifs : Gratuit
URL:http://supersonic-club.fr/event/sunday-tribute-best-of-fete-de-la-musique/
LOCATION:SUPERSONIC\, 9 Rue Biscornet\, Paris\, 75012\, France
CATEGORIES:Concert,Pop / Rock / Folk,Sowprog,SUPERSONIC,Supersonic Paris
ATTACH;FMTTYPE=image/jpeg:http://supersonic-club.fr/wp-content/uploads/2026/04/namethumb_w600px_img_event_b45e5084-c780-44bd-8d02-ca4f8609b67b.jpg
END:VEVENT
BEGIN:VEVENT
DTSTART;TZID=Europe/London:20260626T230000
DTEND;TZID=Europe/London:20260627T060000
DTSTAMP:20260420T221548
CREATED:20260407T154321Z
LAST-MODIFIED:20260407T154321Z
UID:18827-1782514800-1782540000@supersonic-club.fr
SUMMARY:Gimme! Gimme! Gimme! / La soirée Disco
DESCRIPTION:WELCOME TO SUPERSONIC\nConcerts gratuits\, et nuits rock à Paris ! \n \nGIMME! GIMME! GIMME!\n– La soirée Disco du Supersonic –\nDirection l’univers disco\, funk et soul avec la soirée Gimme ! Gimme ! Gimme !\nPense à Saturday Night Fever\, aux chorégraphies des sixties\, seventies et eighties\, à ces voix puissantes qui te feront hurler sur la piste de danse jusqu’au bout de la nuit…\nSi tu grooves sur ABBA\, Donna Summer\, Chic\, Earth\, The Jackson 5\, Diana Ross\, Bee Gees\, cette soirée n’attend plus que toi\nLive tribute à 1h de Purple Cover Band\nDJ set Disco de Alex Croq Mac et Ed Bertram\n———————————\nEntrée à 10€ de 23h à 6h\n• Vestiaire au 2ème étage\n• Entrée interdite aux mineur.e.s\n• Si vous êtes témoin ou victime d’une agression\, vous pouvez alerter le personnel du bar ou si vous préférez\, vous pouvez nous écrire à cette adresse: communication@supersonic-paris.fr\n———————————\nSUPERSONIC\n9 rue Biscornet\, 75012 Paris\nMétro Bastille (sortie rue de lyon) \nTarifs : Ticket : 15€ \nBilletteries : DICE
URL:http://supersonic-club.fr/event/gimme-gimme-gimme-la-soiree-disco-2/
LOCATION:SUPERSONIC\, 9 Rue Biscornet\, Paris\, 75012\, France
CATEGORIES:Clubbing,Pop / Rock / Folk,Sowprog,SUPERSONIC,Supersonic Paris
ATTACH;FMTTYPE=image/jpeg:http://supersonic-club.fr/wp-content/uploads/2026/04/namethumb_w600px_img_event_1e1b1e5f-5b74-41b8-955b-22250c76df90.jpg
END:VEVENT
BEGIN:VEVENT
DTSTART;TZID=Europe/London:20260628T190000
DTEND;TZID=Europe/London:20260628T230000
DTSTAMP:20260420T221548
CREATED:20260403T132609Z
LAST-MODIFIED:20260403T132609Z
UID:18787-1782673200-1782687600@supersonic-club.fr
SUMMARY:Sunday Tribute - Motown
DESCRIPTION:Les dimanches du Supersonic \n \nTous les dimanches depuis 2016\, le Supersonic rend hommage aux grands noms du rock et de la pop. Plusieurs groupes locaux monteront sur scène pour vous rejouer en live les plus gros tubes de l’histoire\nPlongez dans l’âge d’or de la soul avec notre soirée gratuite Sunday Tribute 100% Motown\nOn vous invite à danser sur les sons de figures légendaires comme Diana Ross\, Stevie Wonder\, Martha and the Vandellas\, Marvin Gaye ou encore The Jackson 5\nCette soirée est une célébration d’un héritage musical unique entre soul et groove\nNos « Sunday Tribute » c’est tous les dimanches et les jours fériés\, où on rend hommage aux icônes de l’histoire du rock et de la pop à travers des concerts de reprises\n———————————\nDimanche 28 Juin 2026\nEntrée gratuite\n• Ouverture des portes à 19h\n———————————\nSUPERSONIC\nConcerts gratuits\, Nuits rock et Disquaire à Paris\nhttp://supersonic-paris.fr/\n9 rue Biscornet\, 75012 Paris\nMétro Bastille (sortie rue de lyon) \nTarifs : Gratuit
URL:http://supersonic-club.fr/event/sunday-tribute-motown/
LOCATION:SUPERSONIC\, 9 Rue Biscornet\, Paris\, 75012\, France
CATEGORIES:Concert,Pop / Rock / Folk,Sowprog,SUPERSONIC,Supersonic Paris
ATTACH;FMTTYPE=image/jpeg:http://supersonic-club.fr/wp-content/uploads/2026/04/namethumb_w600px_img_event_93a14368-f501-4c15-94f4-a94dd3e181d2.jpg
END:VEVENT
BEGIN:VEVENT
DTSTART;TZID=Europe/London:20260705T190000
DTEND;TZID=Europe/London:20260705T230000
DTSTAMP:20260420T221548
CREATED:20260403T142148Z
LAST-MODIFIED:20260403T142148Z
UID:18789-1783278000-1783292400@supersonic-club.fr
SUMMARY:Sunday Tribute - Arctic Monkeys
DESCRIPTION:Les dimanches du Supersonic \n \nTous les dimanches depuis 2016\, le Supersonic rend hommage aux grands noms du rock et de la pop. Plusieurs groupes locaux monteront sur scène pour vous rejouer en live les plus gros tubes de l’histoire\nOn vous invite à célébrer Arctic Monkeys avec notre soirée gratuite Sunday Tribute\nRetrouvez l’attitude et le charisme de Alex Turner et laissez-vous embarquer dans une soirée comme si vous étiez à un concert du groupe rock britannique\nUn conseil : échauffez votre voix pour chanter sur les titres emblématiques « Do I Wanna Know? »\, « I Bet You Look Good On The Dancefloor »\, « 505 »…\nTous les dimanches et les jours fériés\, on célèbre les icônes de l’histoire du rock et de la pop avec nos soirées gratuites « Sunday Tribute » où des groupes locaux viennent réinterpréter les hits de ces légendes\n———————————\nDimanche 5 Juillet 2026\nEntrée gratuite\n• Ouverture des portes à 19h\n———————————\nSUPERSONIC\nConcerts gratuits\, Nuits rock et Disquaire à Paris\nhttp://supersonic-paris.fr/\n9 rue Biscornet\, 75012 Paris\nMétro Bastille (sortie rue de lyon) \nTarifs : Gratuit
URL:http://supersonic-club.fr/event/sunday-tribute-arctic-monkeys-4/
LOCATION:SUPERSONIC\, 9 Rue Biscornet\, Paris\, 75012\, France
CATEGORIES:Concert,Pop / Rock / Folk,Sowprog,SUPERSONIC,Supersonic Paris
ATTACH;FMTTYPE=image/jpeg:http://supersonic-club.fr/wp-content/uploads/2026/04/namethumb_w600px_img_event_a12c544c-e273-46f1-a9e2-db8f238c8444.jpg
END:VEVENT
BEGIN:VEVENT
DTSTART;TZID=Europe/London:20260712T190000
DTEND;TZID=Europe/London:20260712T230000
DTSTAMP:20260420T221548
CREATED:20260403T143601Z
LAST-MODIFIED:20260413T130506Z
UID:18791-1783882800-1783897200@supersonic-club.fr
SUMMARY:Sunday Tribute - Neo Metal (Gojira\, LANDMVRKS\, Architects\, BMTH...)
DESCRIPTION:Les dimanches du Supersonic \n \nTous les dimanches depuis 2016\, le Supersonic rend hommage aux grands noms du rock et de la pop. Plusieurs groupes locaux monteront sur scène pour vous rejouer en live les plus gros tubes de l’histoire\nPréparez-vous à une déferlante d’énergie avec notre soirée Sunday Tribute Neo Metal\nLes titres puissants de Gorija\, LANDMVRKS\, Architects et Bring Me the Horizon seront repris par des groupes locaux pour faire trembler le Supersonic entre breakdowns ravageurs et refrains fait pour être chanter en chœur\nTous les dimanches et les jours fériés\, on rend hommage aux icônes de l’histoire du rock et de la pop avec nos « Sunday Tribute » par le biais de concerts de reprises\nCette soirée sera sous haute tension\, entre metalcore et neo metal pour une expérience live aussi explosive qu’inoubliable\n———————————\nDimanche 12 Juillet 2026\nEntrée gratuite\n• Ouverture des portes à 19h\n———————\nSUPERSONIC\nConcerts gratuits\, Nuits rock et Disquaire à Paris\nhttp://supersonic-paris.fr/\n9 rue Biscornet\, 75012 Paris\nMétro Bastille (sortie rue de lyon) \nTarifs : Gratuit
URL:http://supersonic-club.fr/event/sunday-tribute-neo-metal-gojira-landmvrks-architects-bmth/
LOCATION:SUPERSONIC\, 9 Rue Biscornet\, Paris\, 75012\, France
CATEGORIES:Concert,Pop / Rock / Folk,Sowprog,SUPERSONIC,Supersonic Paris
ATTACH;FMTTYPE=image/jpeg:http://supersonic-club.fr/wp-content/uploads/2026/04/namethumb_w600px_img_event_0960a720-4d31-4d3e-b088-642a956433cb-2.jpg
END:VEVENT
END:VCALENDAR