BEGIN:VCALENDAR
VERSION:2.0
PRODID:-//Supersonic - ECPv6.15.20//NONSGML v1.0//EN
CALSCALE:GREGORIAN
METHOD:PUBLISH
X-WR-CALNAME:Supersonic
X-ORIGINAL-URL:http://supersonic-club.fr
X-WR-CALDESC:Évènements pour Supersonic
REFRESH-INTERVAL;VALUE=DURATION:PT1H
X-Robots-Tag:noindex
X-PUBLISHED-TTL:PT1H
BEGIN:VTIMEZONE
TZID:Europe/London
BEGIN:DAYLIGHT
TZOFFSETFROM:+0000
TZOFFSETTO:+0100
TZNAME:BST
DTSTART:20230326T010000
END:DAYLIGHT
BEGIN:STANDARD
TZOFFSETFROM:+0100
TZOFFSETTO:+0000
TZNAME:GMT
DTSTART:20231029T010000
END:STANDARD
BEGIN:DAYLIGHT
TZOFFSETFROM:+0000
TZOFFSETTO:+0100
TZNAME:BST
DTSTART:20240331T010000
END:DAYLIGHT
BEGIN:STANDARD
TZOFFSETFROM:+0100
TZOFFSETTO:+0000
TZNAME:GMT
DTSTART:20241027T010000
END:STANDARD
BEGIN:DAYLIGHT
TZOFFSETFROM:+0000
TZOFFSETTO:+0100
TZNAME:BST
DTSTART:20250330T010000
END:DAYLIGHT
BEGIN:STANDARD
TZOFFSETFROM:+0100
TZOFFSETTO:+0000
TZNAME:GMT
DTSTART:20251026T010000
END:STANDARD
END:VTIMEZONE
BEGIN:VEVENT
DTSTART;TZID=Europe/London:20240202T230000
DTEND;TZID=Europe/London:20240203T060000
DTSTAMP:20260425T021847
CREATED:20240110T144653Z
LAST-MODIFIED:20240130T154709Z
UID:12567-1706914800-1706940000@supersonic-club.fr
SUMMARY:Les 8 ans du Supersonic au Sonic Island Park : NUIT BEST OF
DESCRIPTION:Le Supersonic fête ses 8 ans ! \n \nL’équipe du club de Bastille vous prépare une Nuit Best Of Supersonic avec un concert de reprises à 1h du matin et un dj set indie\, pop\, rock\, post-punk des morceaux qui ont marqué l’histoire du Supersonic !\nINFORMATIONS IMPORTANTES\nCe ticket DICE vous permet de passer devant tout le monde quand il y a la queue au Supersonic. C’est un COUPE-FILE qui vous garantit une entrée prioritaire toute la nuit. Donc pas de panique si l’évènement est sur liste d’attente ça veut juste dire que seuls les 50 tickets coupe-files ont été réservés. Alors rendez-vous directement au Supersonic pour acheter votre ticket sur place et pour danser toute la nuit !\nIMPORTANT INFORMATION\nThis DICE ticket allows you to get ahead of everyone else when there is a queue to enter the Supersonic. It’s a SKIP-THE-LINE ticket that guarantees you priority entry all night. So don’t panic if the event is on the waiting list\, it just means that only the 50 skip-the-line tickets have been booked. So head straight to the Supersonic to buy your ticket inside the club and dance all night long ! \nTarifs : Ticket : 6€ \nBilletteries : Dice
URL:http://supersonic-club.fr/event/les-8-ans-du-supersonic-au-sonic-island-park-nuit-best-of/
LOCATION:SUPERSONIC\, 9 Rue Biscornet\, Paris\, 75012\, France
CATEGORIES:Clubbing,Pop / Rock / Folk,Sowprog,SUPERSONIC,Supersonic Paris,Supersonic Productions
ATTACH;FMTTYPE=image/jpeg:http://supersonic-club.fr/wp-content/uploads/2024/01/namethumb_w600px_img_event_108a0691-20fb-4c05-bc65-6dfda9ecc5af-4.jpg
END:VEVENT
BEGIN:VEVENT
DTSTART;TZID=Europe/London:20240217T233000
DTEND;TZID=Europe/London:20240218T060000
DTSTAMP:20260425T021847
CREATED:20240110T164854Z
LAST-MODIFIED:20240110T165528Z
UID:12614-1708212600-1708236000@supersonic-club.fr
SUMMARY:Trilogie du Samedi // Nuit 90s 2000s du Supersonic
DESCRIPTION:WELCOME TO SUPERSONIC\nConcerts gratuits\, et nuits rock à Paris ! \n \nLa Trilogie du Samedi est de retour !\nUne nuit entière avec la bande à Buffy et les soeurs Halliwell !\nAu programme: Lives de nuits dont le mythique live de INDAL composé de reprises de génériques TV (Buffy\, Charmed\, Smallville\, Alias)…\nDj set des années 90s et début 2000’s\navec dans la playlist :\nSpice Girls / Britney Spears / Céline Dion / Aqua / Natalie Imbuglia / Garou / Sum 41 / Alizée / KYO / Outkast / Louise Attaque / Blink 182 / Corona / Avril Lavigne / Backstreet Boys / The Offspring / Will Smith / Smash Mouth / Eminem…\nPour t’ambiancer dès maintenant  https://open.spotify.com/playlist/0SZJ5tjkvXmdckN6d5tnc8…\nNotre Trilogie du Samedi en images\nhttps://youtu.be/MOrYSeF0sSw\n———————————\nEntrée à 6€ de 23h à 2h (puis 10€ jusqu’à 6h)\n• Vestiaire au 2ème étage\n• Entrée interdite aux mineur.e.s\n• Si vous êtes témoin ou victime d’une agression\, vous pouvez alerter le personnel du bar ou si vous préférez\, vous pouvez nous écrire à cette adresse: communication@supersonic-paris.fr\n———————————\nSUPERSONIC\n9 rue Biscornet\, 75012 Paris\nMétro Bastille (sortie rue de lyon) \nTarifs : Ticket : 6€ \nBilletteries : Dice
URL:http://supersonic-club.fr/event/trilogie-du-samedi-nuit-90s-2000s-du-supersonic-26/
LOCATION:SUPERSONIC\, 9 Rue Biscornet\, Paris\, 75012\, France
CATEGORIES:Clubbing,Pop / Rock / Folk,Sowprog,SUPERSONIC,Supersonic Paris,Supersonic Productions
ATTACH;FMTTYPE=image/jpeg:http://supersonic-club.fr/wp-content/uploads/2024/01/namethumb_w600px_img_event_3b2683be-828a-457b-9347-4558a896a218-1.jpg
END:VEVENT
END:VCALENDAR