BEGIN:VCALENDAR
VERSION:2.0
PRODID:-//Supersonic - ECPv6.15.20//NONSGML v1.0//EN
CALSCALE:GREGORIAN
METHOD:PUBLISH
X-WR-CALNAME:Supersonic
X-ORIGINAL-URL:http://supersonic-club.fr
X-WR-CALDESC:Évènements pour Supersonic
REFRESH-INTERVAL;VALUE=DURATION:PT1H
X-Robots-Tag:noindex
X-PUBLISHED-TTL:PT1H
BEGIN:VTIMEZONE
TZID:Europe/London
BEGIN:DAYLIGHT
TZOFFSETFROM:+0000
TZOFFSETTO:+0100
TZNAME:BST
DTSTART:20220327T010000
END:DAYLIGHT
BEGIN:STANDARD
TZOFFSETFROM:+0100
TZOFFSETTO:+0000
TZNAME:GMT
DTSTART:20221030T010000
END:STANDARD
BEGIN:DAYLIGHT
TZOFFSETFROM:+0000
TZOFFSETTO:+0100
TZNAME:BST
DTSTART:20230326T010000
END:DAYLIGHT
BEGIN:STANDARD
TZOFFSETFROM:+0100
TZOFFSETTO:+0000
TZNAME:GMT
DTSTART:20231029T010000
END:STANDARD
BEGIN:DAYLIGHT
TZOFFSETFROM:+0000
TZOFFSETTO:+0100
TZNAME:BST
DTSTART:20240331T010000
END:DAYLIGHT
BEGIN:STANDARD
TZOFFSETFROM:+0100
TZOFFSETTO:+0000
TZNAME:GMT
DTSTART:20241027T010000
END:STANDARD
END:VTIMEZONE
BEGIN:VEVENT
DTSTART;TZID=Europe/London:20230115T190000
DTEND;TZID=Europe/London:20230115T234500
DTSTAMP:20260426T040814
CREATED:20221220T160113Z
LAST-MODIFIED:20230110T155719Z
UID:9528-1673809200-1673826300@supersonic-club.fr
SUMMARY:Album du dimanche • The Doors (album éponyme) / Supersonic
DESCRIPTION:WELCOME TO SUPERSONIC\nConcerts gratuits\, Nuits rock et Disquaire à Paris ! \n \nLes dimanches du Supersonic !\nTous les dimanches\, le Supersonic rend hommage à des grands noms de l’histoire du rock.\nUn dimanche sur deux\, vous pourrez assister aux « Sunday Tribute » où de nombreux groupes locaux viendront reprendre les plus beaux morceaux d’un groupe phare.\nEt les autres dimanches sont consacrés à l’ »Album du dimanche » où un seul groupe rejouera en live et en intégralité un album mythique. \nCette semaine\, c’est l’Album du dimanche !\n« The Doors » de The Doors sera joué en live et en intégralité par le groupe parisien Justsonic (suivi d’un deuxième set best of).\n———————————\nDimanche 15 Janvier 2023\nEntrée gratuite\n• Ouverture des portes à 19h\n• Hot Dog au bar\n—————–\nSUPERSONIC\nConcerts gratuits\, Nuits rock et Disquaire à Paris\nhttp://supersonic-paris.fr/\n9 rue Biscornet\, 75012 Paris\nMétro Bastille (sortie rue de lyon) \nTarifs : Gratuit
URL:http://supersonic-club.fr/event/album-du-dimanche-the-doors-album-eponyme-supersonic/
LOCATION:SUPERSONIC\, 9 Rue Biscornet\, Paris\, 75012\, France
CATEGORIES:Concert,Justsonic,Pop / Rock / Folk,Sowprog,SUPERSONIC,Supersonic Paris
ATTACH;FMTTYPE=image/jpeg:http://supersonic-club.fr/wp-content/uploads/2022/12/namethumb_w600px_img_event_89449a1a-47cc-4f49-90e8-60f4b0317780-3.jpg
END:VEVENT
BEGIN:VEVENT
DTSTART;TZID=Europe/London:20230121T190000
DTEND;TZID=Europe/London:20230121T235000
DTSTAMP:20260426T040814
CREATED:20221220T192407Z
LAST-MODIFIED:20230120T182207Z
UID:9560-1674327600-1674345000@supersonic-club.fr
SUMMARY:The Pleasure Dome • Less • Rest Up / Supersonic (Free entry)
DESCRIPTION:WELCOME TO SUPERSONIC\nConcerts gratuits\, Nuits rock et Disquaire à Paris ! \n \nTHE PLEASURE DOME\n(Post punk – Bristol\, UK)\nThe Pleasure Dome\, formé à Bristol en juillet 2019\, est composé de Bobby Spender (guitare et voix)\, Loz Fancourt (Basse)\, Harrison Newman (guitare)\, et Bert Elvin (batterie). Ils ont auto-produit plusieurs singles enregistrés en live avec des producteurs tels que Theo Verney (Pip Blom\, Egyptian Blue)\, James Trevascus (Beak>) et Josh Ace (Gonhill). Le groupe a été largement diffusé sur plusieurs stations de la BBC\, à travers tout le Royaume-Uni. Enregistré en live à Brighton Electric avec le producteur Theo Verney\, le groupe sortira son premier EP « Chaos Chaos Revolution » dans les prochains mois. Après une tournée bien chargée fin 2021\, le groupe revient présenter son show féroce en 2022.\nhttps://thepleasuredome.bandcamp.com/\nhttps://youtu.be/lg5SeQqRIhU \n//LESS\n(Noise punk – Off White House – Annecy/Tours\, FR)\nUn torrent de bruit martelé par des rythmes explosifs\, deux basses boostées avec des effets saturés\, un chant puissants et torturés ; c’est « //LESS »\, un trio noise/punk\nhttps://tr.ee/UjOcsOY9ns\nhttps://www.youtube.com/watch?v=HGAgTrJuV68 \nREST UP\n(Post punk – Angers\, FR)\nRest up est un groupe de potes angevins aux influences post-punk/post-rock et aux sonorités british.\nAvec leur formation type guitare\, basse et batterie\, Johnny Freestyle\, Noise\, et Jimmy Jones offrent une musique brute et rongée par le désespoir.\nLes trois musiciens vous embarqueront avec eux dans leur univers sombre et colérique\, entre riffs saturés et melodies recherchées\, laissez vous guider dans l’étrange histoire de doc doc cortez.\nhttps://restuplads.bandcamp.com/album/where-is-jackson\nhttps://youtube.com/@restup467\n———————————\nSamedi 21 Janvier 2023\nEntrée gratuite\n• Ouverture des portes à 19h00\n• Happy Hour de 19h à 20h (3€50 la pinte)\n• Si vous êtes témoin ou victime d’une agression\, vous pouvez alerter le personnel du bar ou si vous préférez\, vous pouvez nous écrire à cette adresse: communication@supersonic-paris.fr\n———————————\nSUPERSONIC\n9 rue Biscornet\, 75012 Paris\nMétro Bastille (sortie rue de lyon) \nTarifs : Gratuit
URL:http://supersonic-club.fr/event/the-pleasure-dome-less-mira-calls-supersonic-free-entry/
LOCATION:SUPERSONIC\, 9 Rue Biscornet\, Paris\, 75012\, France
CATEGORIES://Less,Concert,Pop / Rock / Folk,Rest Up,Sowprog,SUPERSONIC,Supersonic Paris,Supersonic Productions,The Pleasure Dome
ATTACH;FMTTYPE=image/jpeg:http://supersonic-club.fr/wp-content/uploads/2022/12/namethumb_w600px_img_event_c9d536fc-5a27-41c3-8d5e-cbe8f212b29b-5.jpg
END:VEVENT
BEGIN:VEVENT
DTSTART;TZID=Europe/London:20230129T190000
DTEND;TZID=Europe/London:20230129T234500
DTSTAMP:20260426T040814
CREATED:20221220T160117Z
LAST-MODIFIED:20230110T155727Z
UID:9530-1675018800-1675035900@supersonic-club.fr
SUMMARY:Album du dimanche • Blink 182 - Enema of the State / Supersonic
DESCRIPTION:WELCOME TO SUPERSONIC\nConcerts gratuits\, Nuits rock et Disquaire à Paris ! \n \nLes dimanches du Supersonic\nTous les dimanches\, le Supersonic rend hommage à des grands noms de l’histoire du rock.\nUn dimanche sur deux\, vous pourrez assister aux « Sunday Tribute » où de nombreux groupes locaux viendront reprendre les plus beaux morceaux d’un groupe phare.\nEt les autres dimanches sont consacrés à l’ »Album du dimanche » où un seul groupe rejouera en live et en intégralité un album mythique. \nCette semaine\, c’est l’Album du dimanche !\n« Enema of the State » de Blink 182 sera joué en live et en intégralité par SWS4 (suivi d’un deuxième set best of).\n———————————\nDimanche 29 Janvier 2023\nEntrée gratuite\n——————\nSUPERSONIC\nConcerts gratuits\, Nuits rock et Disquaire à Paris\nhttp://supersonic-paris.fr/\n9 rue Biscornet\, 75012 Paris\nMétro Bastille (sortie rue de lyon) \nTarifs : Gratuit
URL:http://supersonic-club.fr/event/album-du-dimanche-blink-182-enema-of-the-state-supersonic/
LOCATION:SUPERSONIC\, 9 Rue Biscornet\, Paris\, 75012\, France
CATEGORIES:Concert,Pop / Rock / Folk,Sowprog,SUPERSONIC,Supersonic Paris,Supersonic Productions,SWS4
ATTACH;FMTTYPE=image/jpeg:http://supersonic-club.fr/wp-content/uploads/2022/12/namethumb_w600px_img_event_9aeb0408-2ffe-4a05-8380-e478d64efe5c-3.jpg
END:VEVENT
END:VCALENDAR