BEGIN:VCALENDAR
VERSION:2.0
PRODID:-//Supersonic - ECPv6.15.20//NONSGML v1.0//EN
CALSCALE:GREGORIAN
METHOD:PUBLISH
X-ORIGINAL-URL:http://supersonic-club.fr
X-WR-CALDESC:Évènements pour Supersonic
REFRESH-INTERVAL;VALUE=DURATION:PT1H
X-Robots-Tag:noindex
X-PUBLISHED-TTL:PT1H
BEGIN:VTIMEZONE
TZID:Europe/London
BEGIN:DAYLIGHT
TZOFFSETFROM:+0000
TZOFFSETTO:+0100
TZNAME:BST
DTSTART:20220327T010000
END:DAYLIGHT
BEGIN:STANDARD
TZOFFSETFROM:+0100
TZOFFSETTO:+0000
TZNAME:GMT
DTSTART:20221030T010000
END:STANDARD
BEGIN:DAYLIGHT
TZOFFSETFROM:+0000
TZOFFSETTO:+0100
TZNAME:BST
DTSTART:20230326T010000
END:DAYLIGHT
BEGIN:STANDARD
TZOFFSETFROM:+0100
TZOFFSETTO:+0000
TZNAME:GMT
DTSTART:20231029T010000
END:STANDARD
BEGIN:DAYLIGHT
TZOFFSETFROM:+0000
TZOFFSETTO:+0100
TZNAME:BST
DTSTART:20240331T010000
END:DAYLIGHT
BEGIN:STANDARD
TZOFFSETFROM:+0100
TZOFFSETTO:+0000
TZNAME:GMT
DTSTART:20241027T010000
END:STANDARD
END:VTIMEZONE
BEGIN:VEVENT
DTSTART;TZID=Europe/London:20231108T190000
DTEND;TZID=Europe/London:20231108T223000
DTSTAMP:20260420T212528
CREATED:20230713T150637Z
LAST-MODIFIED:20231003T175531Z
UID:11141-1699470000-1699482600@supersonic-club.fr
SUMMARY:Superchunk + Solcina en concert au Supersonic Records !
DESCRIPTION:Superchunk\, groupe formé en 1989 à Chapell Hill (USA)\, sera en concert au Supersonic Records le 8 Novembre 2023 ! \n \nSupersonic Records présente…\nSuperchunk + Solcina en concert à Paris !\nTickets : https://link.dice.fm/Bc888d9c32e6 \nSUPERCHUNK\n(Rock alternatif – Merge Records – Chapel Hill\, USA) \nFormé en 1989 à Chapel Hill\, en Caroline du Nord\, Superchunk est composé de Mac McCaughan (guitare\, chant)\, Jim Wilbur (guitare\, chœurs)\, Jon Wurster (batterie\, chœurs) et Laura Ballance (basse\, chœurs). Depuis la sortie de leur premier 7 pouces en 1989\, Superchunk a parcouru toute la gamme des albums marquants : les premiers stompers punk rock\, les chefs-d’œuvre polis du milieu de carrière et les albums luxuriants et aventureux. \nÉcouter\nhttps://soundcloud.com/superchunk \nRegarder\nhttps://www.youtube.com/watch?v=0qjx3JNvlMI \nAimer\nhttps://www.instagram.com/macsuperchunk/ \nSOLCINA\n(Indie rock / space rock / folk – Paris\, FR – Gravity Music) \nSolcina est le projet solo de Nicolas Pommé\, chanteur et guitariste dans Pop Crimes et Young Like Old Men. Ses deux albums\, parus chez Gravity Music\, sont un hommage à la solitude et à l’amitié. Sa musique se situe quelque part entre le space rock\, la folk et le drone. \nSi vous aimez : Yo La Tengo\, Spacemen 3 & Sparklehorse \nÉcouter\nhttps://solcina.bandcamp.com/ \nAimer\nhttps://www.instagram.com/solc1na/\n———————————\nMercredi 8 Novembre 2023\n• Ouverture des portes à 19h\n• Bar sur place\n• Prévente à 22€ / 25€ sur place\n• Accès interdit aux moins de 16 ans sauf si accompagnés d’un tuteur légal\n———————————\nSupersonic Records\n9 rue Biscornet 75012 Paris\nMetro Bastille\nhttps://supersonic-records.fr/ \nTarifs : Billet : 22.50€ \nBilletteries : DICE
URL:http://supersonic-club.fr/event/superchunk-en-concert-au-supersonic-records/
LOCATION:Supersonic Records\, 9 Rue Biscornet\, Paris\, 75012\, France
CATEGORIES:Concert,Pop / Rock / Folk,Sowprog,Superchunk,Supersonic Records
ATTACH;FMTTYPE=image/jpeg:http://supersonic-club.fr/wp-content/uploads/2023/07/namethumb_w600px_img_event_d2ba10ef-0998-4b55-baf3-98463f117ce5-1.jpg
END:VEVENT
END:VCALENDAR