BEGIN:VCALENDAR
VERSION:2.0
PRODID:-//Supersonic - ECPv6.15.20//NONSGML v1.0//EN
CALSCALE:GREGORIAN
METHOD:PUBLISH
X-WR-CALNAME:Supersonic
X-ORIGINAL-URL:http://supersonic-club.fr
X-WR-CALDESC:Évènements pour Supersonic
REFRESH-INTERVAL;VALUE=DURATION:PT1H
X-Robots-Tag:noindex
X-PUBLISHED-TTL:PT1H
BEGIN:VTIMEZONE
TZID:Europe/London
BEGIN:DAYLIGHT
TZOFFSETFROM:+0000
TZOFFSETTO:+0100
TZNAME:BST
DTSTART:20250330T010000
END:DAYLIGHT
BEGIN:STANDARD
TZOFFSETFROM:+0100
TZOFFSETTO:+0000
TZNAME:GMT
DTSTART:20251026T010000
END:STANDARD
BEGIN:DAYLIGHT
TZOFFSETFROM:+0000
TZOFFSETTO:+0100
TZNAME:BST
DTSTART:20260329T010000
END:DAYLIGHT
BEGIN:STANDARD
TZOFFSETFROM:+0100
TZOFFSETTO:+0000
TZNAME:GMT
DTSTART:20261025T010000
END:STANDARD
BEGIN:DAYLIGHT
TZOFFSETFROM:+0000
TZOFFSETTO:+0100
TZNAME:BST
DTSTART:20270328T010000
END:DAYLIGHT
BEGIN:STANDARD
TZOFFSETFROM:+0100
TZOFFSETTO:+0000
TZNAME:GMT
DTSTART:20271031T010000
END:STANDARD
END:VTIMEZONE
BEGIN:VEVENT
DTSTART;TZID=Europe/London:20260103T190000
DTEND;TZID=Europe/London:20260103T230000
DTSTAMP:20260419T162642
CREATED:20251114T132117Z
LAST-MODIFIED:20251114T132117Z
UID:17567-1767466800-1767481200@supersonic-club.fr
SUMMARY:Roman Ausen • Como Como • Super Leone
DESCRIPTION:Cette soirée plaira aux fans de… Parcels\, INXS & Royel Otis \n \nROMAN AUSEN (22h30)\n(Vintage pop – Paris\, FR)\nÀ travers ses deux premiers EP\, Roman Ausen distillait l’essence des nuits parisiennes dans une pop groovy et sensuelle. Entièrement produite chez lui\, sa musique explorait les frontières du désir et de la nostalgie.\nActuellement en préparation de son premier album\, il proposera quelque chose de différent\, mais qui lui ressemble davantage avec des sonorités inspirées par la musique des années 60 et 70.\nLes 3 influences : Richard Hawley\, Jeff Buckley\, David Bowie\nhttps://open.spotify.com/…/4Oa9rQVBWBqCTqyFu9EBjc…\nhttps://www.youtube.com/@RomanAusen \nCOMO COMO (21h30)\n(Indie dream pop – Groover Obsessions – Paris\, FR)\nDerrière la dream pop éthérée de Como Como se cache Lucas Lerbret\, musicien et producteur parisien.\nComme un carnet de souvenirs suspendus\, Como Como mêle guitares réverbérées\, synthétiseurs vaporeux et voix enveloppante. Les morceaux oscillent entre douceur contemplative et pulsation dansante\, évoquant à la fois la nostalgie et l’élan du présent.\nEntièrement écrit\, enregistré et produit seul dans son home studio\, le premier EP éponyme de six titres est sorti le 26 septembre 2025\, distribué par Groover Obsessions. On y retrouve l’univers singulier de Lucas : une dream pop francophone empreinte de tendresse\, où l’introspection se mêle à la lumière des guitares et aux nuits sans sommeil.\nLes 3 influences : Strawberry Guy\, Beach House\, Parcels\nhttps://open.spotify.com/…/6b386ZVFR62ivl7CMXPdkG…\nhttps://www.youtube.com/@ComoComo-d7d \nSUPER LEONE (20h30)\n(Rock – Angers\, FR)\nSuper Leone\, c’est un trio rock originaire d’Angers. Entre tension garage et mélodies habitées\, le groupe forge un son brut\, en français\, à la fois énergique et hypnotique. Après un premier EP\, ils reviennent en 2026 avec deux singles plus sombres\, plus affirmés. Le tout\, enregistré live. Pas de doute : c’est sur scène que le trio explose le plus et nous embarque dans une communion frénétique !\nLes 3 influences : The White Stripes\, Last Train\, The Mystery Lights\nhttps://superleone.bandcamp.com/\nhttps://www.youtube.com/@superleonemusique\n———————————\nSamedi 3 Janvier 2026\nEntrée gratuite\n• Ouverture des portes à 19h00\n• Happy Hour de 19h à 20h\n• Si vous êtes témoin ou victime d’une agression\, vous pouvez alerter le personnel du bar ou si vous préférez\, vous pouvez nous écrire à cette adresse: communication@supersonic-paris.fr\n———————————\nSUPERSONIC\n9 rue Biscornet\, 75012 Paris\nMétro Bastille (sortie rue de lyon) \nTarifs : Gratuit
URL:http://supersonic-club.fr/event/roman-ausen-como-como-super-leone/
LOCATION:SUPERSONIC\, 9 Rue Biscornet\, Paris\, 75012\, France
CATEGORIES:Como Como,Concert,Pop / Rock / Folk,Roman Ausen,Sowprog,Super Léone,SUPERSONIC
ATTACH;FMTTYPE=image/jpeg:http://supersonic-club.fr/wp-content/uploads/2025/11/namethumb_w600px_img_event_de0f39e9-3506-46be-8379-b714a25900b0.jpg
END:VEVENT
END:VCALENDAR