BEGIN:VCALENDAR
VERSION:2.0
PRODID:-//Supersonic - ECPv6.15.20//NONSGML v1.0//EN
CALSCALE:GREGORIAN
METHOD:PUBLISH
X-WR-CALNAME:Supersonic
X-ORIGINAL-URL:http://supersonic-club.fr
X-WR-CALDESC:Évènements pour Supersonic
REFRESH-INTERVAL;VALUE=DURATION:PT1H
X-Robots-Tag:noindex
X-PUBLISHED-TTL:PT1H
BEGIN:VTIMEZONE
TZID:Europe/London
BEGIN:DAYLIGHT
TZOFFSETFROM:+0000
TZOFFSETTO:+0100
TZNAME:BST
DTSTART:20230326T010000
END:DAYLIGHT
BEGIN:STANDARD
TZOFFSETFROM:+0100
TZOFFSETTO:+0000
TZNAME:GMT
DTSTART:20231029T010000
END:STANDARD
BEGIN:DAYLIGHT
TZOFFSETFROM:+0000
TZOFFSETTO:+0100
TZNAME:BST
DTSTART:20240331T010000
END:DAYLIGHT
BEGIN:STANDARD
TZOFFSETFROM:+0100
TZOFFSETTO:+0000
TZNAME:GMT
DTSTART:20241027T010000
END:STANDARD
BEGIN:DAYLIGHT
TZOFFSETFROM:+0000
TZOFFSETTO:+0100
TZNAME:BST
DTSTART:20250330T010000
END:DAYLIGHT
BEGIN:STANDARD
TZOFFSETFROM:+0100
TZOFFSETTO:+0000
TZNAME:GMT
DTSTART:20251026T010000
END:STANDARD
END:VTIMEZONE
BEGIN:VEVENT
DTSTART;TZID=Europe/London:20240416T190000
DTEND;TZID=Europe/London:20240416T230000
DTSTAMP:20260420T224745
CREATED:20231207T131605Z
LAST-MODIFIED:20240110T170507Z
UID:12389-1713294000-1713308400@supersonic-club.fr
SUMMARY:Stuck • Intrusive Thoughts / Supersonic (Free entry)
DESCRIPTION:Cette soirée plaira aux fans de… Omni\, The Cramps & Talking Heads \n \nSTUCK (22h30)\n(Post punk – Chicago\, US)\nWorking at a mixing board one night\, a catchphrase popped into Greg Obis’ head: “freak frequency.” He was ringing out feedback during his job as a sound engineer\, and started to picture the parallels between acoustic physics and political trends. “If you think about a waveform\, as the frequency rises\, the space between the sine waves gets less and less\,” Obis explains.\n“With that downward trend comes constant heightening\, stress and tension.” He came to see freak frequency as an apt metaphor for the decline of Western empire\, an inverse relationship between the (positive) deterioration of American hegemony and the (negative) worsening of daily life under that fall. It was a fitting title for the new material Obis was planning for Stuck\, the frenetic and twisted post-punk outfit he formed in 2018. Inspired by the doomy social economics of Mark Fisher’s Capitalist Realism\, the bleak worldbuilding of horror games Demon’s Souls and Bloodborne\, and the bombastic yet arty satire of Devo\, Obis channeled his audio analogy into Freak Frequency\, an album ringing out with explosive sounds and ideas.\nThough its songs tackle the violence of wealth\, the nightmares of technocracy\, and the rise of the conspiratorial layman\, Freak Frequency is Stuck’s quirkiest record to date—compositionally challenging and equipped with menace\, yet dotted with vibrant fun. “Being in a brooding post-punk band isn’t that appealing to me\,” jokes Obis. “When things are bad\, all you can really do is laugh.”\nhttps://open.spotify.com/artist/26NBM9MmocuhYDY4flth3a\nhttps://www.youtube.com/watch?v=k5pJanbq-s8&t=2s \nINTRUSIVE THOUGHTS (21h30)\n(Post punk – Rouen\, FR)\nEnfant bâtard de Joy Division et Nirvana ; Intrusive Thoughts est une avalanche de sentiments enfouis. Évoluant dans la machine à Rock qu’est Rouen\, le groupe délivre un garage punk singulier et mélodique s’inspirant aussi des esthétiques noises. La colère et l’énergie\, mêlées à la douceur et l’amertume de la mélancolie\, donnent la sensation fiévreuse et agréable de tout lâcher.\nhttps://instagram.com/intrusive_thoughts_band?igshid=YmMyMTA2M2Y= \nLa suite de la programmation arrive très vite !\n———————————\nMardi 16 Avril 2024\nEntrée gratuite\n• Ouverture des portes à 19h00\n• Happy Hour de 19h à 20h\n• Si vous êtes témoin ou victime d’une agression\, vous pouvez alerter le personnel du bar ou si vous préférez\, vous pouvez nous écrire à cette adresse: communication@supersonic-paris.fr\n———————————\nSUPERSONIC\n9 rue Biscornet\, 75012 Paris\nMétro Bastille (sortie rue de lyon) \nTarifs : Gratuit
URL:http://supersonic-club.fr/event/stuck-intrusive-thoughts-supersonic-free-entry/
LOCATION:SUPERSONIC\, 9 Rue Biscornet\, Paris\, 75012\, France
CATEGORIES:Concert,Intrusive Thoughts,Pop / Rock / Folk,Sowprog,Stuck,SUPERSONIC
ATTACH;FMTTYPE=image/jpeg:http://supersonic-club.fr/wp-content/uploads/2023/12/namethumb_w600px_img_event_57f317e1-11f1-43e9-b804-dc5e2d31e9e6-2.jpg
END:VEVENT
END:VCALENDAR