BEGIN:VCALENDAR
VERSION:2.0
PRODID:-//Supersonic - ECPv6.15.20//NONSGML v1.0//EN
CALSCALE:GREGORIAN
METHOD:PUBLISH
X-ORIGINAL-URL:http://supersonic-club.fr
X-WR-CALDESC:Évènements pour Supersonic
REFRESH-INTERVAL;VALUE=DURATION:PT1H
X-Robots-Tag:noindex
X-PUBLISHED-TTL:PT1H
BEGIN:VTIMEZONE
TZID:Europe/London
BEGIN:DAYLIGHT
TZOFFSETFROM:+0000
TZOFFSETTO:+0100
TZNAME:BST
DTSTART:20220327T010000
END:DAYLIGHT
BEGIN:STANDARD
TZOFFSETFROM:+0100
TZOFFSETTO:+0000
TZNAME:GMT
DTSTART:20221030T010000
END:STANDARD
BEGIN:DAYLIGHT
TZOFFSETFROM:+0000
TZOFFSETTO:+0100
TZNAME:BST
DTSTART:20230326T010000
END:DAYLIGHT
BEGIN:STANDARD
TZOFFSETFROM:+0100
TZOFFSETTO:+0000
TZNAME:GMT
DTSTART:20231029T010000
END:STANDARD
BEGIN:DAYLIGHT
TZOFFSETFROM:+0000
TZOFFSETTO:+0100
TZNAME:BST
DTSTART:20240331T010000
END:DAYLIGHT
BEGIN:STANDARD
TZOFFSETFROM:+0100
TZOFFSETTO:+0000
TZNAME:GMT
DTSTART:20241027T010000
END:STANDARD
END:VTIMEZONE
BEGIN:VEVENT
DTSTART;TZID=Europe/London:20230923T200000
DTEND;TZID=Europe/London:20230923T223000
DTSTAMP:20260419T133758
CREATED:20230713T150633Z
LAST-MODIFIED:20230728T170410Z
UID:11139-1695499200-1695508200@supersonic-club.fr
SUMMARY:Strawberry Guy en concert au Supersonic Records !
DESCRIPTION:Strawberry Guy\, l’impressionniste solitaire aux paysages émotionnels mouvants sera en concert au Supersonic Records le 23 Septembre 2023 ! \n \nSupersonic Records présente…\nStrawberry Guy en concert à Paris !\nTickets : https://link.dice.fm/Se06e797c7ac \nImpressionniste solitaire\, peignant des paysages sonores majestueux\, Strawberry Guy mêle des paroles vraies à des arrangements luxuriants pour évoquer de nouveaux mondes émotionnels. \nInspiré par les compositeurs de la période romantique\, son pays des merveilles se déplace comme un tableau de Monet où les arpèges dansent entre des prairies de dynamiques éblouissantes et de changements de tonalité dramatiques. En imitant l’effet de la nature sur l’émotion\, comme les auteurs-compositeurs des années 70\, ou les bandes sonores fantastiques du Studio Ghibli\, le paysage est mis en avant. \nEcouter\nhttps://soundcloud.com/strawberryguy \nRegarder\nhttps://www.youtube.com/@strawberryguy3154 \nAimer\nhttps://www.instagram.com/strawberry_guy/\n———————————\nSamedi 23 Septembre 2023\n• Ouverture des portes à 19h\n• Bar sur place\n• Prévente à 13€ / 16€ sur place\n• Accès interdit aux moins de 16 ans sauf si accompagnés d’un tuteur légal\n———————————\nSupersonic Records\n9 rue Biscornet 75012 Paris\nMetro Bastille\nhttps://supersonic-records.fr/ \nTarifs : Complet \nBilletteries : DICE
URL:http://supersonic-club.fr/event/strawberry-guy-en-concert-au-supersonic-records/
LOCATION:Supersonic Records\, 9 Rue Biscornet\, Paris\, 75012\, France
CATEGORIES:Concert,Pop / Rock / Folk,Sowprog,Strawberry Guy,Supersonic Records
ATTACH;FMTTYPE=image/jpeg:http://supersonic-club.fr/wp-content/uploads/2023/07/namethumb_w600px_img_event_594e5a2a-5ea2-43b0-87b6-6456c6e27467-1.jpg
END:VEVENT
END:VCALENDAR