BEGIN:VCALENDAR
VERSION:2.0
PRODID:-//Supersonic - ECPv6.15.20//NONSGML v1.0//EN
CALSCALE:GREGORIAN
METHOD:PUBLISH
X-ORIGINAL-URL:http://supersonic-club.fr
X-WR-CALDESC:Évènements pour Supersonic
REFRESH-INTERVAL;VALUE=DURATION:PT1H
X-Robots-Tag:noindex
X-PUBLISHED-TTL:PT1H
BEGIN:VTIMEZONE
TZID:Europe/London
BEGIN:DAYLIGHT
TZOFFSETFROM:+0000
TZOFFSETTO:+0100
TZNAME:BST
DTSTART:20220327T010000
END:DAYLIGHT
BEGIN:STANDARD
TZOFFSETFROM:+0100
TZOFFSETTO:+0000
TZNAME:GMT
DTSTART:20221030T010000
END:STANDARD
BEGIN:DAYLIGHT
TZOFFSETFROM:+0000
TZOFFSETTO:+0100
TZNAME:BST
DTSTART:20230326T010000
END:DAYLIGHT
BEGIN:STANDARD
TZOFFSETFROM:+0100
TZOFFSETTO:+0000
TZNAME:GMT
DTSTART:20231029T010000
END:STANDARD
BEGIN:DAYLIGHT
TZOFFSETFROM:+0000
TZOFFSETTO:+0100
TZNAME:BST
DTSTART:20240331T010000
END:DAYLIGHT
BEGIN:STANDARD
TZOFFSETFROM:+0100
TZOFFSETTO:+0000
TZNAME:GMT
DTSTART:20241027T010000
END:STANDARD
END:VTIMEZONE
BEGIN:VEVENT
DTSTART;TZID=Europe/London:20230417T190000
DTEND;TZID=Europe/London:20230417T230000
DTSTAMP:20260424T061412
CREATED:20230324T190639Z
LAST-MODIFIED:20230324T190639Z
UID:10267-1681758000-1681772400@supersonic-club.fr
SUMMARY:Bo Ningen • Storefront Church / Supersonic (Free entry)
DESCRIPTION:WELCOME TO SUPERSONIC\nConcerts gratuits\, Nuits rock et Disquaire à Paris ! \n \nBO NINGEN\n(Alternativ rock – Japon/Londres\, UK)\nBo Ningen are a Japanese four-piece alternative rock band consisting of Taigen Kawabe (bass/ vocals)\, Yuki Tsujii (guitar)\, Kohhei Matsuda (guitar) and Monchan Monna (drums). Though they come from Gumma\, Tajimi\, Nishinomiya\, and Tokyo in Japan\, they coalesced in London.\nWooed by many high-profile acts wanting to take them on tours and featured as icons in McQ by Alexander McQueen’s campaign and works by Juergen Teller\, as well as some of the world’s biggest festivals putting their name on their lineup including Glastonbury\, Coachella\, and Fuji Rock\, BO NINGEN embody today’s art/music scene where crossovers of different cultures are flourishing. They are fusing disparate sounds and influences into a fierce\, eclectic torrent of grooves and bringing them across the oceans.\nThis journey has been a success – Bo Ningen’s fearsome live reputation has led them to tour and appear with such notable artists as Nick Cave\, Primal Scream\, Super Furry Animals\, Kasabian\, TV on the Radio\, The Fall\, and Savages to name a few.\nTheir iconic look is only surpassed by their intense live performances\, which have earned them a place as one of the most captivating live acts in the UK. Featured at some of the world’s biggest festivals including Glastonbury\, Coachella\, Fuji Rock\, Off Festival\, Yoko Ono’s Meltdown Festival\, Colours of Ostrava and voted ‘Best Live Act’ at Green Man festival.\nMay 2021 saw the band issue their unique take on their first album completely ‘rebuilding\, mixing & remastering to create ‘Rebuilt’ their vision of how their first album would sound in 2021.\nWith the release of Holy Mountain scheduled for May 2023 to coincide with the films 50th anniversary\, new material being written and recorded plus their recent UK tour including several sold out shows\, Bo Ningen are bringing their quest for artistic invention to the fore.\nhttps://boningen.bandcamp.com/music\nhttps://www.youtube.com/watch?v=3ECNbsLDaOw \nSTOREFRONT CHURCH\n(Dark folk – Los Angeles\, USA)\nStorefront Church’s surreal\, lush\, and dark atmospheres are the creation of Los Angeles musician Lukas Frank. The project’s full-length debut\, As We Pass\, arrived in 2021.\nBorn and raised in Los Angeles\, Frank found work as a session musician starting at age 18 and spent time as a touring drummer for Portugal. The Man and many others before setting to work on a solo project. Drawing influence from the likes of Pink Floyd and Scott Walker\, he recorded the Storefront Church EP with several friends including Marshall Vore (Phoebe Bridgers)\, Bram Inscore (Twin Shadow)\, Waylon Rector (The Drums\, Alaska Reid) and engineer Cassidy Turbin (BECK\, Tashaki Miyaki). The completed EP was self-issued in late 2017.\nHe eventually drew the interest Sargent House\, which reissued the EP in 2019. His first song for the label\, « The Gift\, » was featured on the Netflix series The Queen’s Gambit. Recorded with collaborators including DIIV’s Zachary Cole Smith\, Storefront Church’s debut album\, As We Pass\, followed in May 2021.\nMost recently\, Lukas was on tour supporting DIIV in Europe\, is currently gearing up to release a covers EP with it’s first single featuring Phoebe Bridgers coming December 2nd\, is scoring a documentary film\, writing the theme song for upcoming AMC series Monsieur Spade\, recording an EP for a side project with Deafheaven’s Kerry McCoy\, and producing GZA of Wu-Tang Clan’s next solo record.\nhttps://open.spotify.com/artist/2hRQpaQds9ectgTszE5z7L\nhttps://www.youtube.com/watch?v=kJ4yYec1B7M \nLa suite de la programmation arrive très vite !\n———————————\nLundi 17 Avril 2023\nEntrée gratuite\n• Ouverture des portes à 19h00\n• Happy Hour de 19h à 20h (3€50 la pinte)\n• Si vous êtes témoin ou victime d’une agression\, vous pouvez alerter le personnel du bar ou si vous préférez\, vous pouvez nous écrire à cette adresse: communication@supersonic-paris.fr\n———————————\nSUPERSONIC\n9 rue Biscornet\, 75012 Paris\nMétro Bastille (sortie rue de lyon) \nTarifs : Gratuit
URL:http://supersonic-club.fr/event/bo-ningen-storefront-church-supersonic-free-entry/
LOCATION:SUPERSONIC\, 9 Rue Biscornet\, Paris\, 75012\, France
CATEGORIES:BO NINGEN,Concert,Pop / Rock / Folk,Sowprog,Storefront Church,SUPERSONIC
ATTACH;FMTTYPE=image/jpeg:http://supersonic-club.fr/wp-content/uploads/2023/03/namethumb_w600px_img_event_ca43a93d-2220-4f4a-99df-ee2973325841.jpg
END:VEVENT
END:VCALENDAR