BEGIN:VCALENDAR
VERSION:2.0
PRODID:-//Supersonic - ECPv6.15.20//NONSGML v1.0//EN
CALSCALE:GREGORIAN
METHOD:PUBLISH
X-WR-CALNAME:Supersonic
X-ORIGINAL-URL:http://supersonic-club.fr
X-WR-CALDESC:Évènements pour Supersonic
REFRESH-INTERVAL;VALUE=DURATION:PT1H
X-Robots-Tag:noindex
X-PUBLISHED-TTL:PT1H
BEGIN:VTIMEZONE
TZID:Europe/London
BEGIN:DAYLIGHT
TZOFFSETFROM:+0000
TZOFFSETTO:+0100
TZNAME:BST
DTSTART:20210328T010000
END:DAYLIGHT
BEGIN:STANDARD
TZOFFSETFROM:+0100
TZOFFSETTO:+0000
TZNAME:GMT
DTSTART:20211031T010000
END:STANDARD
BEGIN:DAYLIGHT
TZOFFSETFROM:+0000
TZOFFSETTO:+0100
TZNAME:BST
DTSTART:20220327T010000
END:DAYLIGHT
BEGIN:STANDARD
TZOFFSETFROM:+0100
TZOFFSETTO:+0000
TZNAME:GMT
DTSTART:20221030T010000
END:STANDARD
BEGIN:DAYLIGHT
TZOFFSETFROM:+0000
TZOFFSETTO:+0100
TZNAME:BST
DTSTART:20230326T010000
END:DAYLIGHT
BEGIN:STANDARD
TZOFFSETFROM:+0100
TZOFFSETTO:+0000
TZNAME:GMT
DTSTART:20231029T010000
END:STANDARD
END:VTIMEZONE
BEGIN:VEVENT
DTSTART;TZID=Europe/London:20220519T190000
DTEND;TZID=Europe/London:20220519T230000
DTSTAMP:20260424T130508
CREATED:20220318T193503Z
LAST-MODIFIED:20220401T180949Z
UID:7415-1652986800-1653001200@supersonic-club.fr
SUMMARY:Decasia Release Party au Supersonic (Free entry)
DESCRIPTION:WELCOME TO SUPERSONIC\nConcerts gratuits\, Nuits rock et Disquaire à Paris ! \n \nDECASIA // Release Party\n(Heavy Psych Rock – Heavy Psych Sounds Records – Paris\, FR)\n« DECASIA est un Trio de heavy psych rock\, originaire de Nantes\, maintenant basé sur Paris. Sur scène\, le trio propose un show immersif et puissant qui vous en met plein la vue !\nLe groupe offre un cocktail explosif\, empruntant autant aux grands noms du rock psyché qu’à la scène stoner actuelle nous montrant ainsi toute la richesse et diversité sonore que ce genre propose ! Après deux EPs ‘‘DECASIA’’ en 2014\, puis ‘‘The Lord is Gone’’ en 2017 ; le power trio sort son 1er album «  »‘An Endless Feasts for Hyenas’’ le 5 avril 2022. Un tournant créatif est progressivement emprunté\, cherchant des touches davantage heavy psych et krautrock. Cet album est une plongée complète et profonde dans l’univers de DECASIA\, un effort vaste\, éclectique et puissant. Le trio nous entraîne rapidement avec un son rock nuancé de stoner et de passages instrumentaux narratifs. »\nLes influences : All Them Witches\, Color Haze\, Elder\nhttps://youtu.be/qyYPbGGPHHk \nSTONE FROM THE SKY\n(Instrumental Fuzz – More Fuzz Records – Le Mans\, FR)\nFort d’un troisième album sorti à l’automne 2021\, Stone From The Sky poursuit sa mue et finit de casser son cocon stoner pour achever sa métamorphose. La bête se nourrit de rock psychédélique\, de post-rock\, de stoner\, de post-hardcore et de tout ce qui peut se rapprocher de près ou de loin de la scène fuzz\, pour toujours tracer son propre sillon\, égale à elle-même.\nLes influences : All Them Witches\, Aussitôt Mort\, The Ocean\nhttps://stonefromthesky.bandcamp.com/\nhttps://www.youtube.com/watch?v=vQPS7yriSJI \nTHE RED JACKS\n(Indie rock – M&O MUSIC – Marchiennes\, FR)\nThe Red Jacks est un trio de Punk Rock indépendant originaire du nord de la France qui a vu le jour fin 2019\, juste avant la pandémie. Il est composé d’Alicia Poznic (19 ans\, guitare/voix)\,Valentin Goubet (24 ans\, basse) et Adrien Pelissier (19 ans\, batterie). Fraichement formé\, le trio a alors dû apprendre à se connaitre en tant que groupe et comme individu à travers un écran. Au mépris de ces restrictions\, The Red Jacks a su tisser des liens et composer plusieurs morceaux.\nLes influences : Nirvana\, Garbage\, White Stripes\nhttps://bfan.link/17\nhttps://youtu.be/BtO0HSmijSg \nTarifs : Gratuit
URL:http://supersonic-club.fr/event/decasia-release-party-au-supersonic-free-entry/
LOCATION:SUPERSONIC\, 9 Rue Biscornet\, Paris\, 75012\, France
CATEGORIES:Concert,DECASIA,Pop / Rock / Folk,Sowprog,Stone From The Sky,The Red Jacks
ATTACH;FMTTYPE=image/jpeg:http://supersonic-club.fr/wp-content/uploads/2022/03/namethumb_w600px_img_event_992f0845-25ae-4192-abad-2cc7bfb21c9d-2.jpg
END:VEVENT
END:VCALENDAR