BEGIN:VCALENDAR
VERSION:2.0
PRODID:-//Supersonic - ECPv6.15.20//NONSGML v1.0//EN
CALSCALE:GREGORIAN
METHOD:PUBLISH
X-WR-CALNAME:Supersonic
X-ORIGINAL-URL:http://supersonic-club.fr
X-WR-CALDESC:Évènements pour Supersonic
REFRESH-INTERVAL;VALUE=DURATION:PT1H
X-Robots-Tag:noindex
X-PUBLISHED-TTL:PT1H
BEGIN:VTIMEZONE
TZID:Europe/London
BEGIN:DAYLIGHT
TZOFFSETFROM:+0000
TZOFFSETTO:+0100
TZNAME:BST
DTSTART:20230326T010000
END:DAYLIGHT
BEGIN:STANDARD
TZOFFSETFROM:+0100
TZOFFSETTO:+0000
TZNAME:GMT
DTSTART:20231029T010000
END:STANDARD
BEGIN:DAYLIGHT
TZOFFSETFROM:+0000
TZOFFSETTO:+0100
TZNAME:BST
DTSTART:20240331T010000
END:DAYLIGHT
BEGIN:STANDARD
TZOFFSETFROM:+0100
TZOFFSETTO:+0000
TZNAME:GMT
DTSTART:20241027T010000
END:STANDARD
BEGIN:DAYLIGHT
TZOFFSETFROM:+0000
TZOFFSETTO:+0100
TZNAME:BST
DTSTART:20250330T010000
END:DAYLIGHT
BEGIN:STANDARD
TZOFFSETFROM:+0100
TZOFFSETTO:+0000
TZNAME:GMT
DTSTART:20251026T010000
END:STANDARD
END:VTIMEZONE
BEGIN:VEVENT
DTSTART;TZID=Europe/London:20240926T190000
DTEND;TZID=Europe/London:20240926T231000
DTSTAMP:20260420T095640
CREATED:20240802T142120Z
LAST-MODIFIED:20240924T133530Z
UID:14344-1727377200-1727392200@supersonic-club.fr
SUMMARY:Steve Amber • Venus As A Boy • Julien Appalache / Supersonic (Free entry)
DESCRIPTION:Cette soirée plaira aux fans de… Tame Impala\, Radiohead & Johnny Mafia \n \nSTEVE AMBER (22h30)\n(Indie pop – Brest\, FR)\nSTEVE AMBER a été assemblé dans les laboratoires secrets d’une mégacorporation destinée à contrôler les masses par des moyens technologiques sophistiqués. Mais quelque chose s’est mal passé. Une étincelle d’humanité\, une note de rébellion s’est infiltrée dans ses circuits. Échappant à ses créateurs\, il a choisi la musique comme arme\, ses chansons racontant des histoires de lutte\, de liberté et de l’essence même de ce qui nous rend humain(s).\nMuni de synthétiseurs\, de guitares\, d’une boîte à rythme et d’une batterie\, le groupe caché derrière le masque de STEVE AMBER crée un son indie pop unique et envoûtant. Il équilibre la complexité expérimentale avec une intensité brute et contagieuse\, faisant de ses performances une expérience inoubliable et captivante.\nLes 3 influences : Tame Impala\, Radiohead\, Wand\nhttps://baco.lnk.to/Hypnagogia\nhttps://www.youtube.com/channel/UCKY6fyWtEtvxjNog8X8gu6w \nVENUS AS A BOY (21h30)\n(Garage post punk – Marseille\, FR)\nEntre le post-punk\, le garage\, le psyché et l’alternatif\, Venus As A Boy nous transporte dans un univers complexe en ne revendiquant aucune étiquette précise.\nLeurs lives à l’énergie sauvage et à l’atmosphère nomade nous font vibrer à travers un son brutal et abrasif contrasté par des mélodies mélancoliques à fleur de peau.\nIci\, les guitares pleurent…et se mettent au service d’une voix tiraillée à la fois fragile\, envoûtante mais habitée. La basse ainsi que la batterie imposent quant à elles un rythme de croisière lourd et méthodique\, zébré d’électricité anglo-saxonne.\nAvec un premier EP 5 titres à leur actif sorti en 2019 et bien remarqué par le label américain Holy Craps record\, le groupe transpire une vraie volonté d’évasion et de sincérité\, livrant des émotions brutes et intimes.\nLes 3 influences : Fontaines DC\, Pavement\, Preoccupations\nhttps://venusasabooy.bandcamp.com/album/venus-as-a-boy\nhttps://www.youtube.com/channel/UCV_cXRycFt6m-h2V6eE6XVA \nJULIEN APPALACHE (20h30)\n(Pop rock psyché – Lanildut\, FR)\nMulti-instrumentiste exilé en Bretagne\, Julien Appalache fait souffler un vent frais sur la scène française avec un premier album joueur et joyeux\, où pop et chanson entrent en collision.\nLes 3 influences : Kevin Morby\, Paul McCartney\, Pierre Richard\nhttps://open.spotify.com/…/7LsqOXwa1NTIi9pkvvy4Qa…\nhttp://www.youtube.com/@thelifeasjulienmagot\n———————————\nJeudi 26 Septembre 2024\nEntrée gratuite\n• Ouverture des portes à 19h00\n• Happy Hour de 19h à 20h\n• Si vous êtes témoin ou victime d’une agression\, vous pouvez alerter le personnel du bar ou si vous préférez\, vous pouvez nous écrire à cette adresse: communication@supersonic-paris.fr\n———————————\nSUPERSONIC\n9 rue Biscornet\, 75012 Paris\nMétro Bastille (sortie rue de lyon) \nTarifs : Gratuit
URL:http://supersonic-club.fr/event/steve-amber-venus-as-a-boy-julien-appalache-supersonic-free-entry/
LOCATION:SUPERSONIC\, 9 Rue Biscornet\, Paris\, 75012\, France
CATEGORIES:Concert,Julien Appalache,Pop / Rock / Folk,Sowprog,STEVE AMBER,SUPERSONIC,Supersonic Productions,Venus As A Boy
ATTACH;FMTTYPE=image/jpeg:http://supersonic-club.fr/wp-content/uploads/2024/08/namethumb_w600px_img_event_f2bca667-a33f-483c-8282-eaddfbe44145-1.jpg
END:VEVENT
END:VCALENDAR