BEGIN:VCALENDAR
VERSION:2.0
PRODID:-//Supersonic - ECPv6.15.20//NONSGML v1.0//EN
CALSCALE:GREGORIAN
METHOD:PUBLISH
X-ORIGINAL-URL:http://supersonic-club.fr
X-WR-CALDESC:Évènements pour Supersonic
REFRESH-INTERVAL;VALUE=DURATION:PT1H
X-Robots-Tag:noindex
X-PUBLISHED-TTL:PT1H
BEGIN:VTIMEZONE
TZID:Europe/London
BEGIN:DAYLIGHT
TZOFFSETFROM:+0000
TZOFFSETTO:+0100
TZNAME:BST
DTSTART:20210328T010000
END:DAYLIGHT
BEGIN:STANDARD
TZOFFSETFROM:+0100
TZOFFSETTO:+0000
TZNAME:GMT
DTSTART:20211031T010000
END:STANDARD
BEGIN:DAYLIGHT
TZOFFSETFROM:+0000
TZOFFSETTO:+0100
TZNAME:BST
DTSTART:20220327T010000
END:DAYLIGHT
BEGIN:STANDARD
TZOFFSETFROM:+0100
TZOFFSETTO:+0000
TZNAME:GMT
DTSTART:20221030T010000
END:STANDARD
BEGIN:DAYLIGHT
TZOFFSETFROM:+0000
TZOFFSETTO:+0100
TZNAME:BST
DTSTART:20230326T010000
END:DAYLIGHT
BEGIN:STANDARD
TZOFFSETFROM:+0100
TZOFFSETTO:+0000
TZNAME:GMT
DTSTART:20231029T010000
END:STANDARD
END:VTIMEZONE
BEGIN:VEVENT
DTSTART;TZID=Europe/London:20220325T190000
DTEND;TZID=Europe/London:20220325T230000
DTSTAMP:20260425T022744
CREATED:20220210T134415Z
LAST-MODIFIED:20220210T134415Z
UID:7135-1648234800-1648249200@supersonic-club.fr
SUMMARY:Madam   • Spiralpark • Dealing For Dimes / Supersonic (Free entry)
DESCRIPTION:Supersonic : Concerts gratuits\, nuits rock\, disquaire à Paris \n \nMADAM //\n(Garage rock – Toulouse\, FR)\n« On aime le fait que les gens viennent voir un groupe dont ils n’ont jamais entendu parler\, et repartent en nous disant qu’ils ne s’attendaient pas à se prendre autant d’énergie dans la gueule. On aime ce qu’on fait\, et on le fait avec nos putains de tripes. Ce qu’on veut\, c’est que les gens sentent ça\, et qu’ils voient le plaisir qu’on a à monter sur scène\, à ressortir moites de sueur\, la bouche pâteuse\, avec une seule envie : recommencer. »\n-https://www.youtube.com/watch?v=Dr9W_Demp20 \nSPIRALPARK\n(Fuzz/Garage/Psych – Menton\, FR)\nSpiralpark joue un Rock Garage aux compositions efficaces qui\, tout en assumant des influences Stoner Rock évidentes\, ne renient pas certaines racines 70’s. Le quatuor cite comme références des artistes tels que Thee Oh Sees\, Slift\, All Them Witches\, Fu Manchu ou Bass Drum of Death\, en gardant toutefois une identité artistique marquée\, faite de mélodies de chant envoûtantes\, d’accalmies psychédéliques et de rafales Fuzz.\n– https://www.youtube.com/watch?v=LPh4wUUx5M0\nLes 3 influences : Thee Oh Sees\, Slift\, All Them Witches \nDEALING FOR DIMES\n(Rock/Punk/Metal alternatif – Paris\, FR)\nDealing for Dimes est un groupe de Punk-Rock alternatif\, formé en 2017. Style à la fois provocateur et envoûtant\, préparez-vous à un coup de poing de jeunesse et un retour à la révolution du punk et du Rock n’Roll.\n– https://www.youtube.com/watch?v=pPgznBkj7X0\nLes 3 influences : Tool\, Nirvana\, Fever 333 \nTarifs : Gratuit
URL:http://supersonic-club.fr/event/madam-spiralpark-dealing-for-dimes-supersonic-free-entry/
CATEGORIES:Concert,Dealing For Dimes,MADAM,Pop / Rock / Folk,Sowprog,Spiralpark
ATTACH;FMTTYPE=image/jpeg:http://supersonic-club.fr/wp-content/uploads/2022/02/namethumb_w600px_img_event_2151a0fc-5aad-4bb1-9192-300a88e327c8-1.jpg
END:VEVENT
END:VCALENDAR