BEGIN:VCALENDAR
VERSION:2.0
PRODID:-//Supersonic - ECPv6.15.20//NONSGML v1.0//EN
CALSCALE:GREGORIAN
METHOD:PUBLISH
X-ORIGINAL-URL:http://supersonic-club.fr
X-WR-CALDESC:Évènements pour Supersonic
REFRESH-INTERVAL;VALUE=DURATION:PT1H
X-Robots-Tag:noindex
X-PUBLISHED-TTL:PT1H
BEGIN:VTIMEZONE
TZID:Europe/London
BEGIN:DAYLIGHT
TZOFFSETFROM:+0000
TZOFFSETTO:+0100
TZNAME:BST
DTSTART:20180325T010000
END:DAYLIGHT
BEGIN:STANDARD
TZOFFSETFROM:+0100
TZOFFSETTO:+0000
TZNAME:GMT
DTSTART:20181028T010000
END:STANDARD
BEGIN:DAYLIGHT
TZOFFSETFROM:+0000
TZOFFSETTO:+0100
TZNAME:BST
DTSTART:20190331T010000
END:DAYLIGHT
BEGIN:STANDARD
TZOFFSETFROM:+0100
TZOFFSETTO:+0000
TZNAME:GMT
DTSTART:20191027T010000
END:STANDARD
BEGIN:DAYLIGHT
TZOFFSETFROM:+0000
TZOFFSETTO:+0100
TZNAME:BST
DTSTART:20200329T010000
END:DAYLIGHT
BEGIN:STANDARD
TZOFFSETFROM:+0100
TZOFFSETTO:+0000
TZNAME:GMT
DTSTART:20201025T010000
END:STANDARD
END:VTIMEZONE
BEGIN:VEVENT
DTSTART;TZID=Europe/London:20191102T200000
DTEND;TZID=Europe/London:20191102T233000
DTSTAMP:20260424T224834
CREATED:20190618T080740Z
LAST-MODIFIED:20191014T154336Z
UID:4642-1572724800-1572737400@supersonic-club.fr
SUMMARY:Sparkling • The Kecks • The Rabblers / Supersonic (Free entry)
DESCRIPTION:▬ Le Supersonic présente ▬ \n \n▬▬▬ ENTREE LIBRE JUSQU’A 23H ▬▬▬▬ \n→ SPARKLING (« I Want to See Everything »-Tour)\n(Indie rock / Post-punk – Vitamin A Records – Cologne\,ALL) \n«A highly concentrated blend of hypnotic drums and multifaceted pop song-writing with guitars. Sparkling means\nelectrified post-punk\, breathless and elegant\, somewhere\nbetween Cologne and London. \n„I Want To See Everything“… how unabashedly sincere such\nan album title can be. Sparkling are not stuck mid-pose\,\nthey want to carry their energetic music out into the world.\nTheir multilingual album enables the three boys from Cologne\nto do exactly that. In the universal language of pop\, it\ntranscends featured languages German\, English and French. \nAll this could be the result of an extended stay in pop\nmetropolis London\, visiting or playing gigs on a daily basis\nwhile working menial daytime jobs. What else was there to do\nin a tiny\, barely affordable one-room flat?\nSparkling are no product of a regional scene. This is the\npreeminent blueprint of a truly European band. Witness what it\nreally means to be part of an open Europe\, at a concert or\nlistening to a record. \nWithout a doubt\, their sound represents the great global\npromise of pop like no other act has managed to do for a long\ntime – especially not from Germany.\nIf you are after sweaty euphoria\, this is your promised\nland. This album comes at the perfect time.» \n► Liker: https://www.facebook.com/Sparklingofficial/\n► Regarder: https://www.youtube.com/user/Sparklingofficial/videos \n→ THE KECKS\n(Rock / Indie – Hambourg\, ALL) \n« Après avoir complété leur line-up fin 2018 et sorti leur premier single en juin 2019\, les Kecks de Hambourg viennent en France pour quelques dates. Originaires de France\, Australie\, Angleterre et Autriche\, les 4 musiciens proposent un rock varié aux multiples surprises. » \nLes 3 influences: The Growlers\, The Strokes\, Unknown Mortal Orchestra \n► Liker: https://www.facebook.com/thekecksofficial\n► Ecouter: https://soundcloud.com/thekecksofficial\n► Regarder: https://www.youtube.com/watch?v=a07FLUk6lBI \n→ THE RABBLERS\n(Garage punk – Lofish Records – Paris) \n« The Rabblers\, ou comment revisiter 60 ans de Rock n’ roll\, de Bo Diddley à Uranium Club.\nUn EP « Hymns of slaves » est sorti avec des remix en face B. » \n► Liker: https://www.facebook.com/Therabblers/\n► Ecouter: https://therabblers.bandcamp.com/album/hymns-of-slaves\n► Regarder: https://www.youtube.com/watch?v=1cZ6W25gbE8 \n▬▬▬ INFOS PRATIQUES ▬▬▬ \nSamedi 2 Novembre 2019\nEntrée gratuite jusqu’à 23h \n– Ouverture des portes à 19h\n– Début des concerts vers 20h\n– Happy Hour de 19h à 20h (3€50 la pinte)\n– Hot Dog au bar \n▬▬▬▬▬▬▬▬▬▬▬▬▬▬▬▬▬▬▬▬▬▬▬ \nSUPERSONIC\n9 rue Biscornet\, 75012 Paris\nMétro Bastille (sortie rue de lyon)\nhttp://supersonic-club.fr/\nObjets Perdus: https://forms.gle/rZxcMgGD5G82JnMQ9\nNewsletter du Supersonic: http://eepurl.com/gmxPzb​ \nTarifs : Gratuit
URL:http://supersonic-club.fr/event/sparkling-en-concert-au-supersonic-free-entry/
LOCATION:SUPERSONIC\, 9 Rue Biscornet\, Paris\, 75012\, France
CATEGORIES:Concert,Pop / Rock / Folk,Sowprog,Sparkling,The Kecks,The Rabblers
ATTACH;FMTTYPE=image/jpeg:http://supersonic-club.fr/wp-content/uploads/2019/06/namethumb_w600px_img_event_6be3d2d4-2fdf-41c0-a55e-683f068da5fd-2.jpg
END:VEVENT
END:VCALENDAR