BEGIN:VCALENDAR
VERSION:2.0
PRODID:-//Supersonic - ECPv6.15.20//NONSGML v1.0//EN
CALSCALE:GREGORIAN
METHOD:PUBLISH
X-WR-CALNAME:Supersonic
X-ORIGINAL-URL:http://supersonic-club.fr
X-WR-CALDESC:Évènements pour Supersonic
REFRESH-INTERVAL;VALUE=DURATION:PT1H
X-Robots-Tag:noindex
X-PUBLISHED-TTL:PT1H
BEGIN:VTIMEZONE
TZID:Europe/London
BEGIN:DAYLIGHT
TZOFFSETFROM:+0000
TZOFFSETTO:+0100
TZNAME:BST
DTSTART:20190331T010000
END:DAYLIGHT
BEGIN:STANDARD
TZOFFSETFROM:+0100
TZOFFSETTO:+0000
TZNAME:GMT
DTSTART:20191027T010000
END:STANDARD
BEGIN:DAYLIGHT
TZOFFSETFROM:+0000
TZOFFSETTO:+0100
TZNAME:BST
DTSTART:20200329T010000
END:DAYLIGHT
BEGIN:STANDARD
TZOFFSETFROM:+0100
TZOFFSETTO:+0000
TZNAME:GMT
DTSTART:20201025T010000
END:STANDARD
BEGIN:DAYLIGHT
TZOFFSETFROM:+0000
TZOFFSETTO:+0100
TZNAME:BST
DTSTART:20210328T010000
END:DAYLIGHT
BEGIN:STANDARD
TZOFFSETFROM:+0100
TZOFFSETTO:+0000
TZNAME:GMT
DTSTART:20211031T010000
END:STANDARD
END:VTIMEZONE
BEGIN:VEVENT
DTSTART;TZID=Europe/London:20200304T200000
DTEND;TZID=Europe/London:20200304T233000
DTSTAMP:20260423T185054
CREATED:20200214T133932Z
LAST-MODIFIED:20200214T133932Z
UID:5886-1583352000-1583364600@supersonic-club.fr
SUMMARY:Inrocks Super Club #6 — Opening Les Inrocks Festival le 4 mars
DESCRIPTION:Les Inrockuptibles et Super! continuent leurs explorations musicales au Supersonic ! \n \nRendez-vous tous les mois pour découvrir 3 groupes de la scène française ou internationale et perpétuer la tradition de prescription et de défrichage de ces 3 acteurs de la musique. \nAu programme de cette 6ème édition qui sera également la soirée d’ouverture des Les Inrocks Festival 2020 : Lulu Van Trapp\, Serpent et un troisième artiste à venir! \nLulu Van Trapp\nS’emparant des styles et des fantasmes du passé avec autant de légèreté que de souplesse\, Lulu Van Trapp chante des titres générationnels et surréalistes sur une jeunesse rêvée\, des amours qui fanent\, la douce solitude et le dépassement de soi. Naviguant entre le français et l’anglais\, les quatre acolytes bouleversent par une chimie qui leur est propre. C’est un spectacle pop et mystique\, minutieusement brutal\, électrique\, joyeux. \nSERPENT\nSERPENT – une musique idiote aux émotions binaires crée par cinq cerveaux reptiliens (Lescop\, Adrian Edeline\, Quentin Rochas\, Martin Lefebvre\, Wendy Killmann) pour que ton cerveau ne parvienne à fonctionner autrement qu’en tapant du pied. Une réptation entre des rythmes mécaniques\, répétitifs\, des sons acérés et des grooves paranoïaques\, un safari dans une jungle en polystyrène… \n— mercredi 4 mars\n19h/minuit\nEntrée libre\nAccès à l’évènement dans la limite de la capacité du lieu. \nBillet coupe-file :  bientôt disponible\nAu Supersonic\, le premier arrivé est le premier rentré. Bonus ? Avec ce billet\, on te garantit une entrée en coupe-file\, et cela\, avant 20h30. L’évent est déjà sur liste d’attente ? Pas de panique\, seuls les coupes-files sont épuisés. Alors\, rendez-vous directement sur place. \nTarifs : Gratuit
URL:http://supersonic-club.fr/event/inrocks-super-club-6-opening-les-inrocks-festival-le-4-mars/
CATEGORIES:Clubbing,Lulu Van Trapp,Pop / Rock / Folk,Serpent,Sowprog
ATTACH;FMTTYPE=image/jpeg:http://supersonic-club.fr/wp-content/uploads/2020/02/namethumb_w600px_img_event_030528f7-45cd-45ba-b283-e1e35263dec1.jpg
END:VEVENT
END:VCALENDAR