BEGIN:VCALENDAR
VERSION:2.0
PRODID:-//Supersonic - ECPv6.15.20//NONSGML v1.0//EN
CALSCALE:GREGORIAN
METHOD:PUBLISH
X-WR-CALNAME:Supersonic
X-ORIGINAL-URL:http://supersonic-club.fr
X-WR-CALDESC:Évènements pour Supersonic
REFRESH-INTERVAL;VALUE=DURATION:PT1H
X-Robots-Tag:noindex
X-PUBLISHED-TTL:PT1H
BEGIN:VTIMEZONE
TZID:Europe/London
BEGIN:DAYLIGHT
TZOFFSETFROM:+0000
TZOFFSETTO:+0100
TZNAME:BST
DTSTART:20180325T010000
END:DAYLIGHT
BEGIN:STANDARD
TZOFFSETFROM:+0100
TZOFFSETTO:+0000
TZNAME:GMT
DTSTART:20181028T010000
END:STANDARD
BEGIN:DAYLIGHT
TZOFFSETFROM:+0000
TZOFFSETTO:+0100
TZNAME:BST
DTSTART:20190331T010000
END:DAYLIGHT
BEGIN:STANDARD
TZOFFSETFROM:+0100
TZOFFSETTO:+0000
TZNAME:GMT
DTSTART:20191027T010000
END:STANDARD
BEGIN:DAYLIGHT
TZOFFSETFROM:+0000
TZOFFSETTO:+0100
TZNAME:BST
DTSTART:20200329T010000
END:DAYLIGHT
BEGIN:STANDARD
TZOFFSETFROM:+0100
TZOFFSETTO:+0000
TZNAME:GMT
DTSTART:20201025T010000
END:STANDARD
END:VTIMEZONE
BEGIN:VEVENT
DTSTART;TZID=Europe/London:20190827T210000
DTEND;TZID=Europe/London:20190828T003000
DTSTAMP:20260421T023817
CREATED:20190827T154448Z
LAST-MODIFIED:20190827T154448Z
UID:5031-1566939600-1566952200@supersonic-club.fr
SUMMARY:Moto Raide • Versolo • Scuffles / Supersonic (Free entry)
DESCRIPTION:▬ Le Supersonic présente ▬ \n \n▬▬▬ ENTREE LIBRE ▬▬▬▬ \n→ MOTO RAIDE\n(Rock – Rennes\, FR) \n« Le meilleur nom de groupe du monde. Du rock\, du rock et du rock. Une approche garage cradingue\, des riffs qui tournent\, de la reverb à gogo\, de la sueur et une envie de brûler sa vie par les deux bouts.\nOn y trouve aussi des rythmiques répétitives\, des explosions frénétiques et des petits chœurs tout choupis.\nBref\, une musique fort jouissive pour un ambianceur de luxe ! » \n► Liker : https://www.facebook.com/motoraide.rock/\n► Ecouter : https://motoraide.bandcamp.com \n→ VERSOLO\n(Punk Noise – Paris) \n » « Et le voici au fond de palais monstrueux\,\nDont les vitraux dardent aux cieux\,\nL’inquiétude\,\nEt le voici\, soudain\, qui se transforme en multitude »\nCes simples vers de Verhaeren pourraient suffire à appréhender la folie Versolo. Une description cependant bien réductrice pour ce quatuor Cristolien qui vous fera gambiller au rythme de mélopées post-punk teintées d’un logos désenchanté. » \n► Liker : https://www.facebook.com/Versolo-141124919293488/\n► Ecouter : https://versolo.bandcamp.com/\n► Regarder: https://www.youtube.com/watch?v=sL5-OG6q8S0 \n→ SCUFFLES\n(Garage / Techno – Angers\, FR) \n« Résolument frontale\, voire même « bas-du-front »\, la techno-garage de SCUFFLES n’a qu’un seul objectif: retourner la fosse. Amateurs de grandes envolées lyriques\, passez votre chemin\, ici l’ampli est sur 11 et la rythmique simpliste. Quand la seule issue c’est la bagarre\, SCUFFLES est là pour déclencher l’embrouille. » \nLes 3 influences: Bass Drum of Death\,  Rendez-Vous\, Schweffelgelb \n► Liker : https://www.facebook.com/scufflesembrouille/\n► Ecouter / Regarder : https://www.milkymoodmusic.com/scuffles \n▬▬▬ INFOS PRATIQUES ▬▬▬ \nMardi 27 août 2019\nEntrée gratuite \n– Ouverture des portes à 18h30\n– Début des concerts vers 20h\n– Happy Hour de 18h30 à 20h (3€50 la pinte)\n– Hot Dog au bar \n▬▬▬▬▬▬▬▬▬▬▬▬▬▬▬▬▬▬▬▬▬▬▬ \nSUPERSONIC\n9 rue Biscornet\, 75012 Paris\nMétro Bastille (sortie rue de lyon)\nhttp://supersonic-club.fr/ \nTarifs : Gratuit
URL:http://supersonic-club.fr/event/moto-raide-%e2%80%a2-versolo-%e2%80%a2-scuffles-supersonic-free-entry/
LOCATION:SUPERSONIC\, 9 Rue Biscornet\, Paris\, 75012\, France
CATEGORIES:Concert,Moto Raide,Pop / Rock / Folk,Scuffles,VERSOLO
ATTACH;FMTTYPE=image/jpeg:http://supersonic-club.fr/wp-content/uploads/2019/08/namethumb_w600px_img_event_70507a01-8e7e-4be7-b3d0-bb695d1df637.jpg
END:VEVENT
END:VCALENDAR