BEGIN:VCALENDAR
VERSION:2.0
PRODID:-//Supersonic - ECPv6.15.20//NONSGML v1.0//EN
CALSCALE:GREGORIAN
METHOD:PUBLISH
X-ORIGINAL-URL:http://supersonic-club.fr
X-WR-CALDESC:Évènements pour Supersonic
REFRESH-INTERVAL;VALUE=DURATION:PT1H
X-Robots-Tag:noindex
X-PUBLISHED-TTL:PT1H
BEGIN:VTIMEZONE
TZID:Europe/London
BEGIN:DAYLIGHT
TZOFFSETFROM:+0000
TZOFFSETTO:+0100
TZNAME:BST
DTSTART:20160327T010000
END:DAYLIGHT
BEGIN:STANDARD
TZOFFSETFROM:+0100
TZOFFSETTO:+0000
TZNAME:GMT
DTSTART:20161030T010000
END:STANDARD
BEGIN:DAYLIGHT
TZOFFSETFROM:+0000
TZOFFSETTO:+0100
TZNAME:BST
DTSTART:20170326T010000
END:DAYLIGHT
BEGIN:STANDARD
TZOFFSETFROM:+0100
TZOFFSETTO:+0000
TZNAME:GMT
DTSTART:20171029T010000
END:STANDARD
BEGIN:DAYLIGHT
TZOFFSETFROM:+0000
TZOFFSETTO:+0100
TZNAME:BST
DTSTART:20180325T010000
END:DAYLIGHT
BEGIN:STANDARD
TZOFFSETFROM:+0100
TZOFFSETTO:+0000
TZNAME:GMT
DTSTART:20181028T010000
END:STANDARD
END:VTIMEZONE
BEGIN:VEVENT
DTSTART;TZID=Europe/London:20170401T210000
DTEND;TZID=Europe/London:20170402T003000
DTSTAMP:20260421T084830
CREATED:20170310T124840Z
LAST-MODIFIED:20170310T124840Z
UID:998-1491080400-1491093000@supersonic-club.fr
SUMMARY:69 • Saurien // Supersonic - Free
DESCRIPTION:▬▬▬ ENTRÉE LIBRE ▬▬▬▬▬▬▬▬▬▬▬▬ \nLe Supersonic présente… \n \n▬▬▬ ENTRÉE LIBRE ▬▬▬▬▬▬▬▬▬▬▬▬ \nLe Supersonic présente… \n▬▬▬ LINE UP ▬▬▬▬▬▬▬▬▬▬▬▬▬▬▬▬ \n→ 69\n(Cold Post Punk Contemporaine – Lowmen Records / Le Turc Mécanique – Fr) \nHeroic\, troisième album de 69 n’est ni plus ni moins que l’aboutissement de plus de 3 ans de travail. Si\, à l’orée de la nouvelle décennie\, ils emmenaient l’électro-rock dans des horizons déviants avec Novo Rock\, avant de resserrer leur son et de glacer plus encore leur propos sur Adulte\, Virginie Peitavi et Armand Gonzalez poussent leur musique dans des retranchements inédits pour Heroic. Plus radical que jamais\, Heroic est un disque incarné où l’ambiance est macabre\, presque totalitaire. La froideur résonne partout comme une affirmation d’humanité et une aspiration à renouer un contact chaleureux avec le vie qui reste. Une musique d’errance dans un monde allé au bout de lui-même\, terrassante\, qui a en elle toute l’intelligence nécessaire pour redonner du sens aux étiquettes usées de « cold » et de « post-punk ». Le groupe impose dans ce nouveau format un vertige de fin du monde. \nLes 3 influences: PIL\, The Cure (1980/1982)\, Ennio Morricone \n► Liker: https://www.facebook.com/69-296115141042/\n► Ecouter: https://69official.bandcamp.com/releases\n► Regarder : https://www.youtube.com/channel/UCQRP6HDZPBXJkV9o0IKRE-A \n→ SAURIEN\n(Post Punk – Paris) \nAncienne moitié de Déficit Budgétaire\, Saurien créé des riffs de guitare dissonants et répétitifs auxquels viennent s’ajouter un chant scandé et une boite à rythme incisive. Il est influencé par la scène post-punk actuelle\, le noise rock et la no wave des années 80.  \nLes 3 influences: Sonic Youth\, Liars\, Housewives \n► Liker : https://www.facebook.com/saurienparis\n► Ecouter : https://saurien.bandcamp.com/ \n+ GUEST \n▬▬▬ INFOS PRATIQUES ▬▬▬▬▬▬▬▬▬▬▬ \nSamedi 1 Avril 2017 – 20h\nEntrée gratuite\nHappy Hour 18h30-20h (3€50 la pinte)\nFoodtruck hot dog au 1er étage \n▬▬▬▬▬▬▬▬▬▬▬▬▬▬▬▬▬▬▬▬▬▬▬ \nSUPERSONIC\n9 rue Biscornet\, 75012 Paris\nMétro Bastille (sortie rue de lyon)\nhttp://supersonic-club.fr/\nInscription à la newsletter du Supersonic: http://bit.ly/1lWTnx4 \nTarifs : Gratuit
URL:http://supersonic-club.fr/event/69-%e2%80%a2-saurien-supersonic-free/
LOCATION:SUPERSONIC\, 9 Rue Biscornet\, Paris\, 75012\, France
CATEGORIES:69,Concert,Pop / Rock / Folk,Saurien
ATTACH;FMTTYPE=image/jpeg:http://supersonic-club.fr/wp-content/uploads/2017/03/namethumb_w600px_img_event_56a17ae7-9200-4970-9e7d-e81ab680b9e0.jpg
END:VEVENT
END:VCALENDAR