BEGIN:VCALENDAR
VERSION:2.0
PRODID:-//Supersonic - ECPv6.15.20//NONSGML v1.0//EN
CALSCALE:GREGORIAN
METHOD:PUBLISH
X-ORIGINAL-URL:http://supersonic-club.fr
X-WR-CALDESC:Évènements pour Supersonic
REFRESH-INTERVAL;VALUE=DURATION:PT1H
X-Robots-Tag:noindex
X-PUBLISHED-TTL:PT1H
BEGIN:VTIMEZONE
TZID:Europe/London
BEGIN:DAYLIGHT
TZOFFSETFROM:+0000
TZOFFSETTO:+0100
TZNAME:BST
DTSTART:20160327T010000
END:DAYLIGHT
BEGIN:STANDARD
TZOFFSETFROM:+0100
TZOFFSETTO:+0000
TZNAME:GMT
DTSTART:20161030T010000
END:STANDARD
BEGIN:DAYLIGHT
TZOFFSETFROM:+0000
TZOFFSETTO:+0100
TZNAME:BST
DTSTART:20170326T010000
END:DAYLIGHT
BEGIN:STANDARD
TZOFFSETFROM:+0100
TZOFFSETTO:+0000
TZNAME:GMT
DTSTART:20171029T010000
END:STANDARD
BEGIN:DAYLIGHT
TZOFFSETFROM:+0000
TZOFFSETTO:+0100
TZNAME:BST
DTSTART:20180325T010000
END:DAYLIGHT
BEGIN:STANDARD
TZOFFSETFROM:+0100
TZOFFSETTO:+0000
TZNAME:GMT
DTSTART:20181028T010000
END:STANDARD
END:VTIMEZONE
BEGIN:VEVENT
DTSTART;TZID=Europe/London:20170211T200000
DTEND;TZID=Europe/London:20170211T233000
DTSTAMP:20260424T164238
CREATED:20170206T162105Z
LAST-MODIFIED:20170206T162105Z
UID:761-1486843200-1486855800@supersonic-club.fr
SUMMARY:Rouge Congo • The Rusty Bells • X&Y // Supersonic - Free
DESCRIPTION:▬▬▬ ENTRÉE LIBRE ▬▬▬▬▬▬▬▬▬▬▬▬ \nLe Supersonic présente… \n \n▬▬▬ LINE UP ▬▬▬▬▬▬▬▬▬▬▬▬▬▬▬▬ \n→ ROUGE CONGO\n(Electro pop – Reims) \nROUGE CONGO est une molécule diazoïque\, c’est-à-dire qui possède deux fois la structure de l’azobenzène\, et qui sert à la fois de colorant organique et d’indicateur de Ph. C’est derrière cette définition aussi sibylline qu’incongrue que se cache en réalité un quatuor pop à la musique heureusement beaucoup moins toxique que ce colorant encore parfois utilisé en médecine. \nLes 3 influences: Moroder\, MGMT\, Phoenix  \n► Liker : https://www.facebook.com/rougecongoband?fref=ts\n► Ecouter : https://rougecongo.bandcamp.com/releases\n► Regarder: https://www.youtube.com/watch?v=1cnQL4ycTzk \n→ THE RUSTY BELLS\n(Rock Galactic – Toulouse) \n » Duo de musiciens toulousains\, les Rusty Bells mélangent claviers\, guitare\, batterie et chant. Au fil des concerts naît leur rock galactique aux influences rythmiques hip-hop\, dans lequel se reconnaissent leurs inspirations\, des Pink Floyd à Archive\, passant par Kavinsky et The Kills\, avec une touche épique volée à Ennio Morricone. Accompagnant leurs sonorités par des thématiques aussi fortes que la colère\, le remords ou encore l’amour\, les Rusty Bells poussent l’auditeur entre introspection et exaltation.\nAprès de nombreux prix\, tournées et sélections (Prix des Jeunes aventuriers 2015\, Révélation Converse etc..)\, les Rusty Bells assurent la première partie du mythique Brian Jonestown Massacre en 2015\, et participent au « Rock in Loft » aux Francofolies de La Rochelle en 2016. Après avoir sorti un premier EP  » enjoYourself  » en novembre 2016\, leur premier Album sortira en février 2017. » \nLes 3 influences: Archive\, Mgmt\, Tame Impala \n► Liker : https://www.facebook.com/therustybells\n► Ecouter: http://deadbees.bandcamp.com/album/enjoyourself\n► Regarder: https://www.youtube.com/watch?v=YVI5C5q5avc \n→ X&Y\n(indie rock – Paris) \n« Entre rage et mélancolie\, X&Y distille un rock subtile mais sauvage. Ils aiment se promener à la frontière de la pop\, ayant toujours l’envie de raconter une histoire\, une histoire que tout le monde peut comprendre et raconter à son tour. Pour autant\, ils n’oublient jamais de s’aventurer dans des plaines planantes et psychédéliques\, ou carrément dans un océan furieux et déchaîné où leurs sentiments peuvent prendre le dessus\, librement.\nNé d’un duo\, X&Y est devenu un groupe il y a deux ans\, et c’est après une quarantaine de concerts\, un premier EP et un clip qu’ils sortiront leur deuxième disque en février 2017! » \nLes 3 influences: Radiohead\, Arctic Monkeys\, Pink Floyd \n► Liker : https://www.facebook.com/xmusicy\n► Ecouter: https://xmusicy.bandcamp.com/\n► Regarder: https://www.youtube.com/watch?v=QWP6qIw2tXg \n▬▬▬ INFOS PRATIQUES ▬▬▬▬▬▬▬▬▬▬▬ \nSamedi 11 Février – 20h\nEntrée gratuite\nHappy Hour 18h30-20h (3€50 la pinte)\nFoodtruck hot dog au 1er étage \n▬▬▬▬▬▬▬▬▬▬▬▬▬▬▬▬▬▬▬▬▬▬▬ \nSUPERSONIC\n9 rue Biscornet\, 75012 Paris\nMétro Bastille\nhttps://www.facebook.com/supersonicbastille/\nInscription à la newsletter du Supersonic: http://bit.ly/1lWTnx4 \nTarifs : Gratuit
URL:http://supersonic-club.fr/event/rouge-congo-%e2%80%a2-the-rusty-bells-%e2%80%a2-xy-supersonic-free/
LOCATION:SUPERSONIC\, 9 Rue Biscornet\, Paris\, 75012\, France
CATEGORIES:Concert,Pop / Rock / Folk,Rouge Congo,The Rusty Bells,X&Y
ATTACH;FMTTYPE=image/jpeg:http://supersonic-club.fr/wp-content/uploads/2017/02/namethumb_w600px_img_event_ededa23e-8ad7-46b0-8481-27cfaa15a463.jpg
END:VEVENT
END:VCALENDAR