BEGIN:VCALENDAR
VERSION:2.0
PRODID:-//Supersonic - ECPv6.15.20//NONSGML v1.0//EN
CALSCALE:GREGORIAN
METHOD:PUBLISH
X-WR-CALNAME:Supersonic
X-ORIGINAL-URL:http://supersonic-club.fr
X-WR-CALDESC:Évènements pour Supersonic
REFRESH-INTERVAL;VALUE=DURATION:PT1H
X-Robots-Tag:noindex
X-PUBLISHED-TTL:PT1H
BEGIN:VTIMEZONE
TZID:Europe/London
BEGIN:DAYLIGHT
TZOFFSETFROM:+0000
TZOFFSETTO:+0100
TZNAME:BST
DTSTART:20220327T010000
END:DAYLIGHT
BEGIN:STANDARD
TZOFFSETFROM:+0100
TZOFFSETTO:+0000
TZNAME:GMT
DTSTART:20221030T010000
END:STANDARD
BEGIN:DAYLIGHT
TZOFFSETFROM:+0000
TZOFFSETTO:+0100
TZNAME:BST
DTSTART:20230326T010000
END:DAYLIGHT
BEGIN:STANDARD
TZOFFSETFROM:+0100
TZOFFSETTO:+0000
TZNAME:GMT
DTSTART:20231029T010000
END:STANDARD
BEGIN:DAYLIGHT
TZOFFSETFROM:+0000
TZOFFSETTO:+0100
TZNAME:BST
DTSTART:20240331T010000
END:DAYLIGHT
BEGIN:STANDARD
TZOFFSETFROM:+0100
TZOFFSETTO:+0000
TZNAME:GMT
DTSTART:20241027T010000
END:STANDARD
END:VTIMEZONE
BEGIN:VEVENT
DTSTART;TZID=Europe/London:20230315T190000
DTEND;TZID=Europe/London:20230315T233000
DTSTAMP:20260419T145541
CREATED:20230125T183055Z
LAST-MODIFIED:20230228T153209Z
UID:9756-1678906800-1678923000@supersonic-club.fr
SUMMARY:TGBB#11 // Library Card • The Wife Guys Of Reddit • Uniforms • Roller Derby • Sunday League
DESCRIPTION:WELCOME TO SUPERSONIC\nConcerts gratuits\, Nuits rock et Disquaire à Paris ! \n \nThey’re Gonna Be Big #11\nLe rendez-vous des diggers de la scène indie ! Véritables coups de cœur de l’équipe\, talents encore bruts de la scène de demain\, on vous invite à découvrir ces groupes étrangers pour leur toute première date à Paris ! \nLIBRARY CARD\n(Rotterdam\,NL – Post Punk)\nDécidément\, la scène néerlandaise regorge de groupe talentueux\, à l’instar de Library Card. Formé il y a a peine 2 ans\, le groupe dégage déjà une certaine maturité autant dans les textes que dans les arrangements.\nGroupe vu au festival Left Of The Dial par l’équipe du Supersonic cet automne\, et qui n’a pas déçu !\n—\nThe Dutch scene is definitely full of talented bands like library card\, formed only 2 years ago and already showing a certain maturity in their lyrics and arrangements.\nThe band was seen at Left of the Dial festival by the Supersonic team this autumn\, and did not disappoint !\nFFO: Dry Cleaning\, Sorry\, Fontaines DC\n– le clip : https://www.youtube.com/watch?v=CedA_EOk0gY\n– le live : https://www.youtube.com/watch?v=2792KLDh3UI \nUNIFORMS\n(Andalousie\, ESP – Dream Pop)\nAprès deux albums sortis\, les Uniforms débarquent à Paris pour leur première date française. On pourrait les placer entre les nappes rêveuses du shoegaze\, la dream pop de Beach House et la pop de Alvvays.\n—\nAfter two LPs\, the Uniforms are coming to Paris for their first ever French gig. They could be placed between the dreamy layers of shoegaze\, the dream pop of Beach House and the pop of Alvvays.\nFFO : Slowdive\, Fazerdaze & Alvvays\n– le clip : https://www.youtube.com/watch?v=OBWfOIrabic\n– le live : https://www.youtube.com/watch?v=AG1ZE-bw7OY \nSUNDAY LEAGUE\n(Londres\, UK – Indie Rock)\nSecret encore bien gardé d’Angleterre avec seulement 3 démos sorties sur internet\, les Sunday League ne resteront pas dans l’ombre très longtemps. On les a déjà vu en live à l’étranger et ça vaut vraiment le coup !\n—\nA British well kept secret with only 3 demos out on the internet\, the Sunday League will not stay in the shadows for much longer. We have seen them live abroad and we were not disappointed !\nFFO : The Verve\, The Stone Roses & Circa Waves\n– les écouter : https://sundayleagueband.bandcamp.com/album/live-demos \nTHE WIFE GUYS OF REDDIT\n(Glasgow\, UK – Indie Rock)\nLe jeune quatuor écossais produit un savant mélange de mélodies et de guitares exacerbées dignes des meilleurs groupes de garage pop australiens.\n—\nThe young Scottish quartet produces a clever mix of melodies and exacerbated guitars worthy of the best Australian garage pop bands.\nFFO : Rolling Blackout Coastal Fever\, The Stroppies\, Pip Blom\n– le live : https://www.youtube.com/watch?v=9hErhDXhaso…\n– le clip : https://www.youtube.com/watch?v=rMkSuc8h25I… \nROLLER DERBY\n(Hambourg\, DEU – Twee pop)\nFormé peu avant la pandémie le trio hambourgeois distille une pop réverbérée aux accents twee pop à l’instar de leur hit « Always on my mind » !\n—\nFormed shortly before Covid\, the Hamburg based trio spreads a reverberated pop with twee pop accents\, as heard in their hit « Always on my mind » !\nFFO : Alvvays\, Cocteau Twins\, Soccer Mommy\n– le live : https://www.youtube.com/watch?v=BaBzdGaDc9k\n– le clip : https://www.youtube.com/watch?v=HMsUm7wa8qk\n———————————\nMardi 15 Mars 2023\nEntrée gratuite\n• Ouverture des portes à 19h00\n• Si vous êtes témoin ou victime d’une agression\, vous pouvez alerter le personnel du bar ou si vous préférez\, vous pouvez nous écrire à cette adresse: communication@supersonic-paris.fr\n———————————\nSUPERSONIC\n9 rue Biscornet\, 75012 Paris\nMétro Bastille (sortie rue de lyon) \nTarifs : Gratuit
URL:http://supersonic-club.fr/event/tgbb11-library-card-the-wife-guys-of-reddit-uniforms-sunday-league/
LOCATION:SUPERSONIC\, 9 Rue Biscornet\, Paris\, 75012\, France
CATEGORIES:Concert,Library Card,Pop / Rock / Folk,Roller Derby,Sowprog,Sunday League,SUPERSONIC,The Wife Guys Of Reddit,Uniforms
ATTACH;FMTTYPE=image/jpeg:http://supersonic-club.fr/wp-content/uploads/2023/01/namethumb_w600px_img_event_1d50bb9b-1e72-44f0-b068-f97d7f62c042-1.jpg
END:VEVENT
END:VCALENDAR