BEGIN:VCALENDAR
VERSION:2.0
PRODID:-//Supersonic - ECPv6.15.20//NONSGML v1.0//EN
CALSCALE:GREGORIAN
METHOD:PUBLISH
X-ORIGINAL-URL:http://supersonic-club.fr
X-WR-CALDESC:Évènements pour Supersonic
REFRESH-INTERVAL;VALUE=DURATION:PT1H
X-Robots-Tag:noindex
X-PUBLISHED-TTL:PT1H
BEGIN:VTIMEZONE
TZID:Europe/London
BEGIN:DAYLIGHT
TZOFFSETFROM:+0000
TZOFFSETTO:+0100
TZNAME:BST
DTSTART:20210328T010000
END:DAYLIGHT
BEGIN:STANDARD
TZOFFSETFROM:+0100
TZOFFSETTO:+0000
TZNAME:GMT
DTSTART:20211031T010000
END:STANDARD
BEGIN:DAYLIGHT
TZOFFSETFROM:+0000
TZOFFSETTO:+0100
TZNAME:BST
DTSTART:20220327T010000
END:DAYLIGHT
BEGIN:STANDARD
TZOFFSETFROM:+0100
TZOFFSETTO:+0000
TZNAME:GMT
DTSTART:20221030T010000
END:STANDARD
BEGIN:DAYLIGHT
TZOFFSETFROM:+0000
TZOFFSETTO:+0100
TZNAME:BST
DTSTART:20230326T010000
END:DAYLIGHT
BEGIN:STANDARD
TZOFFSETFROM:+0100
TZOFFSETTO:+0000
TZNAME:GMT
DTSTART:20231029T010000
END:STANDARD
END:VTIMEZONE
BEGIN:VEVENT
DTSTART;TZID=Europe/London:20221107T200000
DTEND;TZID=Europe/London:20221107T230000
DTSTAMP:20260419T150039
CREATED:20220923T122036Z
LAST-MODIFIED:20220923T122036Z
UID:8774-1667851200-1667862000@supersonic-club.fr
SUMMARY:Riki + Nuovo Testamento • Concert intimiste au Supersonic Records
DESCRIPTION:Riki et Nuovo Testamento en concert en petit comité dans le disquaire Supersonic Records ! \n \nRIKI\n(Synthpop – Dais Records – Los Angeles\, USA)\nRIKI\, nouvelle icône romantique de Los Angeles\, emporte tout sur son passage avec ses hymnes pop atmosphériques et teintés de mélancolie. Ambiance rêve californien\, couchers de soleil pourpres et nuit de néons.\nRegardez: https://youtu.be/07SH4lSVsVI \nNUOVO TESTAMENTO\n(Dark italo disco – Avant! Records – Los Angeles\, USA)\nDes couleurs 80’s hypnotiques que l’on retrouve dans ce trio composé de la chanteuse Chelsey Crowley et des italiens Andrea Mantione et Giacomo Zattiqui. Nuovo Testamento illumine le dancefloor de ses hits italo-disco aux accents cold wave.\nRegardez: https://youtu.be/ldZPLUhXEXw \n———————————\nLundi 7 Novembre 2022\n• Ouverture des portes à 20h\n• Bar sur place\n• 12€ en prévente / 15€ sur place\n———————————\nSupersonic Records\n9 rue Biscornet 75012 Paris\nMetro Bastille\nhttps://supersonic-records.fr/ \nTarifs : Prévente : 12€ \nBilletteries : Prévente DICE
URL:http://supersonic-club.fr/event/riki-nuovo-testamento-concert-intimiste-au-supersonic-records/
LOCATION:Supersonic Records\, 9 Rue Biscornet\, Paris\, 75012\, France
CATEGORIES:Concert,Nuovo Testamento,Pop / Rock / Folk,Riki,Sowprog
ATTACH;FMTTYPE=image/jpeg:http://supersonic-club.fr/wp-content/uploads/2022/09/namethumb_w600px_img_event_2b8606a7-34b7-401e-b743-e1fff28e8106.jpg
END:VEVENT
END:VCALENDAR