BEGIN:VCALENDAR
VERSION:2.0
PRODID:-//Supersonic - ECPv6.15.20//NONSGML v1.0//EN
CALSCALE:GREGORIAN
METHOD:PUBLISH
X-WR-CALNAME:Supersonic
X-ORIGINAL-URL:http://supersonic-club.fr
X-WR-CALDESC:Évènements pour Supersonic
REFRESH-INTERVAL;VALUE=DURATION:PT1H
X-Robots-Tag:noindex
X-PUBLISHED-TTL:PT1H
BEGIN:VTIMEZONE
TZID:Europe/London
BEGIN:DAYLIGHT
TZOFFSETFROM:+0000
TZOFFSETTO:+0100
TZNAME:BST
DTSTART:20220327T010000
END:DAYLIGHT
BEGIN:STANDARD
TZOFFSETFROM:+0100
TZOFFSETTO:+0000
TZNAME:GMT
DTSTART:20221030T010000
END:STANDARD
BEGIN:DAYLIGHT
TZOFFSETFROM:+0000
TZOFFSETTO:+0100
TZNAME:BST
DTSTART:20230326T010000
END:DAYLIGHT
BEGIN:STANDARD
TZOFFSETFROM:+0100
TZOFFSETTO:+0000
TZNAME:GMT
DTSTART:20231029T010000
END:STANDARD
BEGIN:DAYLIGHT
TZOFFSETFROM:+0000
TZOFFSETTO:+0100
TZNAME:BST
DTSTART:20240331T010000
END:DAYLIGHT
BEGIN:STANDARD
TZOFFSETFROM:+0100
TZOFFSETTO:+0000
TZNAME:GMT
DTSTART:20241027T010000
END:STANDARD
END:VTIMEZONE
BEGIN:VEVENT
DTSTART;TZID=Europe/London:20230714T190000
DTEND;TZID=Europe/London:20230714T233000
DTSTAMP:20260420T130349
CREATED:20230419T153400Z
LAST-MODIFIED:20230711T144530Z
UID:10493-1689361200-1689377400@supersonic-club.fr
SUMMARY:Reymour · Belvoir · Kalac · Venus VNR · Concordski / Restons Sérieux Jour 4
DESCRIPTION:Festival beau & bizarre de la musique française à contre-courant.\n22 concerts en langue française sur 5 jours dans 2 lieux différents: le Supersonic Club et le Supersonic Records ! \n \nReymour (23h au Supersonic Club)\nPsycho Pop romantique\n(Bruxelles / Fribourg)\nÉcouter : https://bit.ly/3oig4C5 \nBelvoir (22h au Supersonic Club)\nChanson électronique Post-Industrielle\n(Paris / Bristol)\nÉcouter : https://bit.ly/43FUSWR \nVenus VNR (21h10 au Supersonic Records)\nPop qui clashe\n(Paris)\nÉcouter : https://bit.ly/43FPlj5 \nKalac (20h20 au Supersonic Club)\nRock choucroute\n(Dinan)\nÉcouter : https://bit.ly/40heEVS \nConcordski (19h30 au Supersonic Records)\nPop synthétique\n(Caen)\nÉcouter : https://bit.ly/43FCOw7\n————————————————\nVendredi 14 Juillet de 19h à 23h30\nEntrée gratuite\nAu Supersonic et Supersonic Records\n9 rue Biscornet\, 75012 Paris\nMétro Bastille \nTarifs : Gratuit
URL:http://supersonic-club.fr/event/festival-restons-serieux-4/
LOCATION:SUPERSONIC\, 9 Rue Biscornet\, Paris\, 75012\, France
CATEGORIES:Belvoir,Concert,Concordski,KALAC,Pop / Rock / Folk,Reymour,Sowprog,SUPERSONIC,VENUS VNR
ATTACH;FMTTYPE=image/jpeg:http://supersonic-club.fr/wp-content/uploads/2023/04/namethumb_w600px_img_event_2629eb54-089c-40a3-a53f-12d9b00c7dbb-2.jpg
END:VEVENT
END:VCALENDAR