BEGIN:VCALENDAR
VERSION:2.0
PRODID:-//Supersonic - ECPv6.15.20//NONSGML v1.0//EN
CALSCALE:GREGORIAN
METHOD:PUBLISH
X-ORIGINAL-URL:http://supersonic-club.fr
X-WR-CALDESC:Évènements pour Supersonic
REFRESH-INTERVAL;VALUE=DURATION:PT1H
X-Robots-Tag:noindex
X-PUBLISHED-TTL:PT1H
BEGIN:VTIMEZONE
TZID:Europe/London
BEGIN:DAYLIGHT
TZOFFSETFROM:+0000
TZOFFSETTO:+0100
TZNAME:BST
DTSTART:20170326T010000
END:DAYLIGHT
BEGIN:STANDARD
TZOFFSETFROM:+0100
TZOFFSETTO:+0000
TZNAME:GMT
DTSTART:20171029T010000
END:STANDARD
BEGIN:DAYLIGHT
TZOFFSETFROM:+0000
TZOFFSETTO:+0100
TZNAME:BST
DTSTART:20180325T010000
END:DAYLIGHT
BEGIN:STANDARD
TZOFFSETFROM:+0100
TZOFFSETTO:+0000
TZNAME:GMT
DTSTART:20181028T010000
END:STANDARD
BEGIN:DAYLIGHT
TZOFFSETFROM:+0000
TZOFFSETTO:+0100
TZNAME:BST
DTSTART:20190331T010000
END:DAYLIGHT
BEGIN:STANDARD
TZOFFSETFROM:+0100
TZOFFSETTO:+0000
TZNAME:GMT
DTSTART:20191027T010000
END:STANDARD
END:VTIMEZONE
BEGIN:VEVENT
DTSTART;TZID=Europe/London:20181020T000000
DTEND;TZID=Europe/London:20181020T070000
DTSTAMP:20260419T202850
CREATED:20181019T114708Z
LAST-MODIFIED:20181019T114708Z
UID:3565-1539993600-1540018800@supersonic-club.fr
SUMMARY:This Is England / Raving 89'
DESCRIPTION:▬ Le Supersonic présente ▬ \n \n▬▬▬ THIS IS ENGLAND ▬▬▬ \nPour fêter la fin de l’exposition de Gavin Watson « RAVING 89 » à la Iconoclastes Galerie\, le Supersonic vous invite pour une nuit UK allant du #punk à l’#acidhouse en passant par le #rocksteady\, #ska et l’#indie des années 80s 90s. \nPour l’occasion\, les acteurs du film This is England: Andrew Shim (Milky) et Andy Ellis (Gadget) seront aux platines\, ainsi que Public House – djs résidents de nos soirées Madchester – et Cassandra Cobra & Mrs Parslow. \nLe photographe Gavin Watson sera aussi présent avec son appareil tout au long de la soirée! \n▬▬▬  AU PROGRAMME  ▬▬▬ \n DJ SETS : \n– ANDREW SHIM & ANDY ELLIS\n(Milky et Gadget de This is England) \nAcclamé par la critique à sa sortie en 2007\, le film This is England par Shane Meadows dépeint le quotidien d’une bande de skins dans une ville côtière du nord de l’Angleterre prenant sous leur aile le jeune Shaun pour un voyage initiatique dans une Angleterre des années 80 en crise. Les acteurs du film passent derrière les platines pour un mix ska\, 80’s indie classics\, 90’s madchester / rave / acid house. \n(Pour des raisons de tournage\, Thomas Turgoose ne pourra finalement plus venir mixer au Supersonic). \n– PUBLIC HOUSE  \n– CASSANDRA COBRA & MRS PARSLOW \n DANS LA PLAYLIST : \nTHE JAM\, THE CLASH\, MADNESS\, THE SPECIALS\, UB40\, PIL\, THE STRANGLERS\, BUZZCOCKS\, THE SMITHS\, STONE ROSES\, HAPPY MONDAYS\, 808 STATE\, TOOTS & THE MAYTALS… \n▬▬▬ GAVIN WATSON ▬▬▬▬▬▬▬▬▬▬▬▬ \nCélèbre pour ses clichés sur les skins et les punks de la fin 70 début 80\, Gavin Watson a été l’un des rares photographes à couvrir cette scène composée alors d’une jeunesse hétéroclite dans les goûts et les looks\, mais unie dans la fête face à la montée du chômage dans une ère thatchériste hostile et sans espoir. \n« Raving 89 » nous plonge à la source du mouvement Rave\, à Londres et à Madchester en 1989: Gavin Watson – Raving 89 – Exposition à la galerie Iconoclastes.\nDu 12 au 19 octobre 2018 à la Iconoclastes Galerie: 20 rue Danielle Casanova 75002 Paris  \n▬▬▬ INFOS PRATIQUES ▬▬▬▬▬▬▬▬▬▬▬▬ \nVENDREDI 19 OCTOBRE 2018\nOuverture de la billetterie à 23h\nTickets à 5€\nHot dog au bar \nPartenaires médias: Trax Magazine\, VICE France\, Heeboo \n▬▬▬▬▬▬▬▬▬▬▬▬▬▬▬▬▬▬▬▬▬▬▬▬▬ \nSUPERSONIC\n9 rue Biscornet\, 75012 Paris\nMétro Bastille\nhttp://supersonic-club.fr/\nInscription à la newsletter du Supersonic: http://bit.ly/1lWTnx4 \nTarifs : sur place : 5€
URL:http://supersonic-club.fr/event/this-is-england-raving-89/
LOCATION:SUPERSONIC\, 9 Rue Biscornet\, Paris\, 75012\, France
CATEGORIES:ANDREW SHIM & ANDY ELLIS,CASSANDRA COBRA & MRS PARSLOW,Clubbing,Pop / Rock / Folk,PUBLIC HOUSE
ATTACH;FMTTYPE=image/jpeg:http://supersonic-club.fr/wp-content/uploads/2018/10/namethumb_w600px_img_event_d872068b-22af-4ed9-88fb-5696b8499274.jpg
END:VEVENT
END:VCALENDAR