BEGIN:VCALENDAR
VERSION:2.0
PRODID:-//Supersonic - ECPv6.15.20//NONSGML v1.0//EN
CALSCALE:GREGORIAN
METHOD:PUBLISH
X-WR-CALNAME:Supersonic
X-ORIGINAL-URL:http://supersonic-club.fr
X-WR-CALDESC:Évènements pour Supersonic
REFRESH-INTERVAL;VALUE=DURATION:PT1H
X-Robots-Tag:noindex
X-PUBLISHED-TTL:PT1H
BEGIN:VTIMEZONE
TZID:Europe/London
BEGIN:DAYLIGHT
TZOFFSETFROM:+0000
TZOFFSETTO:+0100
TZNAME:BST
DTSTART:20180325T010000
END:DAYLIGHT
BEGIN:STANDARD
TZOFFSETFROM:+0100
TZOFFSETTO:+0000
TZNAME:GMT
DTSTART:20181028T010000
END:STANDARD
BEGIN:DAYLIGHT
TZOFFSETFROM:+0000
TZOFFSETTO:+0100
TZNAME:BST
DTSTART:20190331T010000
END:DAYLIGHT
BEGIN:STANDARD
TZOFFSETFROM:+0100
TZOFFSETTO:+0000
TZNAME:GMT
DTSTART:20191027T010000
END:STANDARD
BEGIN:DAYLIGHT
TZOFFSETFROM:+0000
TZOFFSETTO:+0100
TZNAME:BST
DTSTART:20200329T010000
END:DAYLIGHT
BEGIN:STANDARD
TZOFFSETFROM:+0100
TZOFFSETTO:+0000
TZNAME:GMT
DTSTART:20201025T010000
END:STANDARD
END:VTIMEZONE
BEGIN:VEVENT
DTSTART;TZID=Europe/London:20190807T210000
DTEND;TZID=Europe/London:20190808T003000
DTSTAMP:20260420T085502
CREATED:20190719T112717Z
LAST-MODIFIED:20190719T112717Z
UID:4876-1565211600-1565224200@supersonic-club.fr
SUMMARY:Pregoblin • Bleu Reine / Supersonic (Free entry)
DESCRIPTION:▬ Le Supersonic présente ▬ \n \n▬▬▬ ENTREE LIBRE ▬▬▬▬ \n→ PREGOBLIN\n(Indie Disco – London\, UK) \n«Pregoblin is a collaboration between Alex Sebley and Jessica Winter. There have been a few incarnations of the band but it’s when Alex and Jess met in 2016 it fell into place. Before Pregoblin formed\, Alex was a member of The Saudis\, alonsgside Lias and Nathan Saoudi\, and Jessica is a producer and writer and has worked with members of Gorillaz\, Fat White Family\, and Dinosaur Pile Up.» \n► Liker: https://www.facebook.com/PREGOBLIN/\n► Ecouter: https://soundcloud.com/alexander-sebley-1 \n→ BLEU REINE\n(Post-folk – Paris\, FR) \n«Remarquée l’été 2018 avec une reprise franco-allemande de Kraftwerk\, invitée par Les Trois Baudets ou par le festival Lachaise Musical du Cimetière du Père-Lachaise à Paris\, BLEU REINE a sorti le 18 Janvier 2019 chez Sanit Mils Records son premier EP « Elémentaire »\, enregistré pendant l’automne 2018. Derrière ce nom un peu étrange se cache la chanteuse-guitariste Léa Lotz\, sortie de sa tanière pour raconter en français les quelques vies parallèles qu’elle a vécues aux côtés de Fritz Lang ou d’Alfred de Musset : un road-trip lunaire et fiévreux.» \n► Liker: https://www.facebook.com/bleureineofficial/\n► Regarder: https://www.youtube.com/watch?v=piqLmRhBsQI \n+ GUEST \n▬▬▬ INFOS PRATIQUES ▬▬▬ \nMercredi 7 Août 2019\nEntrée gratuite \n– Ouverture des portes à 18h30\n– Début des concerts vers 20h\n– Happy Hour de 18h30 à 20h (3€50 la pinte)\n– Hot Dog au bar \n▬▬▬▬▬▬▬▬▬▬▬▬▬▬▬▬▬▬▬▬▬▬▬ \nSUPERSONIC\n9 rue Biscornet\, 75012 Paris\nMétro Bastille (sortie rue de lyon)\nhttp://supersonic-club.fr/\nObjets Perdus: https://forms.gle/rZxcMgGD5G82JnMQ9\nNewsletter du Supersonic: http://eepurl.com/gmxPzb​ \nTarifs : Gratuit
URL:http://supersonic-club.fr/event/pregoblin-%e2%80%a2-bleu-reine-supersonic-free-entry/
LOCATION:SUPERSONIC\, 9 Rue Biscornet\, Paris\, 75012\, France
CATEGORIES:Bleu Reine,Concert,Pop / Rock / Folk,Pregoblin
ATTACH;FMTTYPE=image/jpeg:http://supersonic-club.fr/wp-content/uploads/2019/07/namethumb_w600px_img_event_51b46ba4-7e25-482b-a9c2-c914128c0815.jpg
END:VEVENT
END:VCALENDAR