BEGIN:VCALENDAR
VERSION:2.0
PRODID:-//Supersonic - ECPv6.15.20//NONSGML v1.0//EN
CALSCALE:GREGORIAN
METHOD:PUBLISH
X-ORIGINAL-URL:http://supersonic-club.fr
X-WR-CALDESC:Évènements pour Supersonic
REFRESH-INTERVAL;VALUE=DURATION:PT1H
X-Robots-Tag:noindex
X-PUBLISHED-TTL:PT1H
BEGIN:VTIMEZONE
TZID:Europe/London
BEGIN:DAYLIGHT
TZOFFSETFROM:+0000
TZOFFSETTO:+0100
TZNAME:BST
DTSTART:20180325T010000
END:DAYLIGHT
BEGIN:STANDARD
TZOFFSETFROM:+0100
TZOFFSETTO:+0000
TZNAME:GMT
DTSTART:20181028T010000
END:STANDARD
BEGIN:DAYLIGHT
TZOFFSETFROM:+0000
TZOFFSETTO:+0100
TZNAME:BST
DTSTART:20190331T010000
END:DAYLIGHT
BEGIN:STANDARD
TZOFFSETFROM:+0100
TZOFFSETTO:+0000
TZNAME:GMT
DTSTART:20191027T010000
END:STANDARD
BEGIN:DAYLIGHT
TZOFFSETFROM:+0000
TZOFFSETTO:+0100
TZNAME:BST
DTSTART:20200329T010000
END:DAYLIGHT
BEGIN:STANDARD
TZOFFSETFROM:+0100
TZOFFSETTO:+0000
TZNAME:GMT
DTSTART:20201025T010000
END:STANDARD
END:VTIMEZONE
BEGIN:VEVENT
DTSTART;TZID=Europe/London:20191101T200000
DTEND;TZID=Europe/London:20191101T233000
DTSTAMP:20260421T083639
CREATED:20190819T121902Z
LAST-MODIFIED:20191031T145430Z
UID:4990-1572638400-1572651000@supersonic-club.fr
SUMMARY:The Jackets • The Glendas • Polar Brigades / Supersonic (Free)
DESCRIPTION:▬ Le Supersonic présente ▬ \n \n→ THE JACKETS\n(Garage Punk – Voodoo Rythm Records – Bern\, CHE) \n« The Jackets are dark\, exciting\, dynamic\, loud\, fun and addictive! They mix the best elements of Rock and Roll into a potent\, irresistible cocktail with a ferocity that is also full of good humor\, high spirited fun\, and full blast excitement! Just when you thought it had all been done with three chord garage rock\, The Jackets have not just reinvented it\, they own it!\nThe band is based in Bern\, Switzerland featuring front woman Jack Torera\, Chris Rosales (an American expat originally from Los Angeles) and Samuel « Schmidi » Schmidiger. On stage\, singer and guitarist Jack Torera is constantly in motion\, dangerous\, wild\, not a woman\, not a man\, hypnotizing with her black eye make-up and vibrato vocals. Drummer Chris Rosales and Bass player Samuel Schmidiger are dug in and concentrated like a steady hand on a steering wheel but this is no pleasure cruise – it is a wild ride that can take you anywhere! The Jackets strip Rock and Roll down to its essential components then build something unique to their personalities and their need for self-expression. It feels new because it is authentic and free of cliché and gimmickry. » \n► Liker: https://www.facebook.com/thejackets\n► Ecouter : https://the-jackets.bandcamp.com/\n► Regarder : https://www.youtube.com/watch?v=DiPQgt84lLs \n→ THE GLENDAS\n(Sixties Punk – Paris) \n« Fuzz hargneuse\, orgue crassouille et funambules sur le fil du rasoir.\nTrop punk pour être sixties\, trop sixties pour être punk\, the Glendas se verront délivrer l’étiquette « Sixties Punk »\, engeance païenne qui t’invite à casser les sièges dans l’allégresse. » \n► Liker: https://www.facebook.com/theglendas66/\n► Regarder : https://www.youtube.com/watch?v=skJwVXljoYQ \n→ POLAR BRIGADES\n(Acid Rock – Let’s Get Buzy Records – Toulouse\, FR) \n« Phrasé fainéant des standards post-punks 80’s anglais\, batterie math-surf\, guitares U.S. tranchantes comme des lames : les Pixies à la plage\, mais celle de Brighton. » \n► Liker: https://www.facebook.com/PolarBrigades/\n► Ecouter : https://polarbrigades.bandcamp.com/releases \nTarifs : Gratuit
URL:http://supersonic-club.fr/event/the-jackets-%e2%80%a2-polar-brigades-supersonic-free-entry/
LOCATION:SUPERSONIC\, 9 Rue Biscornet\, Paris\, 75012\, France
CATEGORIES:Concert,Polar Brigades,Pop / Rock / Folk,Sowprog,THE JACKETS
ATTACH;FMTTYPE=image/jpeg:http://supersonic-club.fr/wp-content/uploads/2019/08/namethumb_w600px_img_event_5d71741b-d6b6-4a63-9815-f6d44b498f5e-1.jpg
END:VEVENT
END:VCALENDAR