BEGIN:VCALENDAR
VERSION:2.0
PRODID:-//Supersonic - ECPv6.15.20//NONSGML v1.0//EN
CALSCALE:GREGORIAN
METHOD:PUBLISH
X-ORIGINAL-URL:http://supersonic-club.fr
X-WR-CALDESC:Évènements pour Supersonic
REFRESH-INTERVAL;VALUE=DURATION:PT1H
X-Robots-Tag:noindex
X-PUBLISHED-TTL:PT1H
BEGIN:VTIMEZONE
TZID:Europe/London
BEGIN:DAYLIGHT
TZOFFSETFROM:+0000
TZOFFSETTO:+0100
TZNAME:BST
DTSTART:20230326T010000
END:DAYLIGHT
BEGIN:STANDARD
TZOFFSETFROM:+0100
TZOFFSETTO:+0000
TZNAME:GMT
DTSTART:20231029T010000
END:STANDARD
BEGIN:DAYLIGHT
TZOFFSETFROM:+0000
TZOFFSETTO:+0100
TZNAME:BST
DTSTART:20240331T010000
END:DAYLIGHT
BEGIN:STANDARD
TZOFFSETFROM:+0100
TZOFFSETTO:+0000
TZNAME:GMT
DTSTART:20241027T010000
END:STANDARD
BEGIN:DAYLIGHT
TZOFFSETFROM:+0000
TZOFFSETTO:+0100
TZNAME:BST
DTSTART:20250330T010000
END:DAYLIGHT
BEGIN:STANDARD
TZOFFSETFROM:+0100
TZOFFSETTO:+0000
TZNAME:GMT
DTSTART:20251026T010000
END:STANDARD
END:VTIMEZONE
BEGIN:VEVENT
DTSTART;TZID=Europe/London:20241216T200000
DTEND;TZID=Europe/London:20241216T223000
DTSTAMP:20260420T214615
CREATED:20240617T163957Z
LAST-MODIFIED:20241129T171739Z
UID:13937-1734379200-1734388200@supersonic-club.fr
SUMMARY:Take Me Out · October Drift + Sex Shop Mushrooms en concert !
DESCRIPTION:L’alt rock des anglais October Drift retentira de nouveau à Paris cet hiver\, à l’occasion de la sortie de leur nouvel album « Blame The Young » ! \n \nTake Me Out & le Point Éphémère présentent…\nOctober Drift + Sex Shop Mushrooms en concert !\nTickets : https://link.dice.fm/Qf2e83a45d81 \nOCTOBER DRIFT\n(Alt rock / Taunton\, UK) \nAprès le succès de leur premier album Forever Whatever\, sorti au début de l’année 2020\, et avec une base solide construite sur des années de tournées et d’écriture\, October Drift a affirmé sa place en tant que nouvelle entité de taille\, avec son rock lourd et influencé par la pop\, apportant une injection rajeunissante de sang frais dans le genre.  \nLeur deuxième album « I Don’t Belong Anywhere »\, sorti en 2023 sur Physical Education Recordings\, est un disque tendu et viscéral\, un pas en avant pour le groupe vers un son encore plus puissant et brutal. Bien moins introspectif que leur premier album\, ‘I Don’t Belong Anywhere’ est le totem d’October Drift pour nous rassembler à nouveau.  \nLeur tout dernier titre « Blame The Young » est sorti le 17 avril\, et donne un avant-goût du troisième album du groupe qui est attendu dans le courant de l’année.  \nOctober Drift a enthousiasmé les publics de festivals tels que le John Peel Stage de Glastonbury\, Reading & Leeds et BST Hyde Park\, ainsi que ceux rencontrés lors de grandes tournées européenne avec Editors\, We Are Scientists\, Archive\, Slow Readers Club & IST IST.  \nForever Whatever\, The Naked EP\, I Don’t Belong Anywhere et leur nouveau single « Blame The Young » condensent des années de tournées incessantes et de performances savamment élaborées pour mettre en valeur un travail d’écriture irréprochable\, autant de déclarations d’intention de la part d’un groupe plus que prêt à consolider sa place en tant que future icône. \nÉCOUTER\nhttps://open.spotify.com/intl-fr/artist/3uP1cpcy1q0stG3utL7tZS?si=Vo4qX5eRQUGPfR9DWrrrzw \nREGARDER\nhttps://www.youtube.com/@octoberdrift  \nAIMER\nhttps://www.instagram.com/octoberdrift/ \nSEX SHOP MUSHROOMS\n(Grunge / Paris\, FR) \n« BREAK NORMS\, SOUND LOUD »\, c’est ainsi que le groupe Sex Shop Mushrooms se définit. \nOriginaire de Pigalle\, le groupe se forme à la fin de l’année 2022.\nMélangeant des riffs de guitare cinglants\, une batterie explosive\, et une voix habitée\, enragée\, Sex Shop Mushrooms est un groupe de musique libre de toutes influences artistiques\, s’inscrivant dans un mouvement qui dépasse les codes traditionnels du punk. \nVainqueur d’un tremplin breton\, le groupe se hisse sur la scène du Kreiz Y Fest (Glomel)\, puis au Kraken’Fest à Toulouse. Après une quarantaine de concerts à travers la France\, le groupe a attiré l’attention d’une large partie de la scène grunge parisienne. \nCinq singles voient le jour entre 2023 et 2024. Portant trois de leurs singles dans plusieurs playlists éditoriales (France & Monde) et sur diverses radios\, le groupe revient avec son tout premier album\, s’inscrivant dans l’énergie de leur single « Boys on Sale » composé pour la scène\, traitant de différents sujets\, de mal-être social\, de rébellion\, à un hymne contre les violences faites aux femmes. \nMêlant sonorités des 90’s à une production moderne\, il a entièrement été enregistré mixé et masterisé par le groupe. \nLeur premier album « God Doesn’t Exist » est disponible depuis le 4 octobre 2024.  \nÉCOUTER\nhttps://sexshopmushrooms.bandcamp.com/ \nREGARDER\nhttps://www.youtube.com/@sexshopmushrooms \nAIMER\nhttps://www.instagram.com/sexshopmushroomsband\n—\nMardi 18 Juin 2024\nPoint Éphémère\n200 Quai de Valmy\, 75010 Paris\nOuverture de la billetterie le 19 Juin à 11h  \nhttps://takemeout-production.fr \nTarifs : Billet : 17.92€ \nBilletteries : DICE
URL:http://supersonic-club.fr/event/take-me-out-%c2%b7-october-drift-en-concert/
LOCATION:Point Éphémère\, 200 Quai de Valmy\, Paris\, 75010\, France
CATEGORIES:Concert,October Drift,Point Éphémère,Pop / Rock / Folk,Sex Shop Mushrooms,Sowprog
ATTACH;FMTTYPE=image/jpeg:http://supersonic-club.fr/wp-content/uploads/2024/06/namethumb_w600px_img_event_60560466-b92a-408b-8f75-694a7f80133d-1.jpg
END:VEVENT
END:VCALENDAR