BEGIN:VCALENDAR
VERSION:2.0
PRODID:-//Supersonic - ECPv6.15.20//NONSGML v1.0//EN
CALSCALE:GREGORIAN
METHOD:PUBLISH
X-ORIGINAL-URL:http://supersonic-club.fr
X-WR-CALDESC:Évènements pour Supersonic
REFRESH-INTERVAL;VALUE=DURATION:PT1H
X-Robots-Tag:noindex
X-PUBLISHED-TTL:PT1H
BEGIN:VTIMEZONE
TZID:Europe/London
BEGIN:DAYLIGHT
TZOFFSETFROM:+0000
TZOFFSETTO:+0100
TZNAME:BST
DTSTART:20220327T010000
END:DAYLIGHT
BEGIN:STANDARD
TZOFFSETFROM:+0100
TZOFFSETTO:+0000
TZNAME:GMT
DTSTART:20221030T010000
END:STANDARD
BEGIN:DAYLIGHT
TZOFFSETFROM:+0000
TZOFFSETTO:+0100
TZNAME:BST
DTSTART:20230326T010000
END:DAYLIGHT
BEGIN:STANDARD
TZOFFSETFROM:+0100
TZOFFSETTO:+0000
TZNAME:GMT
DTSTART:20231029T010000
END:STANDARD
BEGIN:DAYLIGHT
TZOFFSETFROM:+0000
TZOFFSETTO:+0100
TZNAME:BST
DTSTART:20240331T010000
END:DAYLIGHT
BEGIN:STANDARD
TZOFFSETFROM:+0100
TZOFFSETTO:+0000
TZNAME:GMT
DTSTART:20241027T010000
END:STANDARD
END:VTIMEZONE
BEGIN:VEVENT
DTSTART;TZID=Europe/London:20230629T190000
DTEND;TZID=Europe/London:20230629T230000
DTSTAMP:20260421T150906
CREATED:20230407T133334Z
LAST-MODIFIED:20230407T133334Z
UID:10377-1688065200-1688079600@supersonic-club.fr
SUMMARY:Italia 90 • Plomb • Brandt / Supersonic (Free entry)
DESCRIPTION:WELCOME TO SUPERSONIC\nConcerts gratuits\, Nuits rock et Disquaire à Paris ! \n \nITALIA 90\n(Punk – Brace Yourself – Londres\, UK)\nTo celebrate the release of their critically-acclaimed debut album\, Living Human Treasure\, and following a successful UK tour\, Italia 90 will be playing across Europe throughout the Spring and Summer of 2023.\nThe London based 4-piece\, all friends since childhood\, have released a number of singles and EPs since their breakthrough and have steadily built a cult following in England and mainland Europe.\nThey have played highly-acclaimed sets at festivals including\, the Great Escape (England)\, MIL\, Milhões de Festa (both Portugal)\, Le Guess Who\, Left of the Dial (both Netherlands) and FUZZ Fest (Czechia). They have received critical praise from publications such as DIY Magazine\, The Quietus\, The Guardian\, So Young as well as extensive coverage from Steve Lamacq on 6 Music\, Jack Saunders on Radio 1 and Matt Wilkinson on Apple Music 1.\nhttps://italia-90.bandcamp.com/album/living-human-treasure\nhttps://www.youtube.com/@italia907 \nPLOMB\n(Post punk – Paris\, FR)\nInfluencé par des groupes punk\, comme Crass\, Flux of Punk Indians et post-punk comme Crisis ou Tunelvision\, Plomb joue des chansons froides et directes\, nerveuses et tendues comme un anglais à la sortie d’un pub.\nhttps://plomb.bandcamp.com/album/bright-life\nhttps://www.youtube.com/watch?v=XDm-V8yWn6M \nBRANDT\n(Post punk – La Ferme de la Justice – Paris\, FR)\nPower-trio né dans les caves de la Ferme de la Justice après la grande bataille\, featuring deux ex-Tchiki Boum et le JeanPhi Keruda Panter/Fumo Nero.\nhttps://brandtcamp.bandcamp.com/\nhttps://www.youtube.com/watch?v=wHYJE1-Lz8E\n———————————\nJeudi 29 Juin 2023\nEntrée gratuite\n• Ouverture des portes à 19h00\n• Happy Hour de 19h à 20h (3€50 la pinte)\n• Si vous êtes témoin ou victime d’une agression\, vous pouvez alerter le personnel du bar ou si vous préférez\, vous pouvez nous écrire à cette adresse: communication@supersonic-paris.fr\n———————————\nSUPERSONIC\n9 rue Biscornet\, 75012 Paris\nMétro Bastille (sortie rue de lyon) \nTarifs : Gratuit
URL:http://supersonic-club.fr/event/italia-90-plomb-brandt-supersonic-free-entry/
LOCATION:SUPERSONIC\, 9 Rue Biscornet\, Paris\, 75012\, France
CATEGORIES:Brandt,Concert,Italia 90,Plomb,Pop / Rock / Folk,Sowprog,SUPERSONIC
ATTACH;FMTTYPE=image/jpeg:http://supersonic-club.fr/wp-content/uploads/2023/04/namethumb_w600px_img_event_8ab62d71-7047-4e11-bef3-cc8a1b0f7f3c.jpg
END:VEVENT
END:VCALENDAR