BEGIN:VCALENDAR
VERSION:2.0
PRODID:-//Supersonic - ECPv6.15.20//NONSGML v1.0//EN
CALSCALE:GREGORIAN
METHOD:PUBLISH
X-ORIGINAL-URL:http://supersonic-club.fr
X-WR-CALDESC:Évènements pour Supersonic
REFRESH-INTERVAL;VALUE=DURATION:PT1H
X-Robots-Tag:noindex
X-PUBLISHED-TTL:PT1H
BEGIN:VTIMEZONE
TZID:Europe/London
BEGIN:DAYLIGHT
TZOFFSETFROM:+0000
TZOFFSETTO:+0100
TZNAME:BST
DTSTART:20170326T010000
END:DAYLIGHT
BEGIN:STANDARD
TZOFFSETFROM:+0100
TZOFFSETTO:+0000
TZNAME:GMT
DTSTART:20171029T010000
END:STANDARD
BEGIN:DAYLIGHT
TZOFFSETFROM:+0000
TZOFFSETTO:+0100
TZNAME:BST
DTSTART:20180325T010000
END:DAYLIGHT
BEGIN:STANDARD
TZOFFSETFROM:+0100
TZOFFSETTO:+0000
TZNAME:GMT
DTSTART:20181028T010000
END:STANDARD
BEGIN:DAYLIGHT
TZOFFSETFROM:+0000
TZOFFSETTO:+0100
TZNAME:BST
DTSTART:20190331T010000
END:DAYLIGHT
BEGIN:STANDARD
TZOFFSETFROM:+0100
TZOFFSETTO:+0000
TZNAME:GMT
DTSTART:20191027T010000
END:STANDARD
END:VTIMEZONE
BEGIN:VEVENT
DTSTART;TZID=Europe/London:20180627T210000
DTEND;TZID=Europe/London:20180628T003000
DTSTAMP:20260420T031655
CREATED:20180511T141922Z
LAST-MODIFIED:20180625T072419Z
UID:2870-1530133200-1530145800@supersonic-club.fr
SUMMARY:Plastic Man • Dr Chan • Melt Dunes / Supersonic - Free
DESCRIPTION:▬ Le Supersonic présente ▬ \n \n▬▬▬ ENTREE LIBRE ▬▬▬▬▬▬▬▬▬▬▬▬  \n→ PLASTIC MAN\n(Acid-Pop Garage – Annibale Records – Italie) \nPlastic Man est un groupe originaire de Florence (Italie) formé en 2012. Leur son est influencé par la fin des années 60s ce qui donne à leur musique une saveur néo-psychédélique et un côté rétro. Si vous aimez le rock progressif\, le garage punk et le psyché\, cette date est faite pour vous! \n► Liker: https://www.facebook.com/plasticmanband/\n► Ecouter: https://plasticmanband.bandcamp.com/\n► Regarder: https://www.youtube.com/watch?v=ocPiBSim8-E \n→ DR CHAN\n(Garage punk – Stolen body records – FR) \n« Du rock garage français à l’esprit slacker surfer californien »\nConverse défoncées\, attitude désinvolte et provocation déconnante.\nQuatres zozos parisiens qui ne manquent ni de dérision ni d’humour. Encore moins d’énergie. Du garage hargneux\, défoncé à la bière et aux chips. Un phrasé original\, des riffs nerveux qui prennent par où il faut… Capables d’enchaîner pop songs et kicks à la Jackie Chan (sûrement un un proche parent du Dr)\, le groupe surprend et bouscule par son originalité.\n« Ou se faire défoncer la tronche avec un innocent plaisir. »BINIC FESTIVAL \n► Liker : https://www.facebook.com/drchanstrikesagain/\n► Ecouter : https://drchan.bandcamp.com\n► Regarder: https://www.youtube.com/watch?v=SL13h5C25fQ \n→ MELT DUNES\n(Aggro Psych / Sweatshop Pop – UK) \nPortsmouth psychedelic warlords Melt Dunes have been rapidly gaining a reputation as one of the fiercest live bands the U.K has to offer\, warping the minds and bodies of anyone who comes into orbit and with only two singles released to date on both Strong Island Recordings and Fuzz Club\, Melt Dunes’ are set to unleash their debut EP the ‘Flesh EP’ 16 March.  \n► Liker : https://www.facebook.com/MeltDunes/\n► Ecouter : https://strongislandrecordings.bandcamp.com/album/flesh-ep\n► Regarder : https://www.youtube.com/watch?v=ZNLIPvoRkfg \n▬▬▬ INFOS PRATIQUES ▬▬▬▬▬▬▬▬▬▬▬ \nMercredi 27 Juin 2018\nEntrée gratuite \n– Ouverture des portes à 18h30\n– Début des concerts vers 20h\n– Happy Hour de 18h30 à 20h (3€50 la pinte)\n– Hot Dog au bar \n▬▬▬▬▬▬▬▬▬▬▬▬▬▬▬▬▬▬▬▬▬▬▬ \nSUPERSONIC\n9 rue Biscornet\, 75012 Paris\nMétro Bastille (sortie rue de lyon)\nhttp://supersonic-club.fr/\nInscription à la newsletter du Supersonic: http://bit.ly/1lWTnx4 \nTarifs : Gratuit
URL:http://supersonic-club.fr/event/plastic-man-%e2%80%a2-melt-dunes-supersonic-free/
LOCATION:SUPERSONIC\, 9 Rue Biscornet\, Paris\, 75012\, France
CATEGORIES:Concert,DR CHAN,Melt Dunes,Plastic Man,Pop / Rock / Folk
ATTACH;FMTTYPE=image/jpeg:http://supersonic-club.fr/wp-content/uploads/2018/05/namethumb_w600px_img_event_1a025649-906f-4c08-b106-27ea4502cf6c-1.jpg
END:VEVENT
END:VCALENDAR