BEGIN:VCALENDAR
VERSION:2.0
PRODID:-//Supersonic - ECPv6.15.20//NONSGML v1.0//EN
CALSCALE:GREGORIAN
METHOD:PUBLISH
X-WR-CALNAME:Supersonic
X-ORIGINAL-URL:http://supersonic-club.fr
X-WR-CALDESC:Évènements pour Supersonic
REFRESH-INTERVAL;VALUE=DURATION:PT1H
X-Robots-Tag:noindex
X-PUBLISHED-TTL:PT1H
BEGIN:VTIMEZONE
TZID:Europe/London
BEGIN:DAYLIGHT
TZOFFSETFROM:+0000
TZOFFSETTO:+0100
TZNAME:BST
DTSTART:20160327T010000
END:DAYLIGHT
BEGIN:STANDARD
TZOFFSETFROM:+0100
TZOFFSETTO:+0000
TZNAME:GMT
DTSTART:20161030T010000
END:STANDARD
BEGIN:DAYLIGHT
TZOFFSETFROM:+0000
TZOFFSETTO:+0100
TZNAME:BST
DTSTART:20170326T010000
END:DAYLIGHT
BEGIN:STANDARD
TZOFFSETFROM:+0100
TZOFFSETTO:+0000
TZNAME:GMT
DTSTART:20171029T010000
END:STANDARD
BEGIN:DAYLIGHT
TZOFFSETFROM:+0000
TZOFFSETTO:+0100
TZNAME:BST
DTSTART:20180325T010000
END:DAYLIGHT
BEGIN:STANDARD
TZOFFSETFROM:+0100
TZOFFSETTO:+0000
TZNAME:GMT
DTSTART:20181028T010000
END:STANDARD
END:VTIMEZONE
BEGIN:VEVENT
DTSTART;TZID=Europe/London:20170524T210000
DTEND;TZID=Europe/London:20170525T003000
DTSTAMP:20260421T034947
CREATED:20170512T115412Z
LAST-MODIFIED:20170512T115412Z
UID:1497-1495659600-1495672200@supersonic-club.fr
SUMMARY:Yung • Plastic Man • Death Canyons // Supersonic - Free
DESCRIPTION:Le Supersonic présente… La soirée #garage avec Yung\, Plastic Man et Death Canyons. \n \n→ YUNG\n(Garage – Fat Possum Records / Tough Love Records – Danemark) \nA la tête d’un son indie-garage teinté de froideur scandinave\, YUNG pourrait être le cousin danois de Ty Segall et Jay Reatard : une esthétique sauvage et noise\, avec une larme de tendresse et de mélancolie. Dirigé par Mikkel Holm\, le groupe vient d’Aarhus\, seconde ville du Danemark et port industriel couleur poussière. A travers leur EP « These Thoughts Are Mandatory Chores »\, ils se hissent en ambassadeurs de la scène underground danoise\, qui jouit actuellement d’un dynamisme sans bornes. Une musique impatiente et rapeuse\, transpirante de rage et de vivacité. – Balades Sonores \n► Liker : https://www.facebook.com/yungbandstuff\n► Ecouter : https://yungband.bandcamp.com/\n► Regarder : https://www.youtube.com/watch?v=JeCyhusUrCI \n→ PLASTIC MAN\n(Acid-Pop Garage – Black Candy Records – Italie) \nPlastic Man est un groupe originaire de Florence (Italie) formé en 2012. Leur son est influencé par la fin des années 60s ce qui donne à leur musique une saveur néo-psychédélique et un côté rétro. Si vous aimez le rock progressif\, le garage punk et le psyché\, cette date est faite pour vous! \n► Liker: https://www.facebook.com/plasticmanband/?fref=ts\n► Ecouter: https://plasticmanband.bandcamp.com/\n► Regarder: https://www.youtube.com/watch?v=OngQgq30Xn8 \n→ DEATH CANYONS\n(Garage punk – La Pochette Surprise Records – Allemagne) \nRaw Journey présente Death Canyons\, un groupe allemand de Garage punk formé l’année dernière à Hambourg.\nLeur son est influencé par des groupes tels que Demons Claws\, Reatards\, Oblivians\, The Perverts…\n« Lo-fi in their production and raw sound in their perforated pockets. Too fast for Valium and too slow for cocaine! » \n► Liker : www.facebook.com/deathcanyons\n► Ecouter: https://deathcanyons.bandcamp.com/ \nTarifs : Gratuit
URL:http://supersonic-club.fr/event/yung-%e2%80%a2-plastic-man-%e2%80%a2-death-canyons-supersonic-free/
LOCATION:SUPERSONIC\, 9 Rue Biscornet\, Paris\, 75012\, France
CATEGORIES:Concert,Death Canyons,Plastic Man,Pop / Rock / Folk,Yung
ATTACH;FMTTYPE=image/jpeg:http://supersonic-club.fr/wp-content/uploads/2017/05/namethumb_w600px_img_event_2056d78d-a33f-4c80-820a-6180f83aa312.jpg
END:VEVENT
END:VCALENDAR