BEGIN:VCALENDAR
VERSION:2.0
PRODID:-//Supersonic - ECPv6.15.20//NONSGML v1.0//EN
CALSCALE:GREGORIAN
METHOD:PUBLISH
X-WR-CALNAME:Supersonic
X-ORIGINAL-URL:http://supersonic-club.fr
X-WR-CALDESC:Évènements pour Supersonic
REFRESH-INTERVAL;VALUE=DURATION:PT1H
X-Robots-Tag:noindex
X-PUBLISHED-TTL:PT1H
BEGIN:VTIMEZONE
TZID:Europe/London
BEGIN:DAYLIGHT
TZOFFSETFROM:+0000
TZOFFSETTO:+0100
TZNAME:BST
DTSTART:20230326T010000
END:DAYLIGHT
BEGIN:STANDARD
TZOFFSETFROM:+0100
TZOFFSETTO:+0000
TZNAME:GMT
DTSTART:20231029T010000
END:STANDARD
BEGIN:DAYLIGHT
TZOFFSETFROM:+0000
TZOFFSETTO:+0100
TZNAME:BST
DTSTART:20240331T010000
END:DAYLIGHT
BEGIN:STANDARD
TZOFFSETFROM:+0100
TZOFFSETTO:+0000
TZNAME:GMT
DTSTART:20241027T010000
END:STANDARD
BEGIN:DAYLIGHT
TZOFFSETFROM:+0000
TZOFFSETTO:+0100
TZNAME:BST
DTSTART:20250330T010000
END:DAYLIGHT
BEGIN:STANDARD
TZOFFSETFROM:+0100
TZOFFSETTO:+0000
TZNAME:GMT
DTSTART:20251026T010000
END:STANDARD
END:VTIMEZONE
BEGIN:VEVENT
DTSTART;TZID=Europe/London:20240927T190000
DTEND;TZID=Europe/London:20240927T231000
DTSTAMP:20260419T145930
CREATED:20240802T142126Z
LAST-MODIFIED:20240909T134543Z
UID:14346-1727463600-1727478600@supersonic-club.fr
SUMMARY:Mould • Pivots • Cracked Lime / Supersonic (free entry)
DESCRIPTION:Cette soirée plaira aux fans de… Yard Act\, Black Country New Road & Wilco \n \nMOULD (22h30)\n(Alt rock – Bristol\, UK)\nMOULD est un train de marchandises composé de trois hommes qui prend d’assaut la ville de Bristol\, au Royaume-Uni. Il est composé de Joe Sherrin\, Kane Eagle et James Luxton. Avec l’aide du producteur Jon McMullen (Wet Leg\, Michael Kiwanuka)\, ils semblent avoir créé une virée musicale exaltante et déséquilibrée.\nhttps://open.spotify.com/…/artist/4YKVTOc7KjZfuAfvaCHKqo\nhttps://www.youtube.com/watch?v=xvAkNtktav8 \nPIVOTS (21h30)\n(Post punk – Ristband – Paris/Londres\, FR/UK)\nPivots est un power trio issu de Londres et Paris qui fusionne puissance post-punk et envolées shoegaze. Inspiré par New Order\, Public Image Ltd et Working Men’s Club\, Pivots a forgé un mélange captivant d’énergie chaotique et d’élégance raffinée.\nAprès la sortie leur premier single “Residues” en mars 2024\, ils ont été à l’affiche du festival iconique SXSW à Austin (Texas) le 11 mars\, puis ont donné leur premier concert anglais le 29 mars à la Waiting Room de Londres.\nLe concert au Supersonic du 27 septembre sera l’occasion de fêter la sortie de leur tout nouveau single « She wears it well ».\nLes 3 influences : New Order\, Fontaines DC\, Working’s Men Club\nhttps://soundcloud.com/pivots-band\nhttps://www.youtube.com/@PivotsBand \nCRACKED LIME (20h30)\n(Electro post punk – France)\nInspirations punk sud-londoniennes\, experimental\, syntetique\, narratif.\nLes 3 influences : Megalashhh\, Nightbus\, The ooz\nhttps://open.spotify.com/track/676VH2kKGKtJQ8tnsxhki5…\n———————————\nVendredi 27 Septembre 2024\nEntrée gratuite\n• Ouverture des portes à 19h00\n• Happy Hour de 19h à 20h\n• Si vous êtes témoin ou victime d’une agression\, vous pouvez alerter le personnel du bar ou si vous préférez\, vous pouvez nous écrire à cette adresse: communication@supersonic-paris.fr\n———————————\nSUPERSONIC\n9 rue Biscornet\, 75012 Paris\nMétro Bastille (sortie rue de lyon) \nTarifs : Gratuit
URL:http://supersonic-club.fr/event/moreish-idols-pivots-cracked-lime-supersonic-free-entry/
LOCATION:SUPERSONIC\, 9 Rue Biscornet\, Paris\, 75012\, France
CATEGORIES:Concert,Mould,Pivots,Pop / Rock / Folk,Sowprog,SUPERSONIC,Supersonic Paris
ATTACH;FMTTYPE=image/jpeg:http://supersonic-club.fr/wp-content/uploads/2024/08/namethumb_w600px_img_event_1d890877-1cfa-4f27-b3e5-4980421fdade-1.jpg
END:VEVENT
END:VCALENDAR