BEGIN:VCALENDAR
VERSION:2.0
PRODID:-//Supersonic - ECPv6.15.20//NONSGML v1.0//EN
CALSCALE:GREGORIAN
METHOD:PUBLISH
X-ORIGINAL-URL:http://supersonic-club.fr
X-WR-CALDESC:Évènements pour Supersonic
REFRESH-INTERVAL;VALUE=DURATION:PT1H
X-Robots-Tag:noindex
X-PUBLISHED-TTL:PT1H
BEGIN:VTIMEZONE
TZID:Europe/London
BEGIN:DAYLIGHT
TZOFFSETFROM:+0000
TZOFFSETTO:+0100
TZNAME:BST
DTSTART:20190331T010000
END:DAYLIGHT
BEGIN:STANDARD
TZOFFSETFROM:+0100
TZOFFSETTO:+0000
TZNAME:GMT
DTSTART:20191027T010000
END:STANDARD
BEGIN:DAYLIGHT
TZOFFSETFROM:+0000
TZOFFSETTO:+0100
TZNAME:BST
DTSTART:20200329T010000
END:DAYLIGHT
BEGIN:STANDARD
TZOFFSETFROM:+0100
TZOFFSETTO:+0000
TZNAME:GMT
DTSTART:20201025T010000
END:STANDARD
BEGIN:DAYLIGHT
TZOFFSETFROM:+0000
TZOFFSETTO:+0100
TZNAME:BST
DTSTART:20210328T010000
END:DAYLIGHT
BEGIN:STANDARD
TZOFFSETFROM:+0100
TZOFFSETTO:+0000
TZNAME:GMT
DTSTART:20211031T010000
END:STANDARD
END:VTIMEZONE
BEGIN:VEVENT
DTSTART;TZID=Europe/London:20200214T183000
DTEND;TZID=Europe/London:20200214T200000
DTSTAMP:20260421T032913
CREATED:20200213T161721Z
LAST-MODIFIED:20200213T161721Z
UID:5880-1581705000-1581710400@supersonic-club.fr
SUMMARY:PEREZ en showcase au Supersonic Records
DESCRIPTION:Showcase n°2 du Supersonic Records avec…. \nPEREZ pour la sortie de son nouvel album SUREX !\nRencontre dédicace et showcase inédit\, piano/voix\, aux côtés de Joseph Schiano Di Lombo. \n \nSuite à la chanson française post-80’s de « Saltos »\, et aux tanières métalliques de  « Cavernes » qui puisaient leur énergie radicale dans la nuit des clubs berlinois\, PEREZ redistribue aujourd’hui les cartes sur la route.  Un ruban d’asphalte le long des 60’s et des 70’s\, courant jusqu’à nos jours. On y voit défiler  à l’état gazeux les mirages de Sun Ra\, Robert Wyatt\, Laurie Anderson\, ou même Booba\, avec pour carburants la pop psyché\, le free jazz\,  la house et la trap\, faisant fi des signalisations. \n C’est quand?\nVendredi 14 Février 2020 à 18h30\nLe shop est ouvert de 14h à 20h ! \n C’est où?\nAu Supersonic Records\, le disquaire du Supersonic qui est juste à côté au 9 rue Biscornet 75012 Paris (Métro Bastille). \n D’autres infos ?\nEvidemment l’entrée est gratuite et tu pourras acheter des vinyles. \nTarifs : Gratuit
URL:http://supersonic-club.fr/event/perez-en-showcase-au-supersonic-records/
LOCATION:Supersonic Records\, 9 Rue Biscornet\, Paris\, 75012\, France
CATEGORIES:Concert,PEREZ,Pop / Rock / Folk,Sowprog
ATTACH;FMTTYPE=image/jpeg:http://supersonic-club.fr/wp-content/uploads/2020/02/namethumb_w600px_img_event_5e2f6d67-49d9-418e-a946-de78fa71ccb1.jpg
END:VEVENT
END:VCALENDAR