BEGIN:VCALENDAR
VERSION:2.0
PRODID:-//Supersonic - ECPv6.15.20//NONSGML v1.0//EN
CALSCALE:GREGORIAN
METHOD:PUBLISH
X-ORIGINAL-URL:http://supersonic-club.fr
X-WR-CALDESC:Évènements pour Supersonic
REFRESH-INTERVAL;VALUE=DURATION:PT1H
X-Robots-Tag:noindex
X-PUBLISHED-TTL:PT1H
BEGIN:VTIMEZONE
TZID:Europe/London
BEGIN:DAYLIGHT
TZOFFSETFROM:+0000
TZOFFSETTO:+0100
TZNAME:BST
DTSTART:20190331T010000
END:DAYLIGHT
BEGIN:STANDARD
TZOFFSETFROM:+0100
TZOFFSETTO:+0000
TZNAME:GMT
DTSTART:20191027T010000
END:STANDARD
BEGIN:DAYLIGHT
TZOFFSETFROM:+0000
TZOFFSETTO:+0100
TZNAME:BST
DTSTART:20200329T010000
END:DAYLIGHT
BEGIN:STANDARD
TZOFFSETFROM:+0100
TZOFFSETTO:+0000
TZNAME:GMT
DTSTART:20201025T010000
END:STANDARD
BEGIN:DAYLIGHT
TZOFFSETFROM:+0000
TZOFFSETTO:+0100
TZNAME:BST
DTSTART:20210328T010000
END:DAYLIGHT
BEGIN:STANDARD
TZOFFSETFROM:+0100
TZOFFSETTO:+0000
TZNAME:GMT
DTSTART:20211031T010000
END:STANDARD
END:VTIMEZONE
BEGIN:VEVENT
DTSTART;TZID=Europe/London:20200221T230000
DTEND;TZID=Europe/London:20200222T060000
DTSTAMP:20260423T204319
CREATED:20200102T143553Z
LAST-MODIFIED:20200102T143553Z
UID:5505-1582326000-1582351200@supersonic-club.fr
SUMMARY:Liam Gallagher Aftershow / Paul Gallagher DJ SET / Supersonic
DESCRIPTION:Le Supersonic c’est lieu incontournable du rock à Paris! Trois concerts gratuits tous les soirs\, des nuits pop rock du jeudi au samedi et ce soir on vous présente : \n \n▬▬▬ LIAM GALLAGHER AFTERSHOW ▬▬▬ \nA l’occasion du concert de Liam Gallagher au Zénith le 21 février 2020\, on invite pour l’aftershow le troisième frère de la bande pour un DJ SET #indierock #rock #british!  \n PAUL GALLAGHER DJ SET  \n▬▬▬ INFOS PRATIQUES ▬▬▬▬▬▬▬▬ \nVENDREDI 21 FEVRIER de 23h à 6h\n5€ l’entrée\nOuverture de la billetterie à 23h\nHot Dog au bar\nVestiaire de 2 à 4€ (cash only) \nAvec le billet DICE\, on te garantit une entrée coupe-file toute la nuit! L’évent est déjà sur liste d’attente ? Pas de panique\, seuls les 50 coupes-files sont épuisés. Il reste de nombreuses places à acheter directement au Supersonic. \nL’entrée au Supersonic est interdite aux mineurs. \n▬▬▬▬▬▬▬▬▬▬▬▬▬▬▬▬▬▬▬▬ \nSUPERSONIC\n9 rue Biscornet\, 75012 Paris\nMétro Bastille (sortie rue de lyon)\nhttp://supersonic-club.fr/\nObjets Perdus: https://forms.gle/rZxcMgGD5G82JnMQ9\nNewsletter du Supersonic: http://eepurl.com/gmxPzb \nTarifs : SUR PLACE : 5€
URL:http://supersonic-club.fr/event/liam-gallagher-aftershow-paul-gallagher-dj-set-supersonic/
CATEGORIES:Clubbing,Paul Gallagher DJ SET,Pop / Rock / Folk,Sowprog
ATTACH;FMTTYPE=image/jpeg:http://supersonic-club.fr/wp-content/uploads/2020/01/namethumb_w600px_img_event_df0964f2-24da-4088-9d84-bb41a1dc1777.jpg
END:VEVENT
END:VCALENDAR